Workbook
Name _Hlk52200068: 'ISS-FACULTY'!$A$8
Name _Hlk70067385: 'ISS-FACULTY'!$A$12
Name _Hlk70067443: 'ISS-FACULTY'!#REF!
Name _Hlk70607563: 'ISS-FACULTY'!#REF!
Name _Hlk70998323: 'ISS-FACULTY'!#REF!
Name _Hlk71030296: 'ISS-FACULTY'!#REF!
Name _Hlk71043400: 'ISS-FACULTY'!#REF!
Name _Hlk71049332: 'ISS-FACULTY'!#REF!
Name _Hlk71055540: 'ISS-FACULTY'!#REF!
Name _Hlk71069142: 'ISS-FACULTY'!#REF!
Name _Hlk71538176: 'ISS-FACULTY'!#REF!
Name _Hlk83620185: 'ISS-FACULTY'!#REF!
Name _Hlk84255927: 'ISS-FACULTY'!#REF!

Sheet Request Form
B2: SUC FACULTY POSITION RECLASSIFICATION | AA2: SELECT OPTION | AC2: SELECT OPTION
B3: REQUEST FORM | AA3: INSTRUCTOR I | AC3: NEW APPOINTMENT
AA4: INSTRUCTOR II | AC4: INSTITUTIONAL PROMOTION
B5: PERSONAL INFORMATION | AA5: INSTRUCTOR III | AC5: NBC 461
B6: LAST NAME: | AA6: ASSISTANT PROFESSOR I
B7: FIRST NAME, EXT.: | AA7: ASSISTANT PROFESSOR II
B8: MIDDLE NAME: | AA8: ASSISTANT PROFESSOR III
AA9: ASSISTANT PROFESSOR IV
B10: HIGHEST EDUCATIONAL ATTAINMENT | AA10: ASSOCIATE PROFESSOR I
B11: NAME OF DEGREE: | AA11: ASSOCIATE PROFESSOR II
B12: NAME OF HEI: | AA12: ASSOCIATE PROFESSOR III
B13: YEAR GRADUATED: | AA13: ASSOCIATE PROFESSOR IV
AA14: ASSOCIATE PROFESSOR V
B15: CURRENT EMPLOYMENT STATUS | AA15: PROFESSOR I
B16: CURRENT FACULTY RANK: | D16: SELECT OPTION | AA16: PROFESSOR II
B17: MODE OF APPOINTMENT: | D17: SELECT OPTION | AA17: PROFESSOR III
B18: DATE OF APPOINTMENT: | AA18: PROFESSOR IV
B19: NAME OF SUC: | AA19: PROFESSOR V
B20: CAMPUS: | AA20: PROFESSOR VI
B21: ADDRESS: | AA21: COLLEGE PROFESSOR
AA22: UNIVERSITY PROFESSOR
B23: Attached to this request form are my self-accomplished Individual Summary Sheet (ISS) and its attached forms; checklist of evidence submitted; and photocopy of the sets of evidence based on my ISS. The electronic copies of the ISS and the evidence are available in my google drive that I will willingly share with the Evaluation Committees for the validation of the information submitted.
B25: I attest that all information provided in this request for position reclassification are true, accurate and complete. I understand that any falsification of these documents may lead to my disqualification from position reclassification for this evaluation cycle.
B29: <Signature and Printed Name of Faculty>
B30: <date signed>

Sheet Form1_A
B1: KRA I - INSTRUCTION | P1: =B1 -> KRA I - INSTRUCTION | AB1: SELECT OPTION
AB2: NOT APPLICABLE
B3: LAST NAME: | E3: ='Request Form'!C6 -> 0 | P3: =B3 -> LAST NAME: | Q3: =E3 -> 0 | AB3: ON APPROVED STUDY LEAVE
B4: FIRST NAME, EXT.: | E4: ='Request Form'!C7 -> 0 | P4: =B4 -> FIRST NAME, EXT.: | Q4: =E4 -> 0 | AB4: ON APPROVED SABBATICAL LEAVE
B5: MIDDLE NAME: | E5: ='Request Form'!C8 -> 0 | P5: =B5 -> MIDDLE NAME: | Q5: =E5 -> 0 | AB5: ON APPROVED MATERNITY LEAVE
B7: CRITERION A - TEACHING EFFECTIVENESS (MAX = 60 POINTS) | M7: =B7 -> CRITERION A - TEACHING EFFECTIVENESS (MAX = 60 POINTS) | P7: =B7 -> CRITERION A - TEACHING EFFECTIVENESS (MAX = 60 POINTS)
B9: 1. | C9: FACULTY PERFORMANCE. Enter average rating received by the faculty/semester. For newly appointed faculty from private HEI, LUCs, TESDA/DepEd schools who still decided to proceed with the evaluation, put "0" in semesters with no student and supervisor's evaluation. | AB9: ACCEPTABLE
AB10: NOT ACCEPTABLE
B12: 1.1 | C12: STUDENT EVALUATION (60%) | M12: =C12 -> STUDENT EVALUATION (60%) | P12: =C12 -> STUDENT EVALUATION (60%)
B14: NUMBER OF SEMESTERS THAT WILL BE DEDUCTED FROM THE DIVISOR, IF APPLICABLE → | K14: 0 | AB14: 0
AB15: 1
B16: REASON FOR REDUCING THE DIVISOR | H16: SELECT OPTION | J16: <Link to Evidence from Google Drive> | AB16: 2
AB17: 3
C18: Evaluation Period | F18: AVERAGE STUDENT EVALUATION RATING PER SEMESTER | AB18: 4
F19: 1st SEMESTER | H19: Link to Evidence from Google Drive | I19: 2nd SEMESTER | K19: Link to Evidence from Google Drive | M19: REMARKS 1st Semester | N19: REMARKS 2nd Semester | P19: 1st SEM Rating as Validated | Q19: Ratings | R19: Explanation for Non-Acceptance | S19: 2nd SEM Rating as Validated | T19: Ratings | U19: Explanation for Non-Acceptance | AB19: 5
B20: a) | C20: AY 2019-2020 | F20: 0 | I20: 0 | P20: ACCEPTABLE | Q20: =IF(P20="Acceptable",F20,"") -> 0 | S20: ACCEPTABLE | T20: =IF(S20="Acceptable",I20,"") -> 0 | AB20: 6
B21: b) | C21: AY 2020-2021 | F21: 0 | I21: 0 | P21: ACCEPTABLE | Q21: =IF(P21="Acceptable",F21,"") -> 0 | S21: ACCEPTABLE | T21: =IF(S21="Acceptable",I21,"") -> 0 | AB21: 7
B22: c) | C22: AY 2021-2022 | F22: 0 | I22: 0 | P22: ACCEPTABLE | Q22: =IF(P22="Acceptable",F22,"") -> 0 | S22: ACCEPTABLE | T22: =IF(S22="Acceptable",I22,"") -> 0 | AB22: 8
B23: d) | C23: AY 2022-2023 | F23: 0 | I23: 0 | P23: ACCEPTABLE | Q23: =IF(P23="Acceptable",F23,"") -> 0 | S23: ACCEPTABLE | T23: =IF(S23="Acceptable",I23,"") -> 0
B25: OVERALL AVERAGE RATING | K25: =IF(H16="NOT APPLICABLE",AVERAGE(F20:G23,I20:J23),0+IF(H16="ON APPROVED STUDY LEAVE",SUM(F20:G23,I20:J23)/(8-K14),0)+IF(H16="ON APPROVED SABBATICAL LEAVE",SUM(F20:G23,I20:J23)/(8-K14),0+IF(H16="ON APPROVED MATERNITY LEAVE",SUM(F20:G23,I20:J23)/(8-K14),0)++IF(H16="SUSPENSION OF EVALUATION",SUM(F20:G23,I20:J23)/(8-K14),0))) -> 0 | P25: VALIDATED RATING | R25: =IF(H16="NOT APPLICABLE",AVERAGE(Q20:Q23,T20:T23),0+IF(H16="ON APPROVED STUDY LEAVE",SUM(Q20:Q23,T20:T23)/(8-K14),0)+IF(H16="ON APPROVED SABBATICAL LEAVE",SUM(Q20:Q23,T20:T23)/(8-K14),0+IF(H16="ON APPROVED MATERNITY LEAVE",SUM(Q20:Q23,T20:T23)/(8-K14),0)++IF(H16="SUSPENSION OF EVALUATION",SUM(Q20:Q23,T20:T23)/(8-K14),0))) -> 0 | S25: VALIDATED SCORE | U25: =R25*0.36 -> 0
B26: FACULTY SCORE | K26: =K25*0.36 -> 0
B28: 1.2 | C28: SUPERVISOR'S EVALUATION (40%) | M28: =C28 -> SUPERVISOR'S EVALUATION (40%)
B30: NUMBER OF SEMESTERS THAT WILL BE DEDUCTED FROM THE DIVISOR, IF APPLICABLE → | K30: 0
B32: REASON FOR REDUCING THE DIVISOR | H32: NOT APPLICABLE | J32: <Link to Evidence from Google Drive> | P32: =C28 -> SUPERVISOR'S EVALUATION (40%)
B34: Evaluation Period | F34: SUPERVISOR'S RATING PER SEMESTER | AB34: SELECT OPTION
F35: 1st SEMESTER | H35: Link to Evidence from Google Drive | I35: 2nd SEMESTER | K35: Link to Evidence from Google Drive | M35: REMARKS 1st Semester | N35: REMARKS 2nd Semester | P35: 1st SEM Rating as Validated | Q35: Ratings | R35: Explanation for Non-Acceptance | S35: 2nd SEM Rating as Validated | T35: Ratings | U35: Explanation for Non-Acceptance | AB35: NOT APPLICABLE
B36: a) | C36: AY 2019-2020 | F36: 0 | I36: 0 | P36: ACCEPTABLE | Q36: =IF(P36="Acceptable",F36,"") -> 0 | S36: ACCEPTABLE | T36: =IF(S36="Acceptable",I36,"") -> 0 | AB36: ON APPROVED STUDY LEAVE
B37: b) | C37: AY 2020-2021 | F37: 0 | I37: 0 | P37: ACCEPTABLE | Q37: =IF(P37="Acceptable",F37,"") -> 0 | S37: ACCEPTABLE | T37: =IF(S37="Acceptable",I37,"") -> 0 | AB37: ON APPROVED SABBATICAL LEAVE
B38: c) | C38: AY 2021-2022 | F38: 0 | I38: 0 | P38: ACCEPTABLE | Q38: =IF(P38="Acceptable",F38,"") -> 0 | S38: ACCEPTABLE | T38: =IF(S38="Acceptable",I38,"") -> 0 | AB38: ON APPROVED MATERNITY LEAVE
B39: d) | C39: AY 2022-2023 | F39: 0 | I39: 0 | P39: ACCEPTABLE | Q39: =IF(P39="Acceptable",F39,"") -> 0 | S39: ACCEPTABLE | T39: =IF(S39="Acceptable",I39,"") -> 0
B41: OVERALL AVERAGE RATING | K41: =IF(H32="NOT APPLICABLE",AVERAGE(F36:G39,I36:J39),0+IF(H32="ON APPROVED STUDY LEAVE",SUM(F36:G39,I36:J39)/(8-K30),0)+IF(H32="ON APPROVED SABBATICAL LEAVE",SUM(F36:G39,I36:J39)/(8-K30),0+IF(H32="ON APPROVED MATERNITY LEAVE",SUM(F36:G39,I36:J39)/(8-K30),0))) -> 0 | P41: VALIDATED RATING | R41: =IF(H32="NOT APPLICABLE",AVERAGE(Q36:Q39,T36:T39),0+IF(H32="ON APPROVED STUDY LEAVE",SUM(Q36:Q39,T36:T39)/(8-K30),0)+IF(H32="ON APPROVED SABBATICAL LEAVE",SUM(Q36:Q39,T36:T39)/(8-K30),0+IF(H32="ON APPROVED MATERNITY LEAVE",SUM(Q36:Q39,T36:T39)/(8-K30),0))) -> 0 | S41: VALIDATED SCORE | U41: =R41*0.24 -> 0
B42: FACULTY SCORE | K42: =K41*0.24 -> 0
C44: Prepared by: | I44: Evaluated by: | P44: Validated by:
C47: Name of Faculty and Signature | I47: Name of IEC Member and Signature | P47: Name of REC Member and Signature
C48: Date: | I48: Date: | P48: Date:
I51: Name of IEC Chair and Signature | P51: Name of REC Chair and Signature
I52: Date: | P52: Date:

Sheet Form1_B&C
A1: KRA I - INSTRUCTION | O1: =A1 -> KRA I - INSTRUCTION | AA1: SELECT OPTION
AA2: Textbook
A3: ='Request Form'!B6 -> LAST NAME: | C3: =Form1_A!E3 -> 0 | O3: =A3 -> LAST NAME: | P3: =C3 -> 0 | AA3: Textbook Chapter
A4: ='Request Form'!B7 -> FIRST NAME, EXT.: | C4: =Form1_A!E4 -> 0 | O4: =A4 -> FIRST NAME, EXT.: | P4: =C4 -> 0 | AA4: Manual/Module
A5: ='Request Form'!B8 -> MIDDLE NAME: | C5: =Form1_A!E5 -> 0 | O5: =A5 -> MIDDLE NAME: | P5: =C5 -> 0 | AA5: Multimedia Teaching Material
AA6: Testing Material
A7: CRITERION B - CURRICULUM AND INSTRUCTIONAL MATERIALS DEVELOPMENT (MAX = 30 POINTS) | M7: =A7 -> CRITERION B - CURRICULUM AND INSTRUCTIONAL MATERIALS DEVELOPMENT (MAX = 30 POINTS) | O7: =A7 -> CRITERION B - CURRICULUM AND INSTRUCTIONAL MATERIALS DEVELOPMENT (MAX = 30 POINTS)
AA8: Legend:
A9: 1. | B9: FOR EVERY INSTRUCTIONAL MATERIAL DEVELOPED AND APPROVED FOR USE | M9: =B9 -> FOR EVERY INSTRUCTIONAL MATERIAL DEVELOPED AND APPROVED FOR USE | O9: =B9 -> FOR EVERY INSTRUCTIONAL MATERIAL DEVELOPED AND APPROVED FOR USE | AA9: ACCEPTABLE
A10: 1.1 | B10: SOLE AUTHORSHIP | M10: =B10 -> SOLE AUTHORSHIP | O10: =B10 -> SOLE AUTHORSHIP | AA10: NOT ACCEPTABLE
A11: No. | B11: Title of Instructional Material | D11: Type of Instructional Material | E11: Reviewer or Its Equivalent | F11: Publisher/ Repository | G11: Date Published (mm/dd/yyyy) | H11: Date Approved for Use (mm/dd/yyyy) | I11: Faculty Score | J11: Link to Evidence from Google Drive | M11: REMARKS | O11: Validation of Documents | P11: Validated Score | Q11: Explanation for Non-Acceptance
A12: 1 | D12: SELECT OPTION | I12: =IF(ISBLANK(B12),0,0+IF(ISBLANK(H12),0,0+IF(ISBLANK(D12),0,0+IF(D12="Textbook",30,0+IF(D12="Textbook Chapter",10,0+IF(D12="Manual/Module",16,0+IF(D12="Multimedia Teaching Material",16,0+IF(D12="Testing Material",10,0)))))))) -> 0 | O12: ACCEPTABLE | P12: =IF(O12="Acceptable",I12,0) -> 0
A13: 2 | D13: SELECT OPTION | I13: =IF(ISBLANK(B13),0,0+IF(ISBLANK(H13),0,0+IF(ISBLANK(D13),0,0+IF(D13="Textbook",30,0+IF(D13="Textbook Chapter",10,0+IF(D13="Manual/Module",16,0+IF(D13="Multimedia Teaching Material",16,0+IF(D13="Testing Material",10,0)))))))) -> 0 | O13: ACCEPTABLE | P13: =IF(O13="Acceptable",I13,0) -> 0
A14: 3 | D14: Manual/Module | I14: =IF(ISBLANK(B14),0,0+IF(ISBLANK(H14),0,0+IF(ISBLANK(D14),0,0+IF(D14="Textbook",30,0+IF(D14="Textbook Chapter",10,0+IF(D14="Manual/Module",16,0+IF(D14="Multimedia Teaching Material",16,0+IF(D14="Testing Material",10,0)))))))) -> 0 | O14: ACCEPTABLE | P14: =IF(O14="Acceptable",I14,0) -> 0
A15: 4 | D15: SELECT OPTION | I15: =IF(ISBLANK(B15),0,0+IF(ISBLANK(H15),0,0+IF(ISBLANK(D15),0,0+IF(D15="Textbook",30,0+IF(D15="Textbook Chapter",10,0+IF(D15="Manual/Module",16,0+IF(D15="Multimedia Teaching Material",16,0+IF(D15="Testing Material",10,0)))))))) -> 0 | O15: ACCEPTABLE | P15: =IF(O15="Acceptable",I15,0) -> 0
A16: 5 | D16: SELECT OPTION | I16: =IF(ISBLANK(B16),0,0+IF(ISBLANK(H16),0,0+IF(ISBLANK(D16),0,0+IF(D16="Textbook",30,0+IF(D16="Textbook Chapter",10,0+IF(D16="Manual/Module",16,0+IF(D16="Multimedia Teaching Material",16,0+IF(D16="Testing Material",10,0)))))))) -> 0 | O16: ACCEPTABLE | P16: =IF(O16="Acceptable",I16,0) -> 0
A17: 6 | D17: SELECT OPTION | I17: =IF(ISBLANK(B17),0,0+IF(ISBLANK(H17),0,0+IF(ISBLANK(D17),0,0+IF(D17="Textbook",30,0+IF(D17="Textbook Chapter",10,0+IF(D17="Manual/Module",16,0+IF(D17="Multimedia Teaching Material",16,0+IF(D17="Testing Material",10,0)))))))) -> 0 | O17: ACCEPTABLE | P17: =IF(O17="Acceptable",I17,0) -> 0
A18: 7 | D18: SELECT OPTION | I18: =IF(ISBLANK(B18),0,0+IF(ISBLANK(H18),0,0+IF(ISBLANK(D18),0,0+IF(D18="Textbook",30,0+IF(D18="Textbook Chapter",10,0+IF(D18="Manual/Module",16,0+IF(D18="Multimedia Teaching Material",16,0+IF(D18="Testing Material",10,0)))))))) -> 0 | O18: ACCEPTABLE | P18: =IF(O18="Acceptable",I18,0) -> 0
A19: 8 | D19: SELECT OPTION | I19: =IF(ISBLANK(B19),0,0+IF(ISBLANK(H19),0,0+IF(ISBLANK(D19),0,0+IF(D19="Textbook",30,0+IF(D19="Textbook Chapter",10,0+IF(D19="Manual/Module",16,0+IF(D19="Multimedia Teaching Material",16,0+IF(D19="Testing Material",10,0)))))))) -> 0 | O19: ACCEPTABLE | P19: =IF(O19="Acceptable",I19,0) -> 0
A20: 9 | D20: SELECT OPTION | I20: =IF(ISBLANK(B20),0,0+IF(ISBLANK(H20),0,0+IF(ISBLANK(D20),0,0+IF(D20="Textbook",30,0+IF(D20="Textbook Chapter",10,0+IF(D20="Manual/Module",16,0+IF(D20="Multimedia Teaching Material",16,0+IF(D20="Testing Material",10,0)))))))) -> 0 | O20: ACCEPTABLE | P20: =IF(O20="Acceptable",I20,0) -> 0
A21: 10 | D21: SELECT OPTION | I21: =IF(ISBLANK(B21),0,0+IF(ISBLANK(H21),0,0+IF(ISBLANK(D21),0,0+IF(D21="Textbook",30,0+IF(D21="Textbook Chapter",10,0+IF(D21="Manual/Module",16,0+IF(D21="Multimedia Teaching Material",16,0+IF(D21="Testing Material",10,0)))))))) -> 0 | O21: ACCEPTABLE | P21: =IF(O21="Acceptable",I21,0) -> 0
A22: 11 | D22: SELECT OPTION | I22: =IF(ISBLANK(B22),0,0+IF(ISBLANK(H22),0,0+IF(ISBLANK(D22),0,0+IF(D22="Textbook",30,0+IF(D22="Textbook Chapter",10,0+IF(D22="Manual/Module",16,0+IF(D22="Multimedia Teaching Material",16,0+IF(D22="Testing Material",10,0)))))))) -> 0 | O22: ACCEPTABLE | P22: =IF(O22="Acceptable",I22,0) -> 0
A23: 12 | D23: SELECT OPTION | I23: =IF(ISBLANK(B23),0,0+IF(ISBLANK(H23),0,0+IF(ISBLANK(D23),0,0+IF(D23="Textbook",30,0+IF(D23="Textbook Chapter",10,0+IF(D23="Manual/Module",16,0+IF(D23="Multimedia Teaching Material",16,0+IF(D23="Testing Material",10,0)))))))) -> 0 | O23: ACCEPTABLE | P23: =IF(O23="Acceptable",I23,0) -> 0
... A26: 15 | D26: SELECT OPTION | I26: =IF(ISBLANK(B26),0,0+IF(ISBLANK(H26),0,0+IF(ISBLANK(D26),0,0+IF(D26="Textbook",30,0+IF(D26="Textbook Chapter",10,0+IF(D26="Manual/Module",16,0+IF(D26="Multimedia Teaching Material",16,0+IF(D26="Testing Material",10,0)))))))) -> 0 | O26: ACCEPTABLE | P26: =IF(O26="Acceptable",I26,0) -> 0
H27: TOTAL | I27: =SUM(I12:I26) -> 0 | P27: =SUM(P12:P26) -> 0
A29: 1.2 | B29: CO-AUTHORSHIP | M29: =B29 -> CO-AUTHORSHIP | O29: =B29 -> CO-AUTHORSHIP
A30: Note: Every IM with Multiple Authors should be Accompanied by a Certification using FORM I-B1a
A31: No. | B31: Title of IM | D31: Type of IM | E31: Reviewer or Its Equivalent | F31: Publisher/ Repository | G31: Date Published (mm/dd/yyyy) | H31: Date Approved for Use (mm/dd/yyyy) | I31: % Contribution (write in decimal form) | J31: Faculty Score | K31: Link to Evidence from Google Drive | M31: REMARKS | O31: Validation of Documents | P31: Validated % Contribution (specify new %, if applicable) | Q31: Validated Score | R31: Explanation for Non-Acceptance
A32: 1 | D32: SELECT OPTION | I32: 0 | J32: =(IF(ISBLANK(B32),0,0+IF(ISBLANK(H32),0,0+IF(ISBLANK(D32),0,0+IF(D32="Textbook",30,0+IF(D32="Textbook Chapter",10,0+IF(D32="Manual/Module",16,0+IF(D32="Multimedia Teaching Material",16,0+IF(D32="Testing Material",10,0)))))))))*I32 -> 0 | O32: ACCEPTABLE | P32: =IF(O32="Acceptable",I32,0) -> 0 | Q32: =(IF(ISBLANK(B32),0,0+IF(ISBLANK(H32),0,0+IF(ISBLANK(D32),0,0+IF(D32="Textbook",30,0+IF(D32="Textbook Chapter",10,0+IF(D32="Manual/Module",16,0+IF(D32="Multimedia Teaching Material",16,0+IF(D32="Testing Material",10,0)))))))))*P32 -> 0
A33: 2 | D33: SELECT OPTION | I33: 0 | J33: =(IF(ISBLANK(B33),0,0+IF(ISBLANK(H33),0,0+IF(ISBLANK(D33),0,0+IF(D33="Textbook",30,0+IF(D33="Textbook Chapter",10,0+IF(D33="Manual/Module",16,0+IF(D33="Multimedia Teaching Material",16,0+IF(D33="Testing Material",10,0)))))))))*I33 -> 0 | O33: ACCEPTABLE | P33: =IF(O33="Acceptable",I33,0) -> 0 | Q33: =(IF(ISBLANK(B33),0,0+IF(ISBLANK(H33),0,0+IF(ISBLANK(D33),0,0+IF(D33="Textbook",30,0+IF(D33="Textbook Chapter",10,0+IF(D33="Manual/Module",16,0+IF(D33="Multimedia Teaching Material",16,0+IF(D33="Testing Material",10,0)))))))))*P33 -> 0
A34: 3 | D34: SELECT OPTION | I34: 0 | J34: =(IF(ISBLANK(B34),0,0+IF(ISBLANK(H34),0,0+IF(ISBLANK(D34),0,0+IF(D34="Textbook",30,0+IF(D34="Textbook Chapter",10,0+IF(D34="Manual/Module",16,0+IF(D34="Multimedia Teaching Material",16,0+IF(D34="Testing Material",10,0)))))))))*I34 -> 0 | O34: ACCEPTABLE | P34: =IF(O34="Acceptable",I34,0) -> 0 | Q34: =(IF(ISBLANK(B34),0,0+IF(ISBLANK(H34),0,0+IF(ISBLANK(D34),0,0+IF(D34="Textbook",30,0+IF(D34="Textbook Chapter",10,0+IF(D34="Manual/Module",16,0+IF(D34="Multimedia Teaching Material",16,0+IF(D34="Testing Material",10,0)))))))))*P34 -> 0
A35: 4 | D35: SELECT OPTION | I35: 0 | J35: =(IF(ISBLANK(B35),0,0+IF(ISBLANK(H35),0,0+IF(ISBLANK(D35),0,0+IF(D35="Textbook",30,0+IF(D35="Textbook Chapter",10,0+IF(D35="Manual/Module",16,0+IF(D35="Multimedia Teaching Material",16,0+IF(D35="Testing Material",10,0)))))))))*I35 -> 0 | O35: ACCEPTABLE | P35: =IF(O35="Acceptable",I35,0) -> 0 | Q35: =(IF(ISBLANK(B35),0,0+IF(ISBLANK(H35),0,0+IF(ISBLANK(D35),0,0+IF(D35="Textbook",30,0+IF(D35="Textbook Chapter",10,0+IF(D35="Manual/Module",16,0+IF(D35="Multimedia Teaching Material",16,0+IF(D35="Testing Material",10,0)))))))))*P35 -> 0
A36: 5 | D36: SELECT OPTION | I36: 0 | J36: =(IF(ISBLANK(B36),0,0+IF(ISBLANK(H36),0,0+IF(ISBLANK(D36),0,0+IF(D36="Textbook",30,0+IF(D36="Textbook Chapter",10,0+IF(D36="Manual/Module",16,0+IF(D36="Multimedia Teaching Material",16,0+IF(D36="Testing Material",10,0)))))))))*I36 -> 0 | O36: ACCEPTABLE | P36: =IF(O36="Acceptable",I36,0) -> 0 | Q36: =(IF(ISBLANK(B36),0,0+IF(ISBLANK(H36),0,0+IF(ISBLANK(D36),0,0+IF(D36="Textbook",30,0+IF(D36="Textbook Chapter",10,0+IF(D36="Manual/Module",16,0+IF(D36="Multimedia Teaching Material",16,0+IF(D36="Testing Material",10,0)))))))))*P36 -> 0
A37: 6 | D37: SELECT OPTION | I37: 0 | J37: =(IF(ISBLANK(B37),0,0+IF(ISBLANK(H37),0,0+IF(ISBLANK(D37),0,0+IF(D37="Textbook",30,0+IF(D37="Textbook Chapter",10,0+IF(D37="Manual/Module",16,0+IF(D37="Multimedia Teaching Material",16,0+IF(D37="Testing Material",10,0)))))))))*I37 -> 0 | O37: ACCEPTABLE | P37: =IF(O37="Acceptable",I37,0) -> 0 | Q37: =(IF(ISBLANK(B37),0,0+IF(ISBLANK(H37),0,0+IF(ISBLANK(D37),0,0+IF(D37="Textbook",30,0+IF(D37="Textbook Chapter",10,0+IF(D37="Manual/Module",16,0+IF(D37="Multimedia Teaching Material",16,0+IF(D37="Testing Material",10,0)))))))))*P37 -> 0
A38: 7 | D38: SELECT OPTION | I38: 0 | J38: =(IF(ISBLANK(B38),0,0+IF(ISBLANK(H38),0,0+IF(ISBLANK(D38),0,0+IF(D38="Textbook",30,0+IF(D38="Textbook Chapter",10,0+IF(D38="Manual/Module",16,0+IF(D38="Multimedia Teaching Material",16,0+IF(D38="Testing Material",10,0)))))))))*I38 -> 0 | O38: ACCEPTABLE | P38: =IF(O38="Acceptable",I38,0) -> 0 | Q38: =(IF(ISBLANK(B38),0,0+IF(ISBLANK(H38),0,0+IF(ISBLANK(D38),0,0+IF(D38="Textbook",30,0+IF(D38="Textbook Chapter",10,0+IF(D38="Manual/Module",16,0+IF(D38="Multimedia Teaching Material",16,0+IF(D38="Testing Material",10,0)))))))))*P38 -> 0
A39: 8 | D39: SELECT OPTION | I39: 0 | J39: =(IF(ISBLANK(B39),0,0+IF(ISBLANK(H39),0,0+IF(ISBLANK(D39),0,0+IF(D39="Textbook",30,0+IF(D39="Textbook Chapter",10,0+IF(D39="Manual/Module",16,0+IF(D39="Multimedia Teaching Material",16,0+IF(D39="Testing Material",10,0)))))))))*I39 -> 0 | O39: ACCEPTABLE | P39: =IF(O39="Acceptable",I39,0) -> 0 | Q39: =(IF(ISBLANK(B39),0,0+IF(ISBLANK(H39),0,0+IF(ISBLANK(D39),0,0+IF(D39="Textbook",30,0+IF(D39="Textbook Chapter",10,0+IF(D39="Manual/Module",16,0+IF(D39="Multimedia Teaching Material",16,0+IF(D39="Testing Material",10,0)))))))))*P39 -> 0
A40: 9 | D40: SELECT OPTION | I40: 0 | J40: =(IF(ISBLANK(B40),0,0+IF(ISBLANK(H40),0,0+IF(ISBLANK(D40),0,0+IF(D40="Textbook",30,0+IF(D40="Textbook Chapter",10,0+IF(D40="Manual/Module",16,0+IF(D40="Multimedia Teaching Material",16,0+IF(D40="Testing Material",10,0)))))))))*I40 -> 0 | O40: ACCEPTABLE | P40: =IF(O40="Acceptable",I40,0) -> 0 | Q40: =(IF(ISBLANK(B40),0,0+IF(ISBLANK(H40),0,0+IF(ISBLANK(D40),0,0+IF(D40="Textbook",30,0+IF(D40="Textbook Chapter",10,0+IF(D40="Manual/Module",16,0+IF(D40="Multimedia Teaching Material",16,0+IF(D40="Testing Material",10,0)))))))))*P40 -> 0
A41: 10 | D41: SELECT OPTION | I41: 0 | J41: =(IF(ISBLANK(B41),0,0+IF(ISBLANK(H41),0,0+IF(ISBLANK(D41),0,0+IF(D41="Textbook",30,0+IF(D41="Textbook Chapter",10,0+IF(D41="Manual/Module",16,0+IF(D41="Multimedia Teaching Material",16,0+IF(D41="Testing Material",10,0)))))))))*I41 -> 0 | O41: ACCEPTABLE | P41: =IF(O41="Acceptable",I41,0) -> 0 | Q41: =(IF(ISBLANK(B41),0,0+IF(ISBLANK(H41),0,0+IF(ISBLANK(D41),0,0+IF(D41="Textbook",30,0+IF(D41="Textbook Chapter",10,0+IF(D41="Manual/Module",16,0+IF(D41="Multimedia Teaching Material",16,0+IF(D41="Testing Material",10,0)))))))))*P41 -> 0
A42: 11 | D42: SELECT OPTION | I42: 0 | J42: =(IF(ISBLANK(B42),0,0+IF(ISBLANK(H42),0,0+IF(ISBLANK(D42),0,0+IF(D42="Textbook",30,0+IF(D42="Textbook Chapter",10,0+IF(D42="Manual/Module",16,0+IF(D42="Multimedia Teaching Material",16,0+IF(D42="Testing Material",10,0)))))))))*I42 -> 0 | O42: ACCEPTABLE | P42: =IF(O42="Acceptable",I42,0) -> 0 | Q42: =(IF(ISBLANK(B42),0,0+IF(ISBLANK(H42),0,0+IF(ISBLANK(D42),0,0+IF(D42="Textbook",30,0+IF(D42="Textbook Chapter",10,0+IF(D42="Manual/Module",16,0+IF(D42="Multimedia Teaching Material",16,0+IF(D42="Testing Material",10,0)))))))))*P42 -> 0
A43: 12 | D43: SELECT OPTION | I43: 0 | J43: =(IF(ISBLANK(B43),0,0+IF(ISBLANK(H43),0,0+IF(ISBLANK(D43),0,0+IF(D43="Textbook",30,0+IF(D43="Textbook Chapter",10,0+IF(D43="Manual/Module",16,0+IF(D43="Multimedia Teaching Material",16,0+IF(D43="Testing Material",10,0)))))))))*I43 -> 0 | O43: ACCEPTABLE | P43: =IF(O43="Acceptable",I43,0) -> 0 | Q43: =(IF(ISBLANK(B43),0,0+IF(ISBLANK(H43),0,0+IF(ISBLANK(D43),0,0+IF(D43="Textbook",30,0+IF(D43="Textbook Chapter",10,0+IF(D43="Manual/Module",16,0+IF(D43="Multimedia Teaching Material",16,0+IF(D43="Testing Material",10,0)))))))))*P43 -> 0
...

Sheet KRA I
A1: FACULTY POSITION RECLASSIFICATION FOR SUCs | M1: =A1 -> FACULTY POSITION RECLASSIFICATION FOR SUCs
A3: KRA I - INSTRUCTION | M3: =A3 -> KRA I - INSTRUCTION
A4: SUMMARY OF POINTS | M4: =A4 -> SUMMARY OF POINTS
A6: ='Request Form'!B6 -> LAST NAME: | D6: =Form1_A!E3 -> 0 | M6: =A6 -> LAST NAME: | N6: =D6 -> 0
A7: ='Request Form'!B7 -> FIRST NAME, EXT.: | D7: =Form1_A!E4 -> 0 | M7: =A7 -> FIRST NAME, EXT.: | N7: =D7 -> 0
A8: ='Request Form'!B8 -> MIDDLE NAME: | D8: =Form1_A!E5 -> 0 | M8: =A8 -> MIDDLE NAME: | N8: =D8 -> 0
A10: CRITERION A - INSTRUCTION (MAX = 60 POINTS) | K10: =A10 -> CRITERION A - INSTRUCTION (MAX = 60 POINTS) | M10: =A10 -> CRITERION A - INSTRUCTION (MAX = 60 POINTS)
H11: Faculty Score | I11: Allowable Points
A12: 1. | B12: FACULTY PERFORMANCE | K12: REMARKS | M12: Validated Score | N12: Allowable Points | O12: REMARKS
A13: 1.1 | B13: Student Evaluation (60%) | H13: =Form1_A!K26 -> 0 | M13: =Form1_A!U25 -> 0
A14: 1.2 | B14: Supervisor's Evaluation (40%) | H14: =Form1_A!K42 -> 0 | M14: =Form1_A!U41 -> 0
A15: TOTAL POINTS FOR CRITERION A | H15: =SUM(H13:H14) -> 0 | I15: =H15 -> 0 | M15: =SUM(M13:M14) -> 0 | N15: =M15 -> 0
A17: CRITERION B - CURRICULUM AND INSTRUCTIONAL MATERIALS DEVELOPMENT (MAX = 30 POINTS) | K17: REMARKS | M17: =A17 -> CRITERION B - CURRICULUM AND INSTRUCTIONAL MATERIALS DEVELOPMENT (MAX = 30 POINTS)
H18: Faculty Score | I18: Allowable Points | M18: Validated Score | N18: Allowable Points | O18: REMARKS
A19: 1. | B19: INSTRUCTIONAL MATERIALS DEVELOPED AND APPROVED
A20: 1.1 | B20: Sole Authorship | H20: ='Form1_B&C'!I27 -> 0 | M20: ='Form1_B&C'!P27 -> 0
A21: 1.2 | B21: Co-Authorship | H21: ='Form1_B&C'!J47 -> 0 | M21: ='Form1_B&C'!Q47 -> 0
A22: Sub-Total | H22: =SUM(H20:H21) -> 0 | M22: =SUM(M20:M21) -> 0
A23: 2. | B23: ACADEMIC PROGRAM DEVELOPED/REVISED AND IMPLEMENTED | H23: ='Form1_B&C'!I61 -> 0 | M23: ='Form1_B&C'!P61 -> 0
A24: Sub-Total | H24: =H23 -> 0 | M24: =SUM(M23) -> 0
A25: TOTAL POINTS FOR CRITERION B | H25: =H22+H24 -> 0 | I25: =IF(H25>=30,30,H25) -> 0 | M25: =M22+M24 -> 0 | N25: =IF(M25>=30,30,M25) -> 0
A27: CRITERION C - THESIS, DISSERTATION AND MENTORSHIP SERVICES (MAX = 10 POINTS) | K27: REMARKS | M27: =A27 -> CRITERION C - THESIS, DISSERTATION AND MENTORSHIP SERVICES (MAX = 10 POINTS)
A28: 1. | B28: SERVICES RENDERED AS ADVISER, PANEL OR MENTOR | H28: Faculty Score | I28: Allowable Points | M28: Validated Score | N28: Allowable Points | O28: REMARKS
A29: 1.1 | B29: Adviser | H29: ='Form1_B&C'!I73 -> 0 | M29: ='Form1_B&C'!P73 -> 0
A30: 1.2 | B30: Panel | H30: ='Form1_B&C'!I82 -> 0 | M30: ='Form1_B&C'!P82 -> 0
A31: 2.1 | B31: Mentor | H31: ='Form1_B&C'!I96 -> 0 | M31: ='Form1_B&C'!P96 -> 0
A32: Sub-Total | H32: =SUM(H29:H31) -> 0 | M32: =SUM(M29:M31) -> 0
A33: TOTAL POINTS FOR CRITERION C | H33: =H32 -> 0 | I33: =IF(H33>=10,10,H33) -> 0 | M33: =M32 -> 0 | N33: =IF(M33>=10,10,M33) -> 0
A34: GRAND TOTAL POINTS FOR KRA 1 (MAX - 100 points) | H34: =H15+H25+H33 -> 0 | I34: =I15+I25+I33 -> 0 | M34: =M25+M33+M15 -> 0 | N34: =N15+N25+N33 -> 0
C36: Prepared by: | E36: Evaluated by: | M36: Validated by:
C39: Name and Signature | E39: Name of IEC Member and Signature | M39: Name of REC Member and Signature
C40: Date: | E40: Date: | M40: Date:
E43: Name of IEC Chair and Signature | M43: Name of REC Member and Signature
E44: Date: | M44: Date:

Sheet Form2_A
A1: KRA II - RESEARCH, INNOVATION AND CREATIVE WORK | M1: =A1 -> KRA II - RESEARCH, INNOVATION AND CREATIVE WORK | O1: =A1 -> KRA II - RESEARCH, INNOVATION AND CREATIVE WORK
A3: ='Request Form'!B6 -> LAST NAME: | C3: =Form1_A!E3 -> 0 | O3: =A3 -> LAST NAME: | P3: =C3 -> 0
A4: ='Request Form'!B7 -> FIRST NAME, EXT.: | C4: =Form1_A!E4 -> 0 | O4: =A4 -> FIRST NAME, EXT.: | P4: =C4 -> 0
A5: ='Request Form'!B8 -> MIDDLE NAME: | C5: =Form1_A!E5 -> 0 | O5: =A5 -> MIDDLE NAME: | P5: =C5 -> 0
A7: CRITERION A - RESEARCH OUTPUTS (MAX = 100 POINTS) | M7: =A7 -> CRITERION A - RESEARCH OUTPUTS (MAX = 100 POINTS) | O7: =A7 -> CRITERION A - RESEARCH OUTPUTS (MAX = 100 POINTS)
A9: 1. | B9: FOR EVERY SCHOLARLY RESEARCH PAPER/EDUCATIONAL OR TECHNICAL ARTICLE AND OTHER OUTPUTS PUBLISHED | M9: =B9 -> FOR EVERY SCHOLARLY RESEARCH PAPER/EDUCATIONAL OR TECHNICAL ARTICLE AND OTHER OUTPUTS PUBLISHED | O9: =B9 -> FOR EVERY SCHOLARLY RESEARCH PAPER/EDUCATIONAL OR TECHNICAL ARTICLE AND OTHER OUTPUTS PUBLISHED
A10: 1.1 | B10: SOLE AUTHORSHIP | M10: =B10 -> SOLE AUTHORSHIP | O10: =B10 -> SOLE AUTHORSHIP
A11: No. | B11: Title of Research Output | D11: Type of Research Output | E11: Name of Journal / Publisher | F11: Reviewer or Its Equivalent | G11: International Indexing Body | H11: Date Published (mm/dd/yyyy) | I11: Faculty Score | J11: Link to Evidence from Google Drive | M11: REMARKS | O11: Validation of Documents | P11: Validated Score | Q11: Explanation for Non-Acceptance | Z11: Legend:
A12: 1 | D12: SELECT OPTION | I12: =IF(ISBLANK(B12),0,0+(IF(ISBLANK(E12),0,0+IF(ISBLANK(F12),0,0+IF(ISBLANK(H12),0,0+IF(D12="Book",100,0+(IF(ISBLANK(G12),0,+IF(D12="Journal Article",50))+IF(D12="Book Chapter",35,0+IF(D12="Monograph",100,0+IF(D12="Other Peer-Reviewed Output",10,0)))))))))) -> 0 | O12: ACCEPTABLE | P12: =IF(O12="Acceptable",I12,0) -> 0 | Z12: ACCEPTABLE | AB12: SELECT OPTION
A13: 2 | D13: SELECT OPTION | I13: =IF(ISBLANK(B13),0,0+(IF(ISBLANK(E13),0,0+IF(ISBLANK(F13),0,0+IF(ISBLANK(H13),0,0+IF(D13="Book",100,0+(IF(ISBLANK(G13),0,+IF(D13="Journal Article",50))+IF(D13="Book Chapter",35,0+IF(D13="Monograph",100,0+IF(D13="Other Peer-Reviewed Output",10,0)))))))))) -> 0 | O13: ACCEPTABLE | P13: =IF(O13="Acceptable",I13,0) -> 0 | Z13: NOT ACCEPTABLE | AB13: Book
A14: 3 | D14: SELECT OPTION | I14: =IF(ISBLANK(B14),0,0+(IF(ISBLANK(E14),0,0+IF(ISBLANK(F14),0,0+IF(ISBLANK(H14),0,0+IF(D14="Book",100,0+(IF(ISBLANK(G14),0,+IF(D14="Journal Article",50))+IF(D14="Book Chapter",35,0+IF(D14="Monograph",100,0+IF(D14="Other Peer-Reviewed Output",10,0)))))))))) -> 0 | O14: ACCEPTABLE | P14: =IF(O14="Acceptable",I14,0) -> 0 | AB14: Journal Article
A15: 4 | D15: SELECT OPTION | I15: =IF(ISBLANK(B15),0,0+(IF(ISBLANK(E15),0,0+IF(ISBLANK(F15),0,0+IF(ISBLANK(H15),0,0+IF(D15="Book",100,0+(IF(ISBLANK(G15),0,+IF(D15="Journal Article",50))+IF(D15="Book Chapter",35,0+IF(D15="Monograph",100,0+IF(D15="Other Peer-Reviewed Output",10,0)))))))))) -> 0 | O15: ACCEPTABLE | P15: =IF(O15="Acceptable",I15,0) -> 0 | AB15: Book Chapter
A16: 5 | D16: SELECT OPTION | I16: =IF(ISBLANK(B16),0,0+(IF(ISBLANK(E16),0,0+IF(ISBLANK(F16),0,0+IF(ISBLANK(H16),0,0+IF(D16="Book",100,0+(IF(ISBLANK(G16),0,+IF(D16="Journal Article",50))+IF(D16="Book Chapter",35,0+IF(D16="Monograph",100,0+IF(D16="Other Peer-Reviewed Output",10,0)))))))))) -> 0 | O16: ACCEPTABLE | P16: =IF(O16="Acceptable",I16,0) -> 0 | AB16: Monograph
A17: 6 | D17: SELECT OPTION | I17: =IF(ISBLANK(B17),0,0+(IF(ISBLANK(E17),0,0+IF(ISBLANK(F17),0,0+IF(ISBLANK(H17),0,0+IF(D17="Book",100,0+(IF(ISBLANK(G17),0,+IF(D17="Journal Article",50))+IF(D17="Book Chapter",35,0+IF(D17="Monograph",100,0+IF(D17="Other Peer-Reviewed Output",10,0)))))))))) -> 0 | O17: ACCEPTABLE | P17: =IF(O17="Acceptable",I17,0) -> 0 | AB17: Other Peer-Reviewed Output
A18: 7 | D18: SELECT OPTION | I18: =IF(ISBLANK(B18),0,0+(IF(ISBLANK(E18),0,0+IF(ISBLANK(F18),0,0+IF(ISBLANK(H18),0,0+IF(D18="Book",100,0+(IF(ISBLANK(G18),0,+IF(D18="Journal Article",50))+IF(D18="Book Chapter",35,0+IF(D18="Monograph",100,0+IF(D18="Other Peer-Reviewed Output",10,0)))))))))) -> 0 | O18: ACCEPTABLE | P18: =IF(O18="Acceptable",I18,0) -> 0
A19: 8 | D19: SELECT OPTION | I19: =IF(ISBLANK(B19),0,0+(IF(ISBLANK(E19),0,0+IF(ISBLANK(F19),0,0+IF(ISBLANK(H19),0,0+IF(D19="Book",100,0+(IF(ISBLANK(G19),0,+IF(D19="Journal Article",50))+IF(D19="Book Chapter",35,0+IF(D19="Monograph",100,0+IF(D19="Other Peer-Reviewed Output",10,0)))))))))) -> 0 | O19: ACCEPTABLE | P19: =IF(O19="Acceptable",I19,0) -> 0
A20: 9 | D20: SELECT OPTION | I20: =IF(ISBLANK(B20),0,0+(IF(ISBLANK(E20),0,0+IF(ISBLANK(F20),0,0+IF(ISBLANK(H20),0,0+IF(D20="Book",100,0+(IF(ISBLANK(G20),0,+IF(D20="Journal Article",50))+IF(D20="Book Chapter",35,0+IF(D20="Monograph",100,0+IF(D20="Other Peer-Reviewed Output",10,0)))))))))) -> 0 | O20: ACCEPTABLE | P20: =IF(O20="Acceptable",I20,0) -> 0
A21: 10 | D21: SELECT OPTION | I21: =IF(ISBLANK(B21),0,0+(IF(ISBLANK(E21),0,0+IF(ISBLANK(F21),0,0+IF(ISBLANK(H21),0,0+IF(D21="Book",100,0+(IF(ISBLANK(G21),0,+IF(D21="Journal Article",50))+IF(D21="Book Chapter",35,0+IF(D21="Monograph",100,0+IF(D21="Other Peer-Reviewed Output",10,0)))))))))) -> 0 | O21: ACCEPTABLE | P21: =IF(O21="Acceptable",I21,0) -> 0
A22: 11 | D22: SELECT OPTION | I22: =IF(ISBLANK(B22),0,0+(IF(ISBLANK(E22),0,0+IF(ISBLANK(F22),0,0+IF(ISBLANK(H22),0,0+IF(D22="Book",100,0+(IF(ISBLANK(G22),0,+IF(D22="Journal Article",50))+IF(D22="Book Chapter",35,0+IF(D22="Monograph",100,0+IF(D22="Other Peer-Reviewed Output",10,0)))))))))) -> 0 | J22: <Google Drive link> | O22: ACCEPTABLE | P22: =IF(O22="Acceptable",I22,0) -> 0
A23: 12 | D23: SELECT OPTION | I23: =IF(ISBLANK(B23),0,0+(IF(ISBLANK(E23),0,0+IF(ISBLANK(F23),0,0+IF(ISBLANK(H23),0,0+IF(D23="Book",100,0+(IF(ISBLANK(G23),0,+IF(D23="Journal Article",50))+IF(D23="Book Chapter",35,0+IF(D23="Monograph",100,0+IF(D23="Other Peer-Reviewed Output",10,0)))))))))) -> 0 | J23: <Google Drive link> | O23: ACCEPTABLE | P23: =IF(O23="Acceptable",I23,0) -> 0
A24: 13 | D24: SELECT OPTION | I24: =IF(ISBLANK(B24),0,0+(IF(ISBLANK(E24),0,0+IF(ISBLANK(F24),0,0+IF(ISBLANK(H24),0,0+IF(D24="Book",100,0+(IF(ISBLANK(G24),0,+IF(D24="Journal Article",50))+IF(D24="Book Chapter",35,0+IF(D24="Monograph",100,0+IF(D24="Other Peer-Reviewed Output",10,0)))))))))) -> 0 | J24: <Google Drive link> | O24: ACCEPTABLE | P24: =IF(O24="Acceptable",I24,0) -> 0
A25: 14 | D25: SELECT OPTION | I25: =IF(ISBLANK(B25),0,0+(IF(ISBLANK(E25),0,0+IF(ISBLANK(F25),0,0+IF(ISBLANK(H25),0,0+IF(D25="Book",100,0+(IF(ISBLANK(G25),0,+IF(D25="Journal Article",50))+IF(D25="Book Chapter",35,0+IF(D25="Monograph",100,0+IF(D25="Other Peer-Reviewed Output",10,0)))))))))) -> 0 | J25: <Google Drive link> | O25: ACCEPTABLE | P25: =IF(O25="Acceptable",I25,0) -> 0
A26: 15 | D26: SELECT OPTION | I26: =IF(ISBLANK(B26),0,0+(IF(ISBLANK(E26),0,0+IF(ISBLANK(F26),0,0+IF(ISBLANK(H26),0,0+IF(D26="Book",100,0+(IF(ISBLANK(G26),0,+IF(D26="Journal Article",50))+IF(D26="Book Chapter",35,0+IF(D26="Monograph",100,0+IF(D26="Other Peer-Reviewed Output",10,0)))))))))) -> 0 | J26: <Google Drive link> | O26: ACCEPTABLE | P26: =IF(O26="Acceptable",I26,0) -> 0
A27: 16 | D27: SELECT OPTION | I27: =IF(ISBLANK(B27),0,0+(IF(ISBLANK(E27),0,0+IF(ISBLANK(F27),0,0+IF(ISBLANK(H27),0,0+IF(D27="Book",100,0+(IF(ISBLANK(G27),0,+IF(D27="Journal Article",50))+IF(D27="Book Chapter",35,0+IF(D27="Monograph",100,0+IF(D27="Other Peer-Reviewed Output",10,0)))))))))) -> 0 | J27: <Google Drive link> | O27: ACCEPTABLE | P27: =IF(O27="Acceptable",I27,0) -> 0
A28: 17 | D28: SELECT OPTION | I28: =IF(ISBLANK(B28),0,0+(IF(ISBLANK(E28),0,0+IF(ISBLANK(F28),0,0+IF(ISBLANK(H28),0,0+IF(D28="Book",100,0+(IF(ISBLANK(G28),0,+IF(D28="Journal Article",50))+IF(D28="Book Chapter",35,0+IF(D28="Monograph",100,0+IF(D28="Other Peer-Reviewed Output",10,0)))))))))) -> 0 | J28: <Google Drive link> | O28: ACCEPTABLE | P28: =IF(O28="Acceptable",I28,0) -> 0
A29: 18 | D29: SELECT OPTION | I29: =IF(ISBLANK(B29),0,0+(IF(ISBLANK(E29),0,0+IF(ISBLANK(F29),0,0+IF(ISBLANK(H29),0,0+IF(D29="Book",100,0+(IF(ISBLANK(G29),0,+IF(D29="Journal Article",50))+IF(D29="Book Chapter",35,0+IF(D29="Monograph",100,0+IF(D29="Other Peer-Reviewed Output",10,0)))))))))) -> 0 | J29: <Google Drive link> | O29: ACCEPTABLE | P29: =IF(O29="Acceptable",I29,0) -> 0
A30: 19 | D30: SELECT OPTION | I30: =IF(ISBLANK(B30),0,0+(IF(ISBLANK(E30),0,0+IF(ISBLANK(F30),0,0+IF(ISBLANK(H30),0,0+IF(D30="Book",100,0+(IF(ISBLANK(G30),0,+IF(D30="Journal Article",50))+IF(D30="Book Chapter",35,0+IF(D30="Monograph",100,0+IF(D30="Other Peer-Reviewed Output",10,0)))))))))) -> 0 | J30: <Google Drive link> | O30: ACCEPTABLE | P30: =IF(O30="Acceptable",I30,0) -> 0
A31: 20 | D31: SELECT OPTION | I31: =IF(ISBLANK(B31),0,0+(IF(ISBLANK(E31),0,0+IF(ISBLANK(F31),0,0+IF(ISBLANK(H31),0,0+IF(D31="Book",100,0+(IF(ISBLANK(G31),0,+IF(D31="Journal Article",50))+IF(D31="Book Chapter",35,0+IF(D31="Monograph",100,0+IF(D31="Other Peer-Reviewed Output",10,0)))))))))) -> 0 | J31: <Google Drive link> | O31: ACCEPTABLE | P31: =IF(O31="Acceptable",I31,0) -> 0
H32: TOTAL | I32: =SUM(I12:I31) -> 0 | P32: =SUM(P12:P31) -> 0
A34: 1.2 | B34: CO-AUTHORSHIP | M34: =B34 -> CO-AUTHORSHIP | O34: =B34 -> CO-AUTHORSHIP
A36: No. | B36: Title of Research Output | D36: Type of Research Output | E36: Name of Journal / Publisher | F36: Reviewer or Equivalent (if applicable) | G36: International Indexing Body (if applicable) | H36: Date Published (mm/dd/yyyy) | I36: % Contribution (write in decimal form) | J36: Faculty Score | K36: Link to Evidence from Google Drive | M36: REMARKS | O36: Validation of Documents | P36: Validated % Contribution (specify new %, if applicable) | Q36: Validated Score | R36: Explanation for Non-Acceptance
A37: 1 | D37: SELECT OPTION | I37: 0 | J37: =(IF(ISBLANK(B37),0,0+IF(ISBLANK(H37),0,0+IF(D37="Book",100,0+(IF(ISBLANK(G37),0,+IF(D37="Journal Article",50))+IF(D37="Book Chapter",35,0+IF(D37="Monograph",100,0+IF(D37="Other Peer-Reviewed Output",10,0))))))))*I37 -> 0 | O37: ACCEPTABLE | P37: =IF(O37="Acceptable",I37,0) -> 0 | Q37: =(IF(ISBLANK(B37),0,0+IF(ISBLANK(H37),0,0+IF(D37="Book",100,0+(IF(ISBLANK(G37),0,+IF(D37="Journal Article",50))+IF(D37="Book Chapter",35,0+IF(D37="Monograph",100,0+IF(D37="Other Peer-Reviewed Output",10,0))))))))*P37 -> 0
A38: 2 | D38: SELECT OPTION | I38: 0 | J38: =(IF(ISBLANK(B38),0,0+IF(ISBLANK(H38),0,0+IF(D38="Book",100,0+(IF(ISBLANK(G38),0,+IF(D38="Journal Article",50))+IF(D38="Book Chapter",35,0+IF(D38="Monograph",100,0+IF(D38="Other Peer-Reviewed Output",10,0))))))))*I38 -> 0 | O38: ACCEPTABLE | P38: =IF(O38="Acceptable",I38,0) -> 0 | Q38: =(IF(ISBLANK(B38),0,0+IF(ISBLANK(H38),0,0+IF(D38="Book",100,0+(IF(ISBLANK(G38),0,+IF(D38="Journal Article",50))+IF(D38="Book Chapter",35,0+IF(D38="Monograph",100,0+IF(D38="Other Peer-Reviewed Output",10,0))))))))*P38 -> 0
A39: 3 | D39: SELECT OPTION | I39: 0 | J39: =(IF(ISBLANK(B39),0,0+IF(ISBLANK(H39),0,0+IF(D39="Book",100,0+(IF(ISBLANK(G39),0,+IF(D39="Journal Article",50))+IF(D39="Book Chapter",35,0+IF(D39="Monograph",100,0+IF(D39="Other Peer-Reviewed Output",10,0))))))))*I39 -> 0 | O39: ACCEPTABLE | P39: =IF(O39="Acceptable",I39,0) -> 0 | Q39: =(IF(ISBLANK(B39),0,0+IF(ISBLANK(H39),0,0+IF(D39="Book",100,0+(IF(ISBLANK(G39),0,+IF(D39="Journal Article",50))+IF(D39="Book Chapter",35,0+IF(D39="Monograph",100,0+IF(D39="Other Peer-Reviewed Output",10,0))))))))*P39 -> 0
A40: 4 | D40: SELECT OPTION | I40: 0 | J40: =(IF(ISBLANK(B40),0,0+IF(ISBLANK(H40),0,0+IF(D40="Book",100,0+(IF(ISBLANK(G40),0,+IF(D40="Journal Article",50))+IF(D40="Book Chapter",35,0+IF(D40="Monograph",100,0+IF(D40="Other Peer-Reviewed Output",10,0))))))))*I40 -> 0 | O40: ACCEPTABLE | P40: =IF(O40="Acceptable",I40,0) -> 0 | Q40: =(IF(ISBLANK(B40),0,0+IF(ISBLANK(H40),0,0+IF(D40="Book",100,0+(IF(ISBLANK(G40),0,+IF(D40="Journal Article",50))+IF(D40="Book Chapter",35,0+IF(D40="Monograph",100,0+IF(D40="Other Peer-Reviewed Output",10,0))))))))*P40 -> 0
A41: 5 | D41: SELECT OPTION | I41: 0 | J41: =(IF(ISBLANK(B41),0,0+IF(ISBLANK(H41),0,0+IF(D41="Book",100,0+(IF(ISBLANK(G41),0,+IF(D41="Journal Article",50))+IF(D41="Book Chapter",35,0+IF(D41="Monograph",100,0+IF(D41="Other Peer-Reviewed Output",10,0))))))))*I41 -> 0 | O41: ACCEPTABLE | P41: =IF(O41="Acceptable",I41,0) -> 0 | Q41: =(IF(ISBLANK(B41),0,0+IF(ISBLANK(H41),0,0+IF(D41="Book",100,0+(IF(ISBLANK(G41),0,+IF(D41="Journal Article",50))+IF(D41="Book Chapter",35,0+IF(D41="Monograph",100,0+IF(D41="Other Peer-Reviewed Output",10,0))))))))*P41 -> 0
A42: 6 | D42: SELECT OPTION | I42: 0 | J42: =(IF(ISBLANK(B42),0,0+IF(ISBLANK(H42),0,0+IF(D42="Book",100,0+(IF(ISBLANK(G42),0,+IF(D42="Journal Article",50))+IF(D42="Book Chapter",35,0+IF(D42="Monograph",100,0+IF(D42="Other Peer-Reviewed Output",10,0))))))))*I42 -> 0 | O42: ACCEPTABLE | P42: =IF(O42="Acceptable",I42,0) -> 0 | Q42: =(IF(ISBLANK(B42),0,0+IF(ISBLANK(H42),0,0+IF(D42="Book",100,0+(IF(ISBLANK(G42),0,+IF(D42="Journal Article",50))+IF(D42="Book Chapter",35,0+IF(D42="Monograph",100,0+IF(D42="Other Peer-Reviewed Output",10,0))))))))*P42 -> 0
A43: 7 | D43: SELECT OPTION | I43: 0 | J43: =(IF(ISBLANK(B43),0,0+IF(ISBLANK(H43),0,0+IF(D43="Book",100,0+(IF(ISBLANK(G43),0,+IF(D43="Journal Article",50))+IF(D43="Book Chapter",35,0+IF(D43="Monograph",100,0+IF(D43="Other Peer-Reviewed Output",10,0))))))))*I43 -> 0 | O43: ACCEPTABLE | P43: =IF(O43="Acceptable",I43,0) -> 0 | Q43: =(IF(ISBLANK(B43),0,0+IF(ISBLANK(H43),0,0+IF(D43="Book",100,0+(IF(ISBLANK(G43),0,+IF(D43="Journal Article",50))+IF(D43="Book Chapter",35,0+IF(D43="Monograph",100,0+IF(D43="Other Peer-Reviewed Output",10,0))))))))*P43 -> 0
A44: 8 | D44: SELECT OPTION | I44: 0 | J44: =(IF(ISBLANK(B44),0,0+IF(ISBLANK(H44),0,0+IF(D44="Book",100,0+(IF(ISBLANK(G44),0,+IF(D44="Journal Article",50))+IF(D44="Book Chapter",35,0+IF(D44="Monograph",100,0+IF(D44="Other Peer-Reviewed Output",10,0))))))))*I44 -> 0 | O44: ACCEPTABLE | P44: =IF(O44="Acceptable",I44,0) -> 0 | Q44: =(IF(ISBLANK(B44),0,0+IF(ISBLANK(H44),0,0+IF(D44="Book",100,0+(IF(ISBLANK(G44),0,+IF(D44="Journal Article",50))+IF(D44="Book Chapter",35,0+IF(D44="Monograph",100,0+IF(D44="Other Peer-Reviewed Output",10,0))))))))*P44 -> 0
A45: 9 | D45: SELECT OPTION | I45: 0 | J45: =(IF(ISBLANK(B45),0,0+IF(ISBLANK(H45),0,0+IF(D45="Book",100,0+(IF(ISBLANK(G45),0,+IF(D45="Journal Article",50))+IF(D45="Book Chapter",35,0+IF(D45="Monograph",100,0+IF(D45="Other Peer-Reviewed Output",10,0))))))))*I45 -> 0 | O45: ACCEPTABLE | P45: =IF(O45="Acceptable",I45,0) -> 0 | Q45: =(IF(ISBLANK(B45),0,0+IF(ISBLANK(H45),0,0+IF(D45="Book",100,0+(IF(ISBLANK(G45),0,+IF(D45="Journal Article",50))+IF(D45="Book Chapter",35,0+IF(D45="Monograph",100,0+IF(D45="Other Peer-Reviewed Output",10,0))))))))*P45 -> 0
...

Sheet Form2-B
A1: KRA II - RESEARCH, INNOVATION AND CREATIVE WORK | M1: =A1 -> KRA II - RESEARCH, INNOVATION AND CREATIVE WORK | O1: =A1 -> KRA II - RESEARCH, INNOVATION AND CREATIVE WORK
A3: ='Request Form'!B6 -> LAST NAME: | D3: =Form1_A!E3 -> 0 | O3: =A3 -> LAST NAME: | P3: =D3 -> 0
A4: ='Request Form'!B7 -> FIRST NAME, EXT.: | D4: =Form1_A!E4 -> 0 | O4: =A4 -> FIRST NAME, EXT.: | P4: =D4 -> 0
A5: ='Request Form'!B8 -> MIDDLE NAME: | D5: =Form1_A!E5 -> 0 | O5: =A5 -> MIDDLE NAME: | P5: =D5 -> 0
A7: CRITERION B - INVENTIONS (MAX = 100 POINTS) | M7: =A7 -> CRITERION B - INVENTIONS (MAX = 100 POINTS) | O7: =A7 -> CRITERION B - INVENTIONS (MAX = 100 POINTS)
AC8: Legend:
A9: 1. | B9: FOR EVERY PATENDED INVENTION | M9: =B9 -> FOR EVERY PATENDED INVENTION | O9: =B9 -> FOR EVERY PATENDED INVENTION | AC9: ACCEPTABLE
A10: 1.1 | B10: PATENTABLE INVENTIONS, UTILITY MODELS AND INDUSTRIAL DESIGNS | M10: =B10 -> PATENTABLE INVENTIONS, UTILITY MODELS AND INDUSTRIAL DESIGNS | O10: =B10 -> PATENTABLE INVENTIONS, UTILITY MODELS AND INDUSTRIAL DESIGNS | AC10: NOT ACCEPTABLE
A11: 1.1.1 | B11: INVENTION PATENTS | M11: =B11 -> INVENTION PATENTS | O11: =B11 -> INVENTION PATENTS
A12: SOLE INVENTOR | M12: =A12 -> SOLE INVENTOR | O12: =A12 -> SOLE INVENTOR | AC12: SELECT OPTION
A13: No. | B13: Name of the Invention | E13: Application Date (mm/dd/yyyy) | F13: Patent Application Stage | G13: Date Accepted, Published or Granted (mm/dd/yyyy) | I13: Faculty Score | J13: Link to Evidence from Google Drive | M13: REMARKS | O13: Validation of Documents | P13: Validated Score | Q13: Explanation for Non-Acceptance | AC13: Accepted
A14: 1 | F14: SELECT OPTION | I14: =IF(ISBLANK(B14),0,0+IF(ISBLANK(E14),0,0+IF(ISBLANK(G14),0,0+IF(F14="Accepted",10)+IF(F14="Published",20)+IF(F14="Granted",80)))) -> 0 | O14: ACCEPTABLE | P14: =IF(O14="Acceptable",I14,0) -> 0 | AC14: Published
A15: 2 | F15: SELECT OPTION | I15: =IF(ISBLANK(B15),0,0+IF(ISBLANK(E15),0,0+IF(ISBLANK(G15),0,0+IF(F15="Accepted",10)+IF(F15="Published",20)+IF(F15="Granted",80)))) -> 0 | O15: ACCEPTABLE | P15: =IF(O15="Acceptable",I15,0) -> 0 | AC15: Granted
A16: 3 | F16: SELECT OPTION | I16: =IF(ISBLANK(B16),0,0+IF(ISBLANK(E16),0,0+IF(ISBLANK(G16),0,0+IF(F16="Accepted",10)+IF(F16="Published",20)+IF(F16="Granted",80)))) -> 0 | O16: ACCEPTABLE | P16: =IF(O16="Acceptable",I16,0) -> 0
A17: 4 | F17: SELECT OPTION | I17: =IF(ISBLANK(B17),0,0+IF(ISBLANK(E17),0,0+IF(ISBLANK(G17),0,0+IF(F17="Accepted",10)+IF(F17="Published",20)+IF(F17="Granted",80)))) -> 0 | O17: ACCEPTABLE | P17: =IF(O17="Acceptable",I17,0) -> 0
A18: 5 | F18: SELECT OPTION | I18: =IF(ISBLANK(B18),0,0+IF(ISBLANK(E18),0,0+IF(ISBLANK(G18),0,0+IF(F18="Accepted",10)+IF(F18="Published",20)+IF(F18="Granted",80)))) -> 0 | O18: ACCEPTABLE | P18: =IF(O18="Acceptable",I18,0) -> 0
A19: 6 | F19: SELECT OPTION | I19: =IF(ISBLANK(B19),0,0+IF(ISBLANK(E19),0,0+IF(ISBLANK(G19),0,0+IF(F19="Accepted",10)+IF(F19="Published",20)+IF(F19="Granted",80)))) -> 0 | O19: ACCEPTABLE | P19: =IF(O19="Acceptable",I19,0) -> 0
A20: 7 | F20: SELECT OPTION | I20: =IF(ISBLANK(B20),0,0+IF(ISBLANK(E20),0,0+IF(ISBLANK(G20),0,0+IF(F20="Accepted",10)+IF(F20="Published",20)+IF(F20="Granted",80)))) -> 0 | O20: ACCEPTABLE | P20: =IF(O20="Acceptable",I20,0) -> 0
A21: 8 | F21: SELECT OPTION | I21: =IF(ISBLANK(B21),0,0+IF(ISBLANK(E21),0,0+IF(ISBLANK(G21),0,0+IF(F21="Accepted",10)+IF(F21="Published",20)+IF(F21="Granted",80)))) -> 0 | O21: ACCEPTABLE | P21: =IF(O21="Acceptable",I21,0) -> 0
A22: 9 | F22: SELECT OPTION | I22: =IF(ISBLANK(B22),0,0+IF(ISBLANK(E22),0,0+IF(ISBLANK(G22),0,0+IF(F22="Accepted",10)+IF(F22="Published",20)+IF(F22="Granted",80)))) -> 0 | O22: ACCEPTABLE | P22: =IF(O22="Acceptable",I22,0) -> 0
A23: 10 | F23: SELECT OPTION | I23: =IF(ISBLANK(B23),0,0+IF(ISBLANK(E23),0,0+IF(ISBLANK(G23),0,0+IF(F23="Accepted",10)+IF(F23="Published",20)+IF(F23="Granted",80)))) -> 0 | O23: ACCEPTABLE | P23: =IF(O23="Acceptable",I23,0) -> 0
A24: 11 | F24: SELECT OPTION | I24: =IF(ISBLANK(B24),0,0+IF(ISBLANK(E24),0,0+IF(ISBLANK(G24),0,0+IF(F24="Accepted",10)+IF(F24="Published",20)+IF(F24="Granted",80)))) -> 0 | O24: ACCEPTABLE | P24: =IF(O24="Acceptable",I24,0) -> 0
A25: 12 | F25: SELECT OPTION | I25: =IF(ISBLANK(B25),0,0+IF(ISBLANK(E25),0,0+IF(ISBLANK(G25),0,0+IF(F25="Accepted",10)+IF(F25="Published",20)+IF(F25="Granted",80)))) -> 0 | O25: ACCEPTABLE | P25: =IF(O25="Acceptable",I25,0) -> 0
A26: 13 | F26: SELECT OPTION | I26: =IF(ISBLANK(B26),0,0+IF(ISBLANK(E26),0,0+IF(ISBLANK(G26),0,0+IF(F26="Accepted",10)+IF(F26="Published",20)+IF(F26="Granted",80)))) -> 0 | O26: ACCEPTABLE | P26: =IF(O26="Acceptable",I26,0) -> 0
A27: 14 | F27: SELECT OPTION | I27: =IF(ISBLANK(B27),0,0+IF(ISBLANK(E27),0,0+IF(ISBLANK(G27),0,0+IF(F27="Accepted",10)+IF(F27="Published",20)+IF(F27="Granted",80)))) -> 0 | O27: ACCEPTABLE | P27: =IF(O27="Acceptable",I27,0) -> 0
A28: 15 | F28: SELECT OPTION | I28: =IF(ISBLANK(B28),0,0+IF(ISBLANK(E28),0,0+IF(ISBLANK(G28),0,0+IF(F28="Accepted",10)+IF(F28="Published",20)+IF(F28="Granted",80)))) -> 0 | O28: ACCEPTABLE | P28: =IF(O28="Acceptable",I28,0) -> 0
G29: TOTAL | I29: =SUM(I14:I28) -> 0 | P29: =SUM(P14:P28) -> 0
A31: WITH MULTIPLE INVENTORS | M31: =A31 -> WITH MULTIPLE INVENTORS | O31: =A31 -> WITH MULTIPLE INVENTORS
A32: No. | B32: Name of the Invention | E32: Date of Application | F32: Patent Application Stage | G32: Date Accepted, Published, or Granted (mm/dd/yyyy) | I32: % Contribution (write in decimal form) | J32: Faculty Score | K32: Link to Evidence from Google Drive | M32: REMARKS | O32: Validation of Documents | P32: Validated % Contribution (specify new %, if applicable) | Q32: Validated Score | R32: Explanation for Non-Acceptance
A33: 1 | F33: SELECT OPTION | I33: 0 | J33: =(IF(ISBLANK(B33),0,0+(IF(ISBLANK(E33),0,0+(IF(ISBLANK(F33),0,0+(IF(ISBLANK(G33),0,0+IF(F33="Accepted",10)+IF(F33="Published",20)+IF(F33="Granted",80)))*I33)))))) -> 0 | O33: ACCEPTABLE | P33: =IF(O33="Acceptable",I33,0) -> 0 | Q33: =(IF(ISBLANK(B33),0,0+(IF(ISBLANK(E33),0,0+(IF(ISBLANK(F33),0,0+(IF(ISBLANK(G33),0,0+IF(F33="Accepted",10)+IF(F33="Published",20)+IF(F33="Granted",80)))*P33)))))) -> 0
A34: 2 | F34: SELECT OPTION | I34: 0 | J34: =(IF(ISBLANK(B34),0,0+(IF(ISBLANK(E34),0,0+(IF(ISBLANK(F34),0,0+(IF(ISBLANK(G34),0,0+IF(F34="Accepted",10)+IF(F34="Published",20)+IF(F34="Granted",80)))*I34)))))) -> 0 | O34: ACCEPTABLE | P34: =IF(O34="Acceptable",I34,0) -> 0 | Q34: =(IF(ISBLANK(B34),0,0+(IF(ISBLANK(E34),0,0+(IF(ISBLANK(F34),0,0+(IF(ISBLANK(G34),0,0+IF(F34="Accepted",10)+IF(F34="Published",20)+IF(F34="Granted",80)))*P34)))))) -> 0
A35: 3 | F35: SELECT OPTION | I35: 0 | J35: =(IF(ISBLANK(B35),0,0+(IF(ISBLANK(E35),0,0+(IF(ISBLANK(F35),0,0+(IF(ISBLANK(G35),0,0+IF(F35="Accepted",10)+IF(F35="Published",20)+IF(F35="Granted",80)))*I35)))))) -> 0 | O35: ACCEPTABLE | P35: =IF(O35="Acceptable",I35,0) -> 0 | Q35: =(IF(ISBLANK(B35),0,0+(IF(ISBLANK(E35),0,0+(IF(ISBLANK(F35),0,0+(IF(ISBLANK(G35),0,0+IF(F35="Accepted",10)+IF(F35="Published",20)+IF(F35="Granted",80)))*P35)))))) -> 0
A36: 4 | F36: SELECT OPTION | I36: 0 | J36: =(IF(ISBLANK(B36),0,0+(IF(ISBLANK(E36),0,0+(IF(ISBLANK(F36),0,0+(IF(ISBLANK(G36),0,0+IF(F36="Accepted",10)+IF(F36="Published",20)+IF(F36="Granted",80)))*I36)))))) -> 0 | O36: ACCEPTABLE | P36: =IF(O36="Acceptable",I36,0) -> 0 | Q36: =(IF(ISBLANK(B36),0,0+(IF(ISBLANK(E36),0,0+(IF(ISBLANK(F36),0,0+(IF(ISBLANK(G36),0,0+IF(F36="Accepted",10)+IF(F36="Published",20)+IF(F36="Granted",80)))*P36)))))) -> 0
A37: 5 | F37: SELECT OPTION | I37: 0 | J37: =(IF(ISBLANK(B37),0,0+(IF(ISBLANK(E37),0,0+(IF(ISBLANK(F37),0,0+(IF(ISBLANK(G37),0,0+IF(F37="Accepted",10)+IF(F37="Published",20)+IF(F37="Granted",80)))*I37)))))) -> 0 | O37: ACCEPTABLE | P37: =IF(O37="Acceptable",I37,0) -> 0 | Q37: =(IF(ISBLANK(B37),0,0+(IF(ISBLANK(E37),0,0+(IF(ISBLANK(F37),0,0+(IF(ISBLANK(G37),0,0+IF(F37="Accepted",10)+IF(F37="Published",20)+IF(F37="Granted",80)))*P37)))))) -> 0
A38: 6 | F38: SELECT OPTION | I38: 0 | J38: =(IF(ISBLANK(B38),0,0+(IF(ISBLANK(E38),0,0+(IF(ISBLANK(F38),0,0+(IF(ISBLANK(G38),0,0+IF(F38="Accepted",10)+IF(F38="Published",20)+IF(F38="Granted",80)))*I38)))))) -> 0 | O38: ACCEPTABLE | P38: =IF(O38="Acceptable",I38,0) -> 0 | Q38: =(IF(ISBLANK(B38),0,0+(IF(ISBLANK(E38),0,0+(IF(ISBLANK(F38),0,0+(IF(ISBLANK(G38),0,0+IF(F38="Accepted",10)+IF(F38="Published",20)+IF(F38="Granted",80)))*P38)))))) -> 0
A39: 7 | F39: SELECT OPTION | I39: 0 | J39: =(IF(ISBLANK(B39),0,0+(IF(ISBLANK(E39),0,0+(IF(ISBLANK(F39),0,0+(IF(ISBLANK(G39),0,0+IF(F39="Accepted",10)+IF(F39="Published",20)+IF(F39="Granted",80)))*I39)))))) -> 0 | O39: ACCEPTABLE | P39: =IF(O39="Acceptable",I39,0) -> 0 | Q39: =(IF(ISBLANK(B39),0,0+(IF(ISBLANK(E39),0,0+(IF(ISBLANK(F39),0,0+(IF(ISBLANK(G39),0,0+IF(F39="Accepted",10)+IF(F39="Published",20)+IF(F39="Granted",80)))*P39)))))) -> 0
A40: 8 | F40: SELECT OPTION | I40: 0 | J40: =(IF(ISBLANK(B40),0,0+(IF(ISBLANK(E40),0,0+(IF(ISBLANK(F40),0,0+(IF(ISBLANK(G40),0,0+IF(F40="Accepted",10)+IF(F40="Published",20)+IF(F40="Granted",80)))*I40)))))) -> 0 | O40: ACCEPTABLE | P40: =IF(O40="Acceptable",I40,0) -> 0 | Q40: =(IF(ISBLANK(B40),0,0+(IF(ISBLANK(E40),0,0+(IF(ISBLANK(F40),0,0+(IF(ISBLANK(G40),0,0+IF(F40="Accepted",10)+IF(F40="Published",20)+IF(F40="Granted",80)))*P40)))))) -> 0
A41: 9 | F41: SELECT OPTION | I41: 0 | J41: =(IF(ISBLANK(B41),0,0+(IF(ISBLANK(E41),0,0+(IF(ISBLANK(F41),0,0+(IF(ISBLANK(G41),0,0+IF(F41="Accepted",10)+IF(F41="Published",20)+IF(F41="Granted",80)))*I41)))))) -> 0 | O41: ACCEPTABLE | P41: =IF(O41="Acceptable",I41,0) -> 0 | Q41: =(IF(ISBLANK(B41),0,0+(IF(ISBLANK(E41),0,0+(IF(ISBLANK(F41),0,0+(IF(ISBLANK(G41),0,0+IF(F41="Accepted",10)+IF(F41="Published",20)+IF(F41="Granted",80)))*P41)))))) -> 0
A42: 10 | F42: SELECT OPTION | I42: 0 | J42: =(IF(ISBLANK(B42),0,0+(IF(ISBLANK(E42),0,0+(IF(ISBLANK(F42),0,0+(IF(ISBLANK(G42),0,0+IF(F42="Accepted",10)+IF(F42="Published",20)+IF(F42="Granted",80)))*I42)))))) -> 0 | O42: ACCEPTABLE | P42: =IF(O42="Acceptable",I42,0) -> 0 | Q42: =(IF(ISBLANK(B42),0,0+(IF(ISBLANK(E42),0,0+(IF(ISBLANK(F42),0,0+(IF(ISBLANK(G42),0,0+IF(F42="Accepted",10)+IF(F42="Published",20)+IF(F42="Granted",80)))*P42)))))) -> 0
A43: 11 | F43: SELECT OPTION | I43: 0 | J43: =(IF(ISBLANK(B43),0,0+(IF(ISBLANK(E43),0,0+(IF(ISBLANK(F43),0,0+(IF(ISBLANK(G43),0,0+IF(F43="Accepted",10)+IF(F43="Published",20)+IF(F43="Granted",80)))*I43)))))) -> 0 | O43: ACCEPTABLE | P43: =IF(O43="Acceptable",I43,0) -> 0 | Q43: =(IF(ISBLANK(B43),0,0+(IF(ISBLANK(E43),0,0+(IF(ISBLANK(F43),0,0+(IF(ISBLANK(G43),0,0+IF(F43="Accepted",10)+IF(F43="Published",20)+IF(F43="Granted",80)))*P43)))))) -> 0
...

Sheet Form2_C
A1: KRA II - RESEARCH, INNOVATION AND CREATIVE WORK | N1: =A1 -> KRA II - RESEARCH, INNOVATION AND CREATIVE WORK | P1: =A1 -> KRA II - RESEARCH, INNOVATION AND CREATIVE WORK
A3: ='Request Form'!B6 -> LAST NAME: | D3: =Form1_A!E3 -> 0 | P3: =A3 -> LAST NAME: | Q3: =D3 -> 0
A4: ='Request Form'!B7 -> FIRST NAME, EXT.: | D4: =Form1_A!E4 -> 0 | P4: =A4 -> FIRST NAME, EXT.: | Q4: =D4 -> 0
A5: ='Request Form'!B8 -> MIDDLE NAME: | D5: =Form1_A!E5 -> 0 | P5: =A5 -> MIDDLE NAME: | Q5: =D5 -> 0
AB6: ACCEPTABLE
A7: CRITERION C - CREATIVE WORKS (MAX = 100 POINTS) | N7: =A7 -> CRITERION C - CREATIVE WORKS (MAX = 100 POINTS) | P7: =A7 -> CRITERION C - CREATIVE WORKS (MAX = 100 POINTS) | AB7: NOT ACCEPTABLE
A9: 1. | B9: FOR EVERY CREATIVE WORK CREATED, PERFORMED. PRESENTED, EXHIBITED AND PUBLISHED | N9: =B9 -> FOR EVERY CREATIVE WORK CREATED, PERFORMED. PRESENTED, EXHIBITED AND PUBLISHED | P9: =B9 -> FOR EVERY CREATIVE WORK CREATED, PERFORMED. PRESENTED, EXHIBITED AND PUBLISHED
A10: 1.1 | B10: NEW CREATIVE PERFORMING ARTWORK (e.g. MUSIC, DANCE AND THEATRE) | N10: =B10 -> NEW CREATIVE PERFORMING ARTWORK (e.g. MUSIC, DANCE AND THEATRE) | P10: =B10 -> NEW CREATIVE PERFORMING ARTWORK (e.g. MUSIC, DANCE AND THEATRE) | AB10: SELECT OPTION
A11: No. | B11: Title of Creative Performing Art | E11: Type of Performing Art | F11: Classification | G11: Date Copyrighted / Date Performed (mm/dd/yyyy) | H11: Venue of Performance | J11: Organizer | K11: Faculty Points | L11: Link to Evidence from Google Drive | N11: REMARKS | P11: Validation of Documents | Q11: Validated Score | R11: Explanation for Non-Acceptance | AB11: New Creation
AB12: Own Work
A13: 1 | E13: SELECT OPTION | F13: SELECT OPTION | K13: =IF(ISBLANK(B13),0,0+IF(E13="SELECT OPTION",0,0+IF(ISBLANK(G13),0,0+IF(ISBLANK(J13),0,0+IF(F13="New Creation",20,0+IF(F13="Own Work",10,0+IF(F13="Work of Others",10,0))))))) -> 0 | P13: ACCEPTABLE | Q13: =IF(P13="Acceptable",K13,0) -> 0 | AA13: 43647 | AB13: Work of Others | AD13: SELECT OPTION
A14: 2 | E14: SELECT OPTION | F14: SELECT OPTION | K14: =IF(ISBLANK(B14),0,0+IF(ISBLANK(E14),0,0+IF(ISBLANK(G14),0,0+IF(ISBLANK(J14),0,0+IF(F14="New Creation",20,0+IF(F14="Own Work",10,0+IF(F14="Work of Others",10,0))))))) -> 0 | P14: ACCEPTABLE | Q14: =IF(P14="Acceptable",K14,0) -> 0 | AA14: 48426 | AD14: Song/Music
A15: 3 | E15: SELECT OPTION | F15: SELECT OPTION | K15: =IF(ISBLANK(B15),0,0+IF(ISBLANK(E15),0,0+IF(ISBLANK(G15),0,0+IF(ISBLANK(J15),0,0+IF(F15="New Creation",20,0+IF(F15="Own Work",10,0+IF(F15="Work of Others",10,0))))))) -> 0 | P15: ACCEPTABLE | Q15: =IF(P15="Acceptable",K15,0) -> 0 | AD15: Choreography/Dance
A16: 4 | E16: SELECT OPTION | F16: SELECT OPTION | K16: =IF(ISBLANK(B16),0,0+IF(ISBLANK(E16),0,0+IF(ISBLANK(G16),0,0+IF(ISBLANK(J16),0,0+IF(F16="New Creation",20,0+IF(F16="Own Work",10,0+IF(F16="Work of Others",10,0))))))) -> 0 | P16: ACCEPTABLE | Q16: =IF(P16="Acceptable",H16,0) -> 0 | AD16: Drama/Theater
A17: 5 | E17: SELECT OPTION | F17: SELECT OPTION | K17: =IF(ISBLANK(B17),0,0+IF(ISBLANK(E17),0,0+IF(ISBLANK(G17),0,0+IF(ISBLANK(J17),0,0+IF(F17="New Creation",20,0+IF(F17="Own Work",10,0+IF(F17="Work of Others",10,0))))))) -> 0 | P17: ACCEPTABLE | Q17: =IF(P17="Acceptable",H17,0) -> 0 | AD17: Others
A18: 6 | E18: SELECT OPTION | F18: SELECT OPTION | K18: =IF(ISBLANK(B18),0,0+IF(ISBLANK(E18),0,0+IF(ISBLANK(G18),0,0+IF(ISBLANK(J18),0,0+IF(F18="New Creation",20,0+IF(F18="Own Work",10,0+IF(F18="Work of Others",10,0))))))) -> 0 | P18: ACCEPTABLE | Q18: =IF(P18="Acceptable",H18,0) -> 0
A19: 7 | E19: SELECT OPTION | F19: SELECT OPTION | K19: =IF(ISBLANK(B19),0,0+IF(ISBLANK(E19),0,0+IF(ISBLANK(G19),0,0+IF(ISBLANK(J19),0,0+IF(F19="New Creation",20,0+IF(F19="Own Work",10,0+IF(F19="Work of Others",10,0))))))) -> 0 | P19: ACCEPTABLE | Q19: =IF(P19="Acceptable",H19,0) -> 0
A20: 8 | E20: SELECT OPTION | F20: SELECT OPTION | K20: =IF(ISBLANK(B20),0,0+IF(ISBLANK(E20),0,0+IF(ISBLANK(G20),0,0+IF(ISBLANK(J20),0,0+IF(F20="New Creation",20,0+IF(F20="Own Work",10,0+IF(F20="Work of Others",10,0))))))) -> 0 | P20: ACCEPTABLE | Q20: =IF(P20="Acceptable",H20,0) -> 0
J21: TOTAL | K21: =SUM(K13:K20) -> 0 | Q21: =SUM(Q13:Q20) -> 0
A23: 1.2 | B23: EXHIBITION (e.g. VISUAL ART, ARCHITECTURE, FILM AND MULTIMEDIA) | N23: =B23 -> EXHIBITION (e.g. VISUAL ART, ARCHITECTURE, FILM AND MULTIMEDIA)
A24: No. | B24: Title of Creative Work | E24: Type of Creative Work | F24: Classification | G24: Exhibition Date (mm/dd/yyyy) | H24: Venue of Exhibit | J24: Organizer | K24: Faculty Points | L24: Link to Evidence from Google Drive | N24: REMARKS | P24: Validation of Documents | Q24: Validated Score | R24: Explanation for Non-Acceptance | AB24: SELECT OPTION | AF24: SELECT OPTION
A25: 1 | E25: SELECT OPTION | F25: SELECT OPTION | K25: =IF(ISBLANK(B25),0,0+IF(E25="SELECT OPTION",0,0+IF(F25="SELECT OPTION",0,0+IF(ISBLANK(H25),0,0+IF(ISBLANK(J25),0,0+IF(ISBLANK(G25),0,20)))))) -> 0 | P25: Acceptable | Q25: =IF(P25="Acceptable",K25,0) -> 0 | AB25: Visual Arts | AF25: Painting/Drawing
A26: 2 | E26: SELECT OPTION | F26: SELECT OPTION | K26: =IF(ISBLANK(B26),0,0+IF(E26="SELECT OPTION",0,0+IF(F26="SELECT OPTION",0,0+IF(ISBLANK(H26),0,0+IF(ISBLANK(J26),0,0+IF(ISBLANK(G26),0,20)))))) -> 0 | P26: Acceptable | Q26: =IF(P26="Acceptable",K26,0) -> 0 | AB26: Architecture | AF26: Film/Short Film
A27: 3 | E27: SELECT OPTION | F27: SELECT OPTION | K27: =IF(ISBLANK(B27),0,0+IF(E27="SELECT OPTION",0,0+IF(F27="SELECT OPTION",0,0+IF(ISBLANK(H27),0,0+IF(ISBLANK(J27),0,0+IF(ISBLANK(G27),0,20)))))) -> 0 | P27: Acceptable | Q27: =IF(P27="Acceptable",H27,0) -> 0 | AB27: Film | AF27: Architectural Design
A28: 4 | E28: SELECT OPTION | F28: SELECT OPTION | K28: =IF(ISBLANK(B28),0,0+IF(E28="SELECT OPTION",0,0+IF(F28="SELECT OPTION",0,0+IF(ISBLANK(H28),0,0+IF(ISBLANK(J28),0,0+IF(ISBLANK(G28),0,20)))))) -> 0 | P28: Acceptable | Q28: =IF(P28="Acceptable",H28,0) -> 0 | AB28: Multimedia | AF28: Multimedia
A29: 5 | E29: SELECT OPTION | F29: SELECT OPTION | K29: =IF(ISBLANK(B29),0,0+IF(E29="SELECT OPTION",0,0+IF(F29="SELECT OPTION",0,0+IF(ISBLANK(H29),0,0+IF(ISBLANK(J29),0,0+IF(ISBLANK(G29),0,20)))))) -> 0 | P29: Acceptable | Q29: =IF(P29="Acceptable",H29,0) -> 0 | AF29: Photography
A30: 6 | E30: SELECT OPTION | F30: SELECT OPTION | K30: =IF(ISBLANK(B30),0,0+IF(E30="SELECT OPTION",0,0+IF(F30="SELECT OPTION",0,0+IF(ISBLANK(H30),0,0+IF(ISBLANK(J30),0,0+IF(ISBLANK(G30),0,20)))))) -> 0 | P30: Acceptable | Q30: =IF(P30="Acceptable",H30,0) -> 0 | AF30: Sculpture
A31: 7 | E31: SELECT OPTION | F31: SELECT OPTION | K31: =IF(ISBLANK(B31),0,0+IF(E31="SELECT OPTION",0,0+IF(F31="SELECT OPTION",0,0+IF(ISBLANK(H31),0,0+IF(ISBLANK(J31),0,0+IF(ISBLANK(G31),0,20)))))) -> 0 | P31: Acceptable | Q31: =IF(P31="Acceptable",H31,0) -> 0 | AF31: Others
J32: TOTAL | K32: =SUM(K25:K31) -> 0 | Q32: =SUM(Q25:Q31) -> 0
A34: 1.3 | B34: JURIED OR PEER-REVIEWED DESIGNS (e.g. ARCHITECTURE, ENGINEERING, INDUSTRIAL DESIGN) | N34: =B34 -> JURIED OR PEER-REVIEWED DESIGNS (e.g. ARCHITECTURE, ENGINEERING, INDUSTRIAL DESIGN)
A35: No. | B35: Title of Design | E35: Classification | F35: Reviewer, Evaluator or Its Equivalent | G35: Activity/Exhibition Date (mm/dd/yyyy) | H35: Venue of Activity/Exhibit | J35: Organizer | K35: Faculty Points | L35: Link to Evidence from Google Drive | N35: REMARKS | P35: Validation of Documents | Q35: Validated Score | R35: Explanation for Non-Acceptance | AB35: SELECT OPTION
A36: 1 | E36: SELECT OPTION | K36: =IF(ISBLANK(B36),0,0+IF(E36="SELECT OPTION",0,0+IF(ISBLANK(F36),0,0+IF(ISBLANK(H36),0,0+IF(ISBLANK(J36),0,0+IF(ISBLANK(G36),0,20)))))) -> 0 | P36: Acceptable | Q36: =IF(P36="Acceptable",K36,0) -> 0 | AB36: Architecture
A37: 2 | E37: SELECT OPTION | K37: =IF(ISBLANK(B37),0,0+IF(E37="SELECT OPTION",0,0+IF(ISBLANK(F37),0,0+IF(ISBLANK(H37),0,0+IF(ISBLANK(J37),0,0+IF(ISBLANK(G37),0,20)))))) -> 0 | P37: Acceptable | Q37: =IF(P37="Acceptable",K37,0) -> 0 | AB37: Engineering
A38: 3 | E38: SELECT OPTION | K38: =IF(ISBLANK(B38),0,0+IF(E38="SELECT OPTION",0,0+IF(ISBLANK(F38),0,0+IF(ISBLANK(H38),0,0+IF(ISBLANK(J38),0,0+IF(ISBLANK(G38),0,20)))))) -> 0 | P38: Acceptable | Q38: =IF(P38="Acceptable",I38,0) -> 0 | AB38: Industrial Design
A39: 4 | E39: SELECT OPTION | K39: =IF(ISBLANK(B39),0,0+IF(E39="SELECT OPTION",0,0+IF(ISBLANK(F39),0,0+IF(ISBLANK(H39),0,0+IF(ISBLANK(J39),0,0+IF(ISBLANK(G39),0,20)))))) -> 0 | P39: Acceptable | Q39: =IF(P39="Acceptable",I39,0) -> 0
A40: 5 | E40: SELECT OPTION | K40: =IF(ISBLANK(B40),0,0+IF(E40="SELECT OPTION",0,0+IF(ISBLANK(F40),0,0+IF(ISBLANK(H40),0,0+IF(ISBLANK(J40),0,0+IF(ISBLANK(G40),0,20)))))) -> 0 | P40: Acceptable | Q40: =IF(P40="Acceptable",I40,0) -> 0
A41: 6 | E41: SELECT OPTION | K41: =IF(ISBLANK(B41),0,0+IF(E41="SELECT OPTION",0,0+IF(ISBLANK(F41),0,0+IF(ISBLANK(H41),0,0+IF(ISBLANK(J41),0,0+IF(ISBLANK(G41),0,20)))))) -> 0 | P41: Acceptable | Q41: =IF(P41="Acceptable",I41,0) -> 0
A42: 7 | E42: SELECT OPTION | K42: =IF(ISBLANK(B42),0,0+IF(E42="SELECT OPTION",0,0+IF(ISBLANK(F42),0,0+IF(ISBLANK(H42),0,0+IF(ISBLANK(J42),0,0+IF(ISBLANK(G42),0,20)))))) -> 0 | P42: Acceptable | Q42: =IF(P42="Acceptable",I42,0) -> 0
J43: TOTAL | K43: =SUM(K36:K42) -> 0 | Q43: =SUM(Q36:Q42) -> 0
A45: 1.4 | B45: LITERARY PUBLICATIONS (e.g. NOVEL, SHORT STORY, ESSAY AND POETRY) | N45: =B45 -> LITERARY PUBLICATIONS (e.g. NOVEL, SHORT STORY, ESSAY AND POETRY)
...

Sheet KRA II
A1: FACULTY POSITION RECLASSIFICATION FOR SUCs | K1: =A1 -> FACULTY POSITION RECLASSIFICATION FOR SUCs | M1: =A1 -> FACULTY POSITION RECLASSIFICATION FOR SUCs
A3: KRA II - RESEARCH, INNOVATION AND CREATIVE WORK | M3: =A3 -> KRA II - RESEARCH, INNOVATION AND CREATIVE WORK
A4: SUMMARY OF POINTS | K4: =A3 -> KRA II - RESEARCH, INNOVATION AND CREATIVE WORK | M4: =A4 -> SUMMARY OF POINTS
