Workbook
Name _Hlk52200068: 'ISS-FACULTY'!$A$8
Name _Hlk70067385: 'ISS-FACULTY'!$A$12
Name _Hlk70067443: 'ISS-FACULTY'!#REF!
Name _Hlk70607563: 'ISS-FACULTY'!#REF!
Name _Hlk70998323: 'ISS-FACULTY'!#REF!
Name _Hlk71030296: 'ISS-FACULTY'!#REF!
Name _Hlk71043400: 'ISS-FACULTY'!#REF!
Name _Hlk71049332: 'ISS-FACULTY'!#REF!
Name _Hlk71055540: 'ISS-FACULTY'!#REF!
Name _Hlk71069142: 'ISS-FACULTY'!#REF!
Name _Hlk71538176: 'ISS-FACULTY'!#REF!
Name _Hlk83620185: 'ISS-FACULTY'!#REF!
Name _Hlk84255927: 'ISS-FACULTY'!#REF!

Sheet Request Form
B2: SUC FACULTY POSITION RECLASSIFICATION | AA2: SELECT OPTION | AC2: SELECT OPTION
B3: REQUEST FORM | AA3: INSTRUCTOR I | AC3: NEW APPOINTMENT
AA4: INSTRUCTOR II | AC4: INSTITUTIONAL PROMOTION
B5: PERSONAL INFORMATION | AA5: INSTRUCTOR III | AC5: NBC 461
B6: LAST NAME: | AA6: ASSISTANT PROFESSOR I
B7: FIRST NAME, EXT.: | AA7: ASSISTANT PROFESSOR II
B8: MIDDLE NAME: | AA8: ASSISTANT PROFESSOR III
AA9: ASSISTANT PROFESSOR IV
B10: HIGHEST EDUCATIONAL ATTAINMENT | AA10: ASSOCIATE PROFESSOR I
B11: NAME OF DEGREE: | AA11: ASSOCIATE PROFESSOR II
B12: NAME OF HEI: | AA12: ASSOCIATE PROFESSOR III
B13: YEAR GRADUATED: | AA13: ASSOCIATE PROFESSOR IV
AA14: ASSOCIATE PROFESSOR V
B15: CURRENT EMPLOYMENT STATUS | AA15: PROFESSOR I
B16: CURRENT FACULTY RANK: | D16: SELECT OPTION | AA16: PROFESSOR II
B17: MODE OF APPOINTMENT: | D17: SELECT OPTION | AA17: PROFESSOR III
B18: DATE OF APPOINTMENT: | AA18: PROFESSOR IV
B19: NAME OF SUC: | AA19: PROFESSOR V
B20: CAMPUS: | AA20: PROFESSOR VI
B21: ADDRESS: | AA21: COLLEGE PROFESSOR
AA22: UNIVERSITY PROFESSOR
B23: Attached to this request form are my self-accomplished Individual Summary Sheet (ISS) and its attached forms; checklist of evidence submitted; and photocopy of the sets of evidence based on my ISS. The electronic copies of the ISS and the evidence are available in my google drive that I will willingly share with the Evaluation Committees for the validation of the information submitted.
B25: I attest that all information provided in this request for position reclassification are true, accurate and complete. I understand that any falsification of these documents may lead to my disqualification from position reclassification for this evaluation cycle.
B29: <Signature and Printed Name of Faculty>
B30: <date signed>

Sheet Form1_A
B1: KRA I - INSTRUCTION | P1: =B1 -> KRA I - INSTRUCTION | AB1: SELECT OPTION
AB2: NOT APPLICABLE
B3: LAST NAME: | E3: ='Request Form'!C6 -> 0 | P3: =B3 -> LAST NAME: | Q3: =E3 -> 0 | AB3: ON APPROVED STUDY LEAVE
B4: FIRST NAME, EXT.: | E4: ='Request Form'!C7 -> 0 | P4: =B4 -> FIRST NAME, EXT.: | Q4: =E4 -> 0 | AB4: ON APPROVED SABBATICAL LEAVE
B5: MIDDLE NAME: | E5: ='Request Form'!C8 -> 0 | P5: =B5 -> MIDDLE NAME: | Q5: =E5 -> 0 | AB5: ON APPROVED MATERNITY LEAVE
B7: CRITERION A - TEACHING EFFECTIVENESS (MAX = 60 POINTS) | M7: =B7 -> CRITERION A - TEACHING EFFECTIVENESS (MAX = 60 POINTS) | P7: =B7 -> CRITERION A - TEACHING EFFECTIVENESS (MAX = 60 POINTS)
B9: 1. | C9: FACULTY PERFORMANCE. Enter average rating received by the faculty/semester. For newly appointed faculty from private HEI, LUCs, TESDA/DepEd schools who still decided to proceed with the evaluation, put "0" in semesters with no student and supervisor's evaluation. | AB9: ACCEPTABLE
AB10: NOT ACCEPTABLE
B12: 1.1 | C12: STUDENT EVALUATION (60%) | M12: =C12 -> STUDENT EVALUATION (60%) | P12: =C12 -> STUDENT EVALUATION (60%)
B14: NUMBER OF SEMESTERS THAT WILL BE DEDUCTED FROM THE DIVISOR, IF APPLICABLE → | K14: 0 | AB14: 0
AB15: 1
B16: REASON FOR REDUCING THE DIVISOR | H16: SELECT OPTION | J16: <Link to Evidence from Google Drive> | AB16: 2
AB17: 3
C18: Evaluation Period | F18: AVERAGE STUDENT EVALUATION RATING PER SEMESTER | AB18: 4
F19: 1st SEMESTER | H19: Link to Evidence from Google Drive | I19: 2nd SEMESTER | K19: Link to Evidence from Google Drive | M19: REMARKS 1st Semester | N19: REMARKS 2nd Semester | P19: 1st SEM Rating as Validated | Q19: Ratings | R19: Explanation for Non-Acceptance | S19: 2nd SEM Rating as Validated | T19: Ratings | U19: Explanation for Non-Acceptance | AB19: 5
B20: a) | C20: AY 2019-2020 | F20: 0 | I20: 0 | P20: ACCEPTABLE | Q20: =IF(P20="Acceptable",F20,"") -> 0 | S20: ACCEPTABLE | T20: =IF(S20="Acceptable",I20,"") -> 0 | AB20: 6
B21: b) | C21: AY 2020-2021 | F21: 0 | I21: 0 | P21: ACCEPTABLE | Q21: =IF(P21="Acceptable",F21,"") -> 0 | S21: ACCEPTABLE | T21: =IF(S21="Acceptable",I21,"") -> 0 | AB21: 7
B22: c) | C22: AY 2021-2022 | F22: 0 | I22: 0 | P22: ACCEPTABLE | Q22: =IF(P22="Acceptable",F22,"") -> 0 | S22: ACCEPTABLE | T22: =IF(S22="Acceptable",I22,"") -> 0 | AB22: 8
B23: d) | C23: AY 2022-2023 | F23: 0 | I23: 0 | P23: ACCEPTABLE | Q23: =IF(P23="Acceptable",F23,"") -> 0 | S23: ACCEPTABLE | T23: =IF(S23="Acceptable",I23,"") -> 0
B25: OVERALL AVERAGE RATING | K25: =IF(H16="NOT APPLICABLE",AVERAGE(F20:G23,I20:J23),0+IF(H16="ON APPROVED STUDY LEAVE",SUM(F20:G23,I20:J23)/(8-K14),0)+IF(H16="ON APPROVED SABBATICAL LEAVE",SUM(F20:G23,I20:J23)/(8-K14),0+IF(H16="ON APPROVED MATERNITY LEAVE",SUM(F20:G23,I20:J23)/(8-K14),0)++IF(H16="SUSPENSION OF EVALUATION",SUM(F20:G23,I20:J23)/(8-K14),0))) -> 0 | P25: VALIDATED RATING | R25: =IF(H16="NOT APPLICABLE",AVERAGE(Q20:Q23,T20:T23),0+IF(H16="ON APPROVED STUDY LEAVE",SUM(Q20:Q23,T20:T23)/(8-K14),0)+IF(H16="ON APPROVED SABBATICAL LEAVE",SUM(Q20:Q23,T20:T23)/(8-K14),0+IF(H16="ON APPROVED MATERNITY LEAVE",SUM(Q20:Q23,T20:T23)/(8-K14),0)++IF(H16="SUSPENSION OF EVALUATION",SUM(Q20:Q23,T20:T23)/(8-K14),0))) -> 0 | S25: VALIDATED SCORE | U25: =R25*0.36 -> 0
B26: FACULTY SCORE | K26: =K25*0.36 -> 0
B28: 1.2 | C28: SUPERVISOR'S EVALUATION (40%) | M28: =C28 -> SUPERVISOR'S EVALUATION (40%)
B30: NUMBER OF SEMESTERS THAT WILL BE DEDUCTED FROM THE DIVISOR, IF APPLICABLE → | K30: 0
B32: REASON FOR REDUCING THE DIVISOR | H32: NOT APPLICABLE | J32: <Link to Evidence from Google Drive> | P32: =C28 -> SUPERVISOR'S EVALUATION (40%)
B34: Evaluation Period | F34: SUPERVISOR'S RATING PER SEMESTER | AB34: SELECT OPTION
F35: 1st SEMESTER | H35: Link to Evidence from Google Drive | I35: 2nd SEMESTER | K35: Link to Evidence from Google Drive | M35: REMARKS 1st Semester | N35: REMARKS 2nd Semester | P35: 1st SEM Rating as Validated | Q35: Ratings | R35: Explanation for Non-Acceptance | S35: 2nd SEM Rating as Validated | T35: Ratings | U35: Explanation for Non-Acceptance | AB35: NOT APPLICABLE
B36: a) | C36: AY 2019-2020 | F36: 0 | I36: 0 | P36: ACCEPTABLE | Q36: =IF(P36="Acceptable",F36,"") -> 0 | S36: ACCEPTABLE | T36: =IF(S36="Acceptable",I36,"") -> 0 | AB36: ON APPROVED STUDY LEAVE
B37: b) | C37: AY 2020-2021 | F37: 0 | I37: 0 | P37: ACCEPTABLE | Q37: =IF(P37="Acceptable",F37,"") -> 0 | S37: ACCEPTABLE | T37: =IF(S37="Acceptable",I37,"") -> 0 | AB37: ON APPROVED SABBATICAL LEAVE
B38: c) | C38: AY 2021-2022 | F38: 0 | I38: 0 | P38: ACCEPTABLE | Q38: =IF(P38="Acceptable",F38,"") -> 0 | S38: ACCEPTABLE | T38: =IF(S38="Acceptable",I38,"") -> 0 | AB38: ON APPROVED MATERNITY LEAVE
B39: d) | C39: AY 2022-2023 | F39: 0 | I39: 0 | P39: ACCEPTABLE | Q39: =IF(P39="Acceptable",F39,"") -> 0 | S39: ACCEPTABLE | T39: =IF(S39="Acceptable",I39,"") -> 0
B41: OVERALL AVERAGE RATING | K41: =IF(H32="NOT APPLICABLE",AVERAGE(F36:G39,I36:J39),0+IF(H32="ON APPROVED STUDY LEAVE",SUM(F36:G39,I36:J39)/(8-K30),0)+IF(H32="ON APPROVED SABBATICAL LEAVE",SUM(F36:G39,I36:J39)/(8-K30),0+IF(H32="ON APPROVED MATERNITY LEAVE",SUM(F36:G39,I36:J39)/(8-K30),0))) -> 0 | P41: VALIDATED RATING | R41: =IF(H32="NOT APPLICABLE",AVERAGE(Q36:Q39,T36:T39),0+IF(H32="ON APPROVED STUDY LEAVE",SUM(Q36:Q39,T36:T39)/(8-K30),0)+IF(H32="ON APPROVED SABBATICAL LEAVE",SUM(Q36:Q39,T36:T39)/(8-K30),0+IF(H32="ON APPROVED MATERNITY LEAVE",SUM(Q36:Q39,T36:T39)/(8-K30),0))) -> 0 | S41: VALIDATED SCORE | U41: =R41*0.24 -> 0
B42: FACULTY SCORE | K42: =K41*0.24 -> 0
C44: Prepared by: | I44: Evaluated by: | P44: Validated by:
C47: Name of Faculty and Signature | I47: Name of IEC Member and Signature | P47: Name of REC Member and Signature
C48: Date: | I48: Date: | P48: Date:
I51: Name of IEC Chair and Signature | P51: Name of REC Chair and Signature
I52: Date: | P52: Date:

Sheet Form1_B&C
A1: KRA I - INSTRUCTION | O1: =A1 -> KRA I - INSTRUCTION | AA1: SELECT OPTION
AA2: Textbook
A3: ='Request Form'!B6 -> LAST NAME: | C3: =Form1_A!E3 -> 0 | O3: =A3 -> LAST NAME: | P3: =C3 -> 0 | AA3: Textbook Chapter
A4: ='Request Form'!B7 -> FIRST NAME, EXT.: | C4: =Form1_A!E4 -> 0 | O4: =A4 -> FIRST NAME, EXT.: | P4: =C4 -> 0 | AA4: Manual/Module
A5: ='Request Form'!B8 -> MIDDLE NAME: | C5: =Form1_A!E5 -> 0 | O5: =A5 -> MIDDLE NAME: | P5: =C5 -> 0 | AA5: Multimedia Teaching Material
AA6: Testing Material
A7: CRITERION B - CURRICULUM AND INSTRUCTIONAL MATERIALS DEVELOPMENT (MAX = 30 POINTS) | M7: =A7 -> CRITERION B - CURRICULUM AND INSTRUCTIONAL MATERIALS DEVELOPMENT (MAX = 30 POINTS) | O7: =A7 -> CRITERION B - CURRICULUM AND INSTRUCTIONAL MATERIALS DEVELOPMENT (MAX = 30 POINTS)
AA8: Legend:
A9: 1. | B9: FOR EVERY INSTRUCTIONAL MATERIAL DEVELOPED AND APPROVED FOR USE | M9: =B9 -> FOR EVERY INSTRUCTIONAL MATERIAL DEVELOPED AND APPROVED FOR USE | O9: =B9 -> FOR EVERY INSTRUCTIONAL MATERIAL DEVELOPED AND APPROVED FOR USE | AA9: ACCEPTABLE
A10: 1.1 | B10: SOLE AUTHORSHIP | M10: =B10 -> SOLE AUTHORSHIP | O10: =B10 -> SOLE AUTHORSHIP | AA10: NOT ACCEPTABLE
A11: No. | B11: Title of Instructional Material | D11: Type of Instructional Material | E11: Reviewer or Its Equivalent | F11: Publisher/ Repository | G11: Date Published (mm/dd/yyyy) | H11: Date Approved for Use (mm/dd/yyyy) | I11: Faculty Score | J11: Link to Evidence from Google Drive | M11: REMARKS | O11: Validation of Documents | P11: Validated Score | Q11: Explanation for Non-Acceptance
A12: 1 | D12: SELECT OPTION | I12: =IF(ISBLANK(B12),0,0+IF(ISBLANK(H12),0,0+IF(ISBLANK(D12),0,0+IF(D12="Textbook",30,0+IF(D12="Textbook Chapter",10,0+IF(D12="Manual/Module",16,0+IF(D12="Multimedia Teaching Material",16,0+IF(D12="Testing Material",10,0)))))))) -> 0 | O12: ACCEPTABLE | P12: =IF(O12="Acceptable",I12,0) -> 0
A13: 2 | D13: SELECT OPTION | I13: =IF(ISBLANK(B13),0,0+IF(ISBLANK(H13),0,0+IF(ISBLANK(D13),0,0+IF(D13="Textbook",30,0+IF(D13="Textbook Chapter",10,0+IF(D13="Manual/Module",16,0+IF(D13="Multimedia Teaching Material",16,0+IF(D13="Testing Material",10,0)))))))) -> 0 | O13: ACCEPTABLE | P13: =IF(O13="Acceptable",I13,0) -> 0
A14: 3 | D14: Manual/Module | I14: =IF(ISBLANK(B14),0,0+IF(ISBLANK(H14),0,0+IF(ISBLANK(D14),0,0+IF(D14="Textbook",30,0+IF(D14="Textbook Chapter",10,0+IF(D14="Manual/Module",16,0+IF(D14="Multimedia Teaching Material",16,0+IF(D14="Testing Material",10,0)))))))) -> 0 | O14: ACCEPTABLE | P14: =IF(O14="Acceptable",I14,0) -> 0
A15: 4 | D15: SELECT OPTION | I15: =IF(ISBLANK(B15),0,0+IF(ISBLANK(H15),0,0+IF(ISBLANK(D15),0,0+IF(D15="Textbook",30,0+IF(D15="Textbook Chapter",10,0+IF(D15="Manual/Module",16,0+IF(D15="Multimedia Teaching Material",16,0+IF(D15="Testing Material",10,0)))))))) -> 0 | O15: ACCEPTABLE | P15: =IF(O15="Acceptable",I15,0) -> 0
A16: 5 | D16: SELECT OPTION | I16: =IF(ISBLANK(B16),0,0+IF(ISBLANK(H16),0,0+IF(ISBLANK(D16),0,0+IF(D16="Textbook",30,0+IF(D16="Textbook Chapter",10,0+IF(D16="Manual/Module",16,0+IF(D16="Multimedia Teaching Material",16,0+IF(D16="Testing Material",10,0)))))))) -> 0 | O16: ACCEPTABLE | P16: =IF(O16="Acceptable",I16,0) -> 0
A17: 6 | D17: SELECT OPTION | I17: =IF(ISBLANK(B17),0,0+IF(ISBLANK(H17),0,0+IF(ISBLANK(D17),0,0+IF(D17="Textbook",30,0+IF(D17="Textbook Chapter",10,0+IF(D17="Manual/Module",16,0+IF(D17="Multimedia Teaching Material",16,0+IF(D17="Testing Material",10,0)))))))) -> 0 | O17: ACCEPTABLE | P17: =IF(O17="Acceptable",I17,0) -> 0
A18: 7 | D18: SELECT OPTION | I18: =IF(ISBLANK(B18),0,0+IF(ISBLANK(H18),0,0+IF(ISBLANK(D18),0,0+IF(D18="Textbook",30,0+IF(D18="Textbook Chapter",10,0+IF(D18="Manual/Module",16,0+IF(D18="Multimedia Teaching Material",16,0+IF(D18="Testing Material",10,0)))))))) -> 0 | O18: ACCEPTABLE | P18: =IF(O18="Acceptable",I18,0) -> 0
A19: 8 | D19: SELECT OPTION | I19: =IF(ISBLANK(B19),0,0+IF(ISBLANK(H19),0,0+IF(ISBLANK(D19),0,0+IF(D19="Textbook",30,0+IF(D19="Textbook Chapter",10,0+IF(D19="Manual/Module",16,0+IF(D19="Multimedia Teaching Material",16,0+IF(D19="Testing Material",10,0)))))))) -> 0 | O19: ACCEPTABLE | P19: =IF(O19="Acceptable",I19,0) -> 0
A20: 9 | D20: SELECT OPTION | I20: =IF(ISBLANK(B20),0,0+IF(ISBLANK(H20),0,0+IF(ISBLANK(D20),0,0+IF(D20="Textbook",30,0+IF(D20="Textbook Chapter",10,0+IF(D20="Manual/Module",16,0+IF(D20="Multimedia Teaching Material",16,0+IF(D20="Testing Material",10,0)))))))) -> 0 | O20: ACCEPTABLE | P20: =IF(O20="Acceptable",I20,0) -> 0
A21: 10 | D21: SELECT OPTION | I21: =IF(ISBLANK(B21),0,0+IF(ISBLANK(H21),0,0+IF(ISBLANK(D21),0,0+IF(D21="Textbook",30,0+IF(D21="Textbook Chapter",10,0+IF(D21="Manual/Module",16,0+IF(D21="Multimedia Teaching Material",16,0+IF(D21="Testing Material",10,0)))))))) -> 0 | O21: ACCEPTABLE | P21: =IF(O21="Acceptable",I21,0) -> 0
A22: 11 | D22: SELECT OPTION | I22: =IF(ISBLANK(B22),0,0+IF(ISBLANK(H22),0,0+IF(ISBLANK(D22),0,0+IF(D22="Textbook",30,0+IF(D22="Textbook Chapter",10,0+IF(D22="Manual/Module",16,0+IF(D22="Multimedia Teaching Material",16,0+IF(D22="Testing Material",10,0)))))))) -> 0 | O22: ACCEPTABLE | P22: =IF(O22="Acceptable",I22,0) -> 0
A23: 12 | D23: SELECT OPTION | I23: =IF(ISBLANK(B23),0,0+IF(ISBLANK(H23),0,0+IF(ISBLANK(D23),0,0+IF(D23="Textbook",30,0+IF(D23="Textbook Chapter",10,0+IF(D23="Manual/Module",16,0+IF(D23="Multimedia Teaching Material",16,0+IF(D23="Testing Material",10,0)))))))) -> 0 | O23: ACCEPTABLE | P23: =IF(O23="Acceptable",I23,0) -> 0
... A26: 15 | D26: SELECT OPTION | I26: =IF(ISBLANK(B26),0,0+IF(ISBLANK(H26),0,0+IF(ISBLANK(D26),0,0+IF(D26="Textbook",30,0+IF(D26="Textbook Chapter",10,0+IF(D26="Manual/Module",16,0+IF(D26="Multimedia Teaching Material",16,0+IF(D26="Testing Material",10,0)))))))) -> 0 | O26: ACCEPTABLE | P26: =IF(O26="Acceptable",I26,0) -> 0
H27: TOTAL | I27: =SUM(I12:I26) -> 0 | P27: =SUM(P12:P26) -> 0
A29: 1.2 | B29: CO-AUTHORSHIP | M29: =B29 -> CO-AUTHORSHIP | O29: =B29 -> CO-AUTHORSHIP
A30: Note: Every IM with Multiple Authors should be Accompanied by a Certification using FORM I-B1a
A31: No. | B31: Title of IM | D31: Type of IM | E31: Reviewer or Its Equivalent | F31: Publisher/ Repository | G31: Date Published (mm/dd/yyyy) | H31: Date Approved for Use (mm/dd/yyyy) | I31: % Contribution (write in decimal form) | J31: Faculty Score | K31: Link to Evidence from Google Drive | M31: REMARKS | O31: Validation of Documents | P31: Validated % Contribution (specify new %, if applicable) | Q31: Validated Score | R31: Explanation for Non-Acceptance
A32: 1 | D32: SELECT OPTION | I32: 0 | J32: =(IF(ISBLANK(B32),0,0+IF(ISBLANK(H32),0,0+IF(ISBLANK(D32),0,0+IF(D32="Textbook",30,0+IF(D32="Textbook Chapter",10,0+IF(D32="Manual/Module",16,0+IF(D32="Multimedia Teaching Material",16,0+IF(D32="Testing Material",10,0)))))))))*I32 -> 0 | O32: ACCEPTABLE | P32: =IF(O32="Acceptable",I32,0) -> 0 | Q32: =(IF(ISBLANK(B32),0,0+IF(ISBLANK(H32),0,0+IF(ISBLANK(D32),0,0+IF(D32="Textbook",30,0+IF(D32="Textbook Chapter",10,0+IF(D32="Manual/Module",16,0+IF(D32="Multimedia Teaching Material",16,0+IF(D32="Testing Material",10,0)))))))))*P32 -> 0
A33: 2 | D33: SELECT OPTION | I33: 0 | J33: =(IF(ISBLANK(B33),0,0+IF(ISBLANK(H33),0,0+IF(ISBLANK(D33),0,0+IF(D33="Textbook",30,0+IF(D33="Textbook Chapter",10,0+IF(D33="Manual/Module",16,0+IF(D33="Multimedia Teaching Material",16,0+IF(D33="Testing Material",10,0)))))))))*I33 -> 0 | O33: ACCEPTABLE | P33: =IF(O33="Acceptable",I33,0) -> 0 | Q33: =(IF(ISBLANK(B33),0,0+IF(ISBLANK(H33),0,0+IF(ISBLANK(D33),0,0+IF(D33="Textbook",30,0+IF(D33="Textbook Chapter",10,0+IF(D33="Manual/Module",16,0+IF(D33="Multimedia Teaching Material",16,0+IF(D33="Testing Material",10,0)))))))))*P33 -> 0
A34: 3 | D34: SELECT OPTION | I34: 0 | J34: =(IF(ISBLANK(B34),0,0+IF(ISBLANK(H34),0,0+IF(ISBLANK(D34),0,0+IF(D34="Textbook",30,0+IF(D34="Textbook Chapter",10,0+IF(D34="Manual/Module",16,0+IF(D34="Multimedia Teaching Material",16,0+IF(D34="Testing Material",10,0)))))))))*I34 -> 0 | O34: ACCEPTABLE | P34: =IF(O34="Acceptable",I34,0) -> 0 | Q34: =(IF(ISBLANK(B34),0,0+IF(ISBLANK(H34),0,0+IF(ISBLANK(D34),0,0+IF(D34="Textbook",30,0+IF(D34="Textbook Chapter",10,0+IF(D34="Manual/Module",16,0+IF(D34="Multimedia Teaching Material",16,0+IF(D34="Testing Material",10,0)))))))))*P34 -> 0
A35: 4 | D35: SELECT OPTION | I35: 0 | J35: =(IF(ISBLANK(B35),0,0+IF(ISBLANK(H35),0,0+IF(ISBLANK(D35),0,0+IF(D35="Textbook",30,0+IF(D35="Textbook Chapter",10,0+IF(D35="Manual/Module",16,0+IF(D35="Multimedia Teaching Material",16,0+IF(D35="Testing Material",10,0)))))))))*I35 -> 0 | O35: ACCEPTABLE | P35: =IF(O35="Acceptable",I35,0) -> 0 | Q35: =(IF(ISBLANK(B35),0,0+IF(ISBLANK(H35),0,0+IF(ISBLANK(D35),0,0+IF(D35="Textbook",30,0+IF(D35="Textbook Chapter",10,0+IF(D35="Manual/Module",16,0+IF(D35="Multimedia Teaching Material",16,0+IF(D35="Testing Material",10,0)))))))))*P35 -> 0
A36: 5 | D36: SELECT OPTION | I36: 0 | J36: =(IF(ISBLANK(B36),0,0+IF(ISBLANK(H36),0,0+IF(ISBLANK(D36),0,0+IF(D36="Textbook",30,0+IF(D36="Textbook Chapter",10,0+IF(D36="Manual/Module",16,0+IF(D36="Multimedia Teaching Material",16,0+IF(D36="Testing Material",10,0)))))))))*I36 -> 0 | O36: ACCEPTABLE | P36: =IF(O36="Acceptable",I36,0) -> 0 | Q36: =(IF(ISBLANK(B36),0,0+IF(ISBLANK(H36),0,0+IF(ISBLANK(D36),0,0+IF(D36="Textbook",30,0+IF(D36="Textbook Chapter",10,0+IF(D36="Manual/Module",16,0+IF(D36="Multimedia Teaching Material",16,0+IF(D36="Testing Material",10,0)))))))))*P36 -> 0
A37: 6 | D37: SELECT OPTION | I37: 0 | J37: =(IF(ISBLANK(B37),0,0+IF(ISBLANK(H37),0,0+IF(ISBLANK(D37),0,0+IF(D37="Textbook",30,0+IF(D37="Textbook Chapter",10,0+IF(D37="Manual/Module",16,0+IF(D37="Multimedia Teaching Material",16,0+IF(D37="Testing Material",10,0)))))))))*I37 -> 0 | O37: ACCEPTABLE | P37: =IF(O37="Acceptable",I37,0) -> 0 | Q37: =(IF(ISBLANK(B37),0,0+IF(ISBLANK(H37),0,0+IF(ISBLANK(D37),0,0+IF(D37="Textbook",30,0+IF(D37="Textbook Chapter",10,0+IF(D37="Manual/Module",16,0+IF(D37="Multimedia Teaching Material",16,0+IF(D37="Testing Material",10,0)))))))))*P37 -> 0
A38: 7 | D38: SELECT OPTION | I38: 0 | J38: =(IF(ISBLANK(B38),0,0+IF(ISBLANK(H38),0,0+IF(ISBLANK(D38),0,0+IF(D38="Textbook",30,0+IF(D38="Textbook Chapter",10,0+IF(D38="Manual/Module",16,0+IF(D38="Multimedia Teaching Material",16,0+IF(D38="Testing Material",10,0)))))))))*I38 -> 0 | O38: ACCEPTABLE | P38: =IF(O38="Acceptable",I38,0) -> 0 | Q38: =(IF(ISBLANK(B38),0,0+IF(ISBLANK(H38),0,0+IF(ISBLANK(D38),0,0+IF(D38="Textbook",30,0+IF(D38="Textbook Chapter",10,0+IF(D38="Manual/Module",16,0+IF(D38="Multimedia Teaching Material",16,0+IF(D38="Testing Material",10,0)))))))))*P38 -> 0
A39: 8 | D39: SELECT OPTION | I39: 0 | J39: =(IF(ISBLANK(B39),0,0+IF(ISBLANK(H39),0,0+IF(ISBLANK(D39),0,0+IF(D39="Textbook",30,0+IF(D39="Textbook Chapter",10,0+IF(D39="Manual/Module",16,0+IF(D39="Multimedia Teaching Material",16,0+IF(D39="Testing Material",10,0)))))))))*I39 -> 0 | O39: ACCEPTABLE | P39: =IF(O39="Acceptable",I39,0) -> 0 | Q39: =(IF(ISBLANK(B39),0,0+IF(ISBLANK(H39),0,0+IF(ISBLANK(D39),0,0+IF(D39="Textbook",30,0+IF(D39="Textbook Chapter",10,0+IF(D39="Manual/Module",16,0+IF(D39="Multimedia Teaching Material",16,0+IF(D39="Testing Material",10,0)))))))))*P39 -> 0
A40: 9 | D40: SELECT OPTION | I40: 0 | J40: =(IF(ISBLANK(B40),0,0+IF(ISBLANK(H40),0,0+IF(ISBLANK(D40),0,0+IF(D40="Textbook",30,0+IF(D40="Textbook Chapter",10,0+IF(D40="Manual/Module",16,0+IF(D40="Multimedia Teaching Material",16,0+IF(D40="Testing Material",10,0)))))))))*I40 -> 0 | O40: ACCEPTABLE | P40: =IF(O40="Acceptable",I40,0) -> 0 | Q40: =(IF(ISBLANK(B40),0,0+IF(ISBLANK(H40),0,0+IF(ISBLANK(D40),0,0+IF(D40="Textbook",30,0+IF(D40="Textbook Chapter",10,0+IF(D40="Manual/Module",16,0+IF(D40="Multimedia Teaching Material",16,0+IF(D40="Testing Material",10,0)))))))))*P40 -> 0
A41: 10 | D41: SELECT OPTION | I41: 0 | J41: =(IF(ISBLANK(B41),0,0+IF(ISBLANK(H41),0,0+IF(ISBLANK(D41),0,0+IF(D41="Textbook",30,0+IF(D41="Textbook Chapter",10,0+IF(D41="Manual/Module",16,0+IF(D41="Multimedia Teaching Material",16,0+IF(D41="Testing Material",10,0)))))))))*I41 -> 0 | O41: ACCEPTABLE | P41: =IF(O41="Acceptable",I41,0) -> 0 | Q41: =(IF(ISBLANK(B41),0,0+IF(ISBLANK(H41),0,0+IF(ISBLANK(D41),0,0+IF(D41="Textbook",30,0+IF(D41="Textbook Chapter",10,0+IF(D41="Manual/Module",16,0+IF(D41="Multimedia Teaching Material",16,0+IF(D41="Testing Material",10,0)))))))))*P41 -> 0
A42: 11 | D42: SELECT OPTION | I42: 0 | J42: =(IF(ISBLANK(B42),0,0+IF(ISBLANK(H42),0,0+IF(ISBLANK(D42),0,0+IF(D42="Textbook",30,0+IF(D42="Textbook Chapter",10,0+IF(D42="Manual/Module",16,0+IF(D42="Multimedia Teaching Material",16,0+IF(D42="Testing Material",10,0)))))))))*I42 -> 0 | O42: ACCEPTABLE | P42: =IF(O42="Acceptable",I42,0) -> 0 | Q42: =(IF(ISBLANK(B42),0,0+IF(ISBLANK(H42),0,0+IF(ISBLANK(D42),0,0+IF(D42="Textbook",30,0+IF(D42="Textbook Chapter",10,0+IF(D42="Manual/Module",16,0+IF(D42="Multimedia Teaching Material",16,0+IF(D42="Testing Material",10,0)))))))))*P42 -> 0
A43: 12 | D43: SELECT OPTION | I43: 0 | J43: =(IF(ISBLANK(B43),0,0+IF(ISBLANK(H43),0,0+IF(ISBLANK(D43),0,0+IF(D43="Textbook",30,0+IF(D43="Textbook Chapter",10,0+IF(D43="Manual/Module",16,0+IF(D43="Multimedia Teaching Material",16,0+IF(D43="Testing Material",10,0)))))))))*I43 -> 0 | O43: ACCEPTABLE | P43: =IF(O43="Acceptable",I43,0) -> 0 | Q43: =(IF(ISBLANK(B43),0,0+IF(ISBLANK(H43),0,0+IF(ISBLANK(D43),0,0+IF(D43="Textbook",30,0+IF(D43="Textbook Chapter",10,0+IF(D43="Manual/Module",16,0+IF(D43="Multimedia Teaching Material",16,0+IF(D43="Testing Material",10,0)))))))))*P43 -> 0
... A46: 15 | D46: SELECT OPTION | I46: 0 | J46: =(IF(ISBLANK(B46),0,0+IF(ISBLANK(H46),0,0+IF(ISBLANK(D46),0,0+IF(D46="Textbook",30,0+IF(D46="Textbook Chapter",10,0+IF(D46="Manual/Module",16,0+IF(D46="Multimedia Teaching Material",16,0+IF(D46="Testing Material",10,0)))))))))*I46 -> 0 | O46: ACCEPTABLE | P46: =IF(O46="Acceptable",I46,0) -> 0 | Q46: =(IF(ISBLANK(B46),0,0+IF(ISBLANK(H46),0,0+IF(ISBLANK(D46),0,0+IF(D46="Textbook",30,0+IF(D46="Textbook Chapter",10,0+IF(D46="Manual/Module",16,0+IF(D46="Multimedia Teaching Material",16,0+IF(D46="Testing Material",10,0)))))))))*P46 -> 0
I47: TOTAL | J47: =SUM(J32:J46) -> 0 | Q47: =SUM(Q32:Q46) -> 0
A49: 2. | B49: ACADEMIC PROGRAMS DEVELOPED/REVISED AND IMPLEMENTED | M49: =B49 -> ACADEMIC PROGRAMS DEVELOPED/REVISED AND IMPLEMENTED | O49: =B49 -> ACADEMIC PROGRAMS DEVELOPED/REVISED AND IMPLEMENTED
A50: No. | B50: Name of Academic Degree Program (provide complete name of the program) | E50: Type of Program | F50: Board Approval (Board Reso. No.) | G50: Academic Year Implemented | H50: Role | I50: Faculty Score | J50: Link to Evidence from Google Drive | M50: REMARKS | O50: Validation of Documents | P50: Validated Score | Q50: Explanation for Non-Acceptance
A51: 1 | E51: SELECT OPTION | H51: SELECT OPTION | I51: =IF(ISBLANK(B51),0,0+IF(ISBLANK(G51),0,0+IF(E51="SELECT OPTION",0,0+IF(G51="SELECT OPTION",0,0+IF(H51="Lead",10,0+IF(H51="Contributor",5,0)))))) -> 0 | O51: ACCEPTABLE | P51: =IF(O51="Acceptable",I51,0) -> 0 | AB51: SELECT OPTION | AD51: SELECT OPTION
A52: 2 | E52: SELECT OPTION | H52: SELECT OPTION | I52: =IF(ISBLANK(B52),0,0+IF(ISBLANK(G52),0,0+IF(E52="SELECT OPTION",0,0+IF(G52="SELECT OPTION",0,0+IF(H52="Lead",10,0+IF(H52="Contributor",5,0)))))) -> 0 | O52: ACCEPTABLE | P52: =IF(O52="Acceptable",I52,0) -> 0 | AB52: Lead | AD52: 2019-2020
A53: 3 | E53: SELECT OPTION | H53: SELECT OPTION | I53: =IF(ISBLANK(B53),0,0+IF(ISBLANK(G53),0,0+IF(E53="SELECT OPTION",0,0+IF(G53="SELECT OPTION",0,0+IF(H53="Lead",10,0+IF(H53="Contributor",5,0)))))) -> 0 | O53: ACCEPTABLE | P53: =IF(O53="Acceptable",I53,0) -> 0 | AB53: Contributor | AD53: 2020-2021
A54: 4 | E54: SELECT OPTION | H54: SELECT OPTION | I54: =IF(ISBLANK(B54),0,0+IF(ISBLANK(G54),0,0+IF(E54="SELECT OPTION",0,0+IF(G54="SELECT OPTION",0,0+IF(H54="Lead",10,0+IF(H54="Contributor",5,0)))))) -> 0 | O54: ACCEPTABLE | P54: =IF(O54="Acceptable",I54,0) -> 0 | AD54: 2021-2022
A55: 5 | E55: SELECT OPTION | H55: SELECT OPTION | I55: =IF(ISBLANK(B55),0,0+IF(ISBLANK(G55),0,0+IF(E55="SELECT OPTION",0,0+IF(G55="SELECT OPTION",0,0+IF(H55="Lead",10,0+IF(H55="Contributor",5,0)))))) -> 0 | O55: ACCEPTABLE | P55: =IF(O55="Acceptable",I55,0) -> 0 | AD55: 2022-2023
A56: 6 | E56: SELECT OPTION | H56: SELECT OPTION | I56: =IF(ISBLANK(B56),0,0+IF(ISBLANK(G56),0,0+IF(E56="SELECT OPTION",0,0+IF(G56="SELECT OPTION",0,0+IF(H56="Lead",10,0+IF(H56="Contributor",5,0)))))) -> 0 | O56: ACCEPTABLE | P56: =IF(O56="Acceptable",I56,0) -> 0
A57: 7 | E57: SELECT OPTION | H57: SELECT OPTION | I57: =IF(ISBLANK(B57),0,0+IF(ISBLANK(G57),0,0+IF(E57="SELECT OPTION",0,0+IF(G57="SELECT OPTION",0,0+IF(H57="Lead",10,0+IF(H57="Contributor",5,0)))))) -> 0 | O57: ACCEPTABLE | P57: =IF(O57="Acceptable",I57,0) -> 0
A58: 8 | E58: SELECT OPTION | H58: SELECT OPTION | I58: =IF(ISBLANK(B58),0,0+IF(ISBLANK(G58),0,0+IF(E58="SELECT OPTION",0,0+IF(G58="SELECT OPTION",0,0+IF(H58="Lead",10,0+IF(H58="Contributor",5,0)))))) -> 0 | O58: ACCEPTABLE | P58: =IF(O58="Acceptable",I58,0) -> 0
A59: 9 | E59: SELECT OPTION | H59: SELECT OPTION | I59: =IF(ISBLANK(B59),0,0+IF(ISBLANK(G59),0,0+IF(E59="SELECT OPTION",0,0+IF(G59="SELECT OPTION",0,0+IF(H59="Lead",10,0+IF(H59="Contributor",5,0)))))) -> 0 | O59: ACCEPTABLE | P59: =IF(O59="Acceptable",I59,0) -> 0 | AB59: SELECT OPTION
A60: 10 | E60: SELECT OPTION | H60: SELECT OPTION | I60: =IF(ISBLANK(B60),0,0+IF(ISBLANK(G60),0,0+IF(E60="SELECT OPTION",0,0+IF(G60="SELECT OPTION",0,0+IF(H60="Lead",10,0+IF(H60="Contributor",5,0)))))) -> 0 | O60: ACCEPTABLE | P60: =IF(O60="Acceptable",I60,0) -> 0 | AB60: New Program
H61: TOTAL | I61: =SUM(I51:I60) -> 0 | P61: =SUM(P51:P60) -> 0 | AB61: Revised Program
A63: CRITERION C - THESIS, DISSERTATION AND MENTORSHIP SERVICES (MAX = 10 POINTS) | M63: =A63 -> CRITERION C - THESIS, DISSERTATION AND MENTORSHIP SERVICES (MAX = 10 POINTS) | O63: =A63 -> CRITERION C - THESIS, DISSERTATION AND MENTORSHIP SERVICES (MAX = 10 POINTS)
A65: 1. | B65: FOR SERVICES RENDERED TO STUDENTS AS: | M65: =B65 -> FOR SERVICES RENDERED TO STUDENTS AS: | O65: =B65 -> FOR SERVICES RENDERED TO STUDENTS AS:
A66: 1.1 | B66: ADVISER | M66: =B66 -> ADVISER | O66: =B66 -> ADVISER
A67: No. | B67: Requirement | E67: NO. OF STUDENT ADVISEE | I67: Faculty Score | J67: Link to Evidence from Google Drive | M67: REMARKS | O67: Validation of Documents | P67: Validated Score (specify new score, if applicable) | Q67: Explanation for Non-Acceptance
E68: AY 2019-2020 | F68: AY 2020-2021 | G68: AY 2021-2022 | H68: AY 2022-2023
A69: 1 | B69: SPECIAL/CAPSTONE PROJECT | E69: 0 | F69: 0 | G69: 0 | H69: 0 | I69: =(E69+F69+G69+H69)*3 -> 0 | O69: ACCEPTABLE | P69: =IF(O69="Acceptable",I69,0) -> 0
A70: 2 | B70: UNDERGRADUATE THESIS | E70: 0 | F70: 0 | G70: 0 | H70: 0 | I70: =(E70+F70+G70+H70)*5 -> 0 | O70: ACCEPTABLE | P70: =IF(O70="Acceptable",I70,0) -> 0
A71: 3 | B71: MASTER'S THESIS | E71: 0 | F71: 0 | G71: 0 | H71: 0 | I71: =(E71+F71+G71+H71)*8 -> 0 | O71: ACCEPTABLE | P71: =IF(O71="Acceptable",I71,0) -> 0
A72: 4 | B72: DISSERTATION | E72: 0 | F72: 0 | G72: 0 | H72: 0 | I72: =(E72+F72+G72+H72)*10 -> 0 | O72: ACCEPTABLE | P72: =IF(O72="Acceptable",I72,0) -> 0
B73: Total | H73: TOTAL | I73: =SUM(I69:I72) -> 0 | P73: =SUM(P69:P72) -> 0
A75: 1.2 | B75: PANEL | M75: =B75 -> PANEL | O75: =B75 -> PANEL
A76: No. | B76: Requirement | E76: NO. OF TIMES AS PANEL MEMBER | I76: Faculty Score | J76: Link to Evidence from Google Drive | M76: REMARKS | O76: Validation of Documents | P76: Validated Score (specify new score, if applicable) | Q76: Explanation for Non-Acceptance
E77: AY 2019-2020 | F77: AY 2020-2021 | G77: AY 2021-2022 | H77: AY 2022-2023
A78: 1 | B78: SPECIAL/CAPSTONE PROJECT | E78: 0 | F78: 0 | G78: 0 | H78: 0 | I78: =(E78+F78+G78+H78)*1 -> 0 | O78: ACCEPTABLE | P78: =IF(O78="Acceptable",I78,0) -> 0
A79: 2 | B79: UNDERGRADUATE THESIS | E79: 0 | F79: 0 | G79: 0 | H79: 0 | I79: =(E79+F79+G79+H79)*1 -> 0 | O79: ACCEPTABLE | P79: =IF(O79="Acceptable",I79,0) -> 0
A80: 3 | B80: MASTER'S THESIS | E80: 0 | F80: 0 | G80: 0 | H80: 0 | I80: =(E80+F80+G80+H80)*2 -> 0 | O80: ACCEPTABLE | P80: =IF(O80="Acceptable",I80,0) -> 0
A81: 4 | B81: DISSERTATION | E81: 0 | F81: 0 | G81: 0 | H81: 0 | I81: =(E81+F81+G81+H81)*2 -> 0 | O81: ACCEPTABLE | P81: =IF(O81="Acceptable",I81,0) -> 0
B82: Total | H82: TOTAL | I82: =SUM(I78:I81) -> 0 | P82: =SUM(P78:P81) -> 0
A84: 2. | B84: FOR SERVICES RENDERED AS MENTOR | M84: =B84 -> FOR SERVICES RENDERED AS MENTOR | O84: =B84 -> FOR SERVICES RENDERED AS MENTOR
A85: No. | B85: Name of the Academic Competition | D85: Name of Sponsor Organization | F85: Award Received | H85: Date Awarded (mm/dd/yyyy) | I85: Faculty Score | J85: Link to Evidence from Google Drive | M85: REMARKS | O85: Validation of Documents | P85: Validated Score | Q85: Explanation for Non-Acceptance
A86: 1 | I86: =IF(ISBLANK(B86),0,0+IF(ISBLANK(D86),0,0+IF(ISBLANK(F86),0,0+IF(ISBLANK(H86),0,3)))) -> 0 | O86: ACCEPTABLE | P86: =IF(O86="Acceptable",I86,0) -> 0
A87: 2 | I87: =IF(ISBLANK(B87),0,0+IF(ISBLANK(D87),0,0+IF(ISBLANK(F87),0,0+IF(ISBLANK(H87),0,3)))) -> 0 | O87: ACCEPTABLE | P87: =IF(O87="Acceptable",I87,0) -> 0
A88: 3 | I88: =IF(ISBLANK(B88),0,0+IF(ISBLANK(D88),0,0+IF(ISBLANK(F88),0,0+IF(ISBLANK(H88),0,3)))) -> 0 | O88: ACCEPTABLE | P88: =IF(O88="Acceptable",I88,0) -> 0
A89: 4 | I89: =IF(ISBLANK(B89),0,0+IF(ISBLANK(D89),0,0+IF(ISBLANK(F89),0,0+IF(ISBLANK(H89),0,3)))) -> 0 | O89: ACCEPTABLE | P89: =IF(O89="Acceptable",I89,0) -> 0
A90: 5 | I90: =IF(ISBLANK(B90),0,0+IF(ISBLANK(D90),0,0+IF(ISBLANK(F90),0,0+IF(ISBLANK(H90),0,3)))) -> 0 | O90: ACCEPTABLE | P90: =IF(O90="Acceptable",I90,0) -> 0
A91: 6 | I91: =IF(ISBLANK(B91),0,0+IF(ISBLANK(D91),0,0+IF(ISBLANK(F91),0,0+IF(ISBLANK(H91),0,3)))) -> 0 | O91: ACCEPTABLE | P91: =IF(O91="Acceptable",I91,0) -> 0
A92: 7 | I92: =IF(ISBLANK(B92),0,0+IF(ISBLANK(D92),0,0+IF(ISBLANK(F92),0,0+IF(ISBLANK(H92),0,3)))) -> 0 | O92: ACCEPTABLE | P92: =IF(O92="Acceptable",I92,0) -> 0
A93: 8 | I93: =IF(ISBLANK(B93),0,0+IF(ISBLANK(D93),0,0+IF(ISBLANK(F93),0,0+IF(ISBLANK(H93),0,3)))) -> 0 | O93: ACCEPTABLE | P93: =IF(O93="Acceptable",I93,0) -> 0
A94: 9 | I94: =IF(ISBLANK(B94),0,0+IF(ISBLANK(D94),0,0+IF(ISBLANK(F94),0,0+IF(ISBLANK(H94),0,3)))) -> 0 | O94: ACCEPTABLE | P94: =IF(O94="Acceptable",I94,0) -> 0
A95: 10 | I95: =IF(ISBLANK(B95),0,0+IF(ISBLANK(D95),0,0+IF(ISBLANK(F95),0,0+IF(ISBLANK(H95),0,3)))) -> 0 | O95: ACCEPTABLE | P95: =IF(O95="Acceptable",I95,0) -> 0
H96: TOTAL | I96: =SUM(I86:I95) -> 0 | P96: =SUM(P86:P95) -> 0
B98: Prepared by: | F98: Evaluated by: | O98: Validated by:
B101: Name of Faculty and Signature | F101: Name of IEC Member and Signature | O101: Name of REC Member and Signature
B102: Date: | F102: Date: | O102: Date:
F105: Name of IEC Chair and Signature | O105: Name of REC Chair and Signature
F106: Date: | O106: Date:

Sheet KRA I
A1: FACULTY POSITION RECLASSIFICATION FOR SUCs | M1: =A1 -> FACULTY POSITION RECLASSIFICATION FOR SUCs
A3: KRA I - INSTRUCTION | M3: =A3 -> KRA I - INSTRUCTION
A4: SUMMARY OF POINTS | M4: =A4 -> SUMMARY OF POINTS
A6: ='Request Form'!B6 -> LAST NAME: | D6: =Form1_A!E3 -> 0 | M6: =A6 -> LAST NAME: | N6: =D6 -> 0
A7: ='Request Form'!B7 -> FIRST NAME, EXT.: | D7: =Form1_A!E4 -> 0 | M7: =A7 -> FIRST NAME, EXT.: | N7: =D7 -> 0
A8: ='Request Form'!B8 -> MIDDLE NAME: | D8: =Form1_A!E5 -> 0 | M8: =A8 -> MIDDLE NAME: | N8: =D8 -> 0
A10: CRITERION A - INSTRUCTION (MAX = 60 POINTS) | K10: =A10 -> CRITERION A - INSTRUCTION (MAX = 60 POINTS) | M10: =A10 -> CRITERION A - INSTRUCTION (MAX = 60 POINTS)
H11: Faculty Score | I11: Allowable Points
A12: 1. | B12: FACULTY PERFORMANCE | K12: REMARKS | M12: Validated Score | N12: Allowable Points | O12: REMARKS
A13: 1.1 | B13: Student Evaluation (60%) | H13: =Form1_A!K26 -> 0 | M13: =Form1_A!U25 -> 0
A14: 1.2 | B14: Supervisor's Evaluation (40%) | H14: =Form1_A!K42 -> 0 | M14: =Form1_A!U41 -> 0
A15: TOTAL POINTS FOR CRITERION A | H15: =SUM(H13:H14) -> 0 | I15: =H15 -> 0 | M15: =SUM(M13:M14) -> 0 | N15: =M15 -> 0
A17: CRITERION B - CURRICULUM AND INSTRUCTIONAL MATERIALS DEVELOPMENT (MAX = 30 POINTS) | K17: REMARKS | M17: =A17 -> CRITERION B - CURRICULUM AND INSTRUCTIONAL MATERIALS DEVELOPMENT (MAX = 30 POINTS)
H18: Faculty Score | I18: Allowable Points | M18: Validated Score | N18: Allowable Points | O18: REMARKS
A19: 1. | B19: INSTRUCTIONAL MATERIALS DEVELOPED AND APPROVED
A20: 1.1 | B20: Sole Authorship | H20: ='Form1_B&C'!I27 -> 0 | M20: ='Form1_B&C'!P27 -> 0
A21: 1.2 | B21: Co-Authorship | H21: ='Form1_B&C'!J47 -> 0 | M21: ='Form1_B&C'!Q47 -> 0
A22: Sub-Total | H22: =SUM(H20:H21) -> 0 | M22: =SUM(M20:M21) -> 0
A23: 2. | B23: ACADEMIC PROGRAM DEVELOPED/REVISED AND IMPLEMENTED | H23: ='Form1_B&C'!I61 -> 0 | M23: ='Form1_B&C'!P61 -> 0
A24: Sub-Total | H24: =H23 -> 0 | M24: =SUM(M23) -> 0
A25: TOTAL POINTS FOR CRITERION B | H25: =H22+H24 -> 0 | I25: =IF(H25>=30,30,H25) -> 0 | M25: =M22+M24 -> 0 | N25: =IF(M25>=30,30,M25) -> 0
A27: CRITERION C - THESIS, DISSERTATION AND MENTORSHIP SERVICES (MAX = 10 POINTS) | K27: REMARKS | M27: =A27 -> CRITERION C - THESIS, DISSERTATION AND MENTORSHIP SERVICES (MAX = 10 POINTS)
A28: 1. | B28: SERVICES RENDERED AS ADVISER, PANEL OR MENTOR | H28: Faculty Score | I28: Allowable Points | M28: Validated Score | N28: Allowable Points | O28: REMARKS
A29: 1.1 | B29: Adviser | H29: ='Form1_B&C'!I73 -> 0 | M29: ='Form1_B&C'!P73 -> 0
A30: 1.2 | B30: Panel | H30: ='Form1_B&C'!I82 -> 0 | M30: ='Form1_B&C'!P82 -> 0
A31: 2.1 | B31: Mentor | H31: ='Form1_B&C'!I96 -> 0 | M31: ='Form1_B&C'!P96 -> 0
A32: Sub-Total | H32: =SUM(H29:H31) -> 0 | M32: =SUM(M29:M31) -> 0
A33: TOTAL POINTS FOR CRITERION C | H33: =H32 -> 0 | I33: =IF(H33>=10,10,H33) -> 0 | M33: =M32 -> 0 | N33: =IF(M33>=10,10,M33) -> 0
A34: GRAND TOTAL POINTS FOR KRA 1 (MAX - 100 points) | H34: =H15+H25+H33 -> 0 | I34: =I15+I25+I33 -> 0 | M34: =M25+M33+M15 -> 0 | N34: =N15+N25+N33 -> 0
C36: Prepared by: | E36: Evaluated by: | M36: Validated by:
C39: Name and Signature | E39: Name of IEC Member and Signature | M39: Name of REC Member and Signature
C40: Date: | E40: Date: | M40: Date:
E43: Name of IEC Chair and Signature | M43: Name of REC Member and Signature
E44: Date: | M44: Date:

Sheet Form2_A
A1: KRA II - RESEARCH, INNOVATION AND CREATIVE WORK | M1: =A1 -> KRA II - RESEARCH, INNOVATION AND CREATIVE WORK | O1: =A1 -> KRA II - RESEARCH, INNOVATION AND CREATIVE WORK
A3: ='Request Form'!B6 -> LAST NAME: | C3: =Form1_A!E3 -> 0 | O3: =A3 -> LAST NAME: | P3: =C3 -> 0
A4: ='Request Form'!B7 -> FIRST NAME, EXT.: | C4: =Form1_A!E4 -> 0 | O4: =A4 -> FIRST NAME, EXT.: | P4: =C4 -> 0
A5: ='Request Form'!B8 -> MIDDLE NAME: | C5: =Form1_A!E5 -> 0 | O5: =A5 -> MIDDLE NAME: | P5: =C5 -> 0
A7: CRITERION A - RESEARCH OUTPUTS (MAX = 100 POINTS) | M7: =A7 -> CRITERION A - RESEARCH OUTPUTS (MAX = 100 POINTS) | O7: =A7 -> CRITERION A - RESEARCH OUTPUTS (MAX = 100 POINTS)
A9: 1. | B9: FOR EVERY SCHOLARLY RESEARCH PAPER/EDUCATIONAL OR TECHNICAL ARTICLE AND OTHER OUTPUTS PUBLISHED | M9: =B9 -> FOR EVERY SCHOLARLY RESEARCH PAPER/EDUCATIONAL OR TECHNICAL ARTICLE AND OTHER OUTPUTS PUBLISHED | O9: =B9 -> FOR EVERY SCHOLARLY RESEARCH PAPER/EDUCATIONAL OR TECHNICAL ARTICLE AND OTHER OUTPUTS PUBLISHED
A10: 1.1 | B10: SOLE AUTHORSHIP | M10: =B10 -> SOLE AUTHORSHIP | O10: =B10 -> SOLE AUTHORSHIP
A11: No. | B11: Title of Research Output | D11: Type of Research Output | E11: Name of Journal / Publisher | F11: Reviewer or Its Equivalent | G11: International Indexing Body | H11: Date Published (mm/dd/yyyy) | I11: Faculty Score | J11: Link to Evidence from Google Drive | M11: REMARKS | O11: Validation of Documents | P11: Validated Score | Q11: Explanation for Non-Acceptance | Z11: Legend:
A12: 1 | D12: SELECT OPTION | I12: =IF(ISBLANK(B12),0,0+(IF(ISBLANK(E12),0,0+IF(ISBLANK(F12),0,0+IF(ISBLANK(H12),0,0+IF(D12="Book",100,0+(IF(ISBLANK(G12),0,+IF(D12="Journal Article",50))+IF(D12="Book Chapter",35,0+IF(D12="Monograph",100,0+IF(D12="Other Peer-Reviewed Output",10,0)))))))))) -> 0 | O12: ACCEPTABLE | P12: =IF(O12="Acceptable",I12,0) -> 0 | Z12: ACCEPTABLE | AB12: SELECT OPTION
A13: 2 | D13: SELECT OPTION | I13: =IF(ISBLANK(B13),0,0+(IF(ISBLANK(E13),0,0+IF(ISBLANK(F13),0,0+IF(ISBLANK(H13),0,0+IF(D13="Book",100,0+(IF(ISBLANK(G13),0,+IF(D13="Journal Article",50))+IF(D13="Book Chapter",35,0+IF(D13="Monograph",100,0+IF(D13="Other Peer-Reviewed Output",10,0)))))))))) -> 0 | O13: ACCEPTABLE | P13: =IF(O13="Acceptable",I13,0) -> 0 | Z13: NOT ACCEPTABLE | AB13: Book
A14: 3 | D14: SELECT OPTION | I14: =IF(ISBLANK(B14),0,0+(IF(ISBLANK(E14),0,0+IF(ISBLANK(F14),0,0+IF(ISBLANK(H14),0,0+IF(D14="Book",100,0+(IF(ISBLANK(G14),0,+IF(D14="Journal Article",50))+IF(D14="Book Chapter",35,0+IF(D14="Monograph",100,0+IF(D14="Other Peer-Reviewed Output",10,0)))))))))) -> 0 | O14: ACCEPTABLE | P14: =IF(O14="Acceptable",I14,0) -> 0 | AB14: Journal Article
A15: 4 | D15: SELECT OPTION | I15: =IF(ISBLANK(B15),0,0+(IF(ISBLANK(E15),0,0+IF(ISBLANK(F15),0,0+IF(ISBLANK(H15),0,0+IF(D15="Book",100,0+(IF(ISBLANK(G15),0,+IF(D15="Journal Article",50))+IF(D15="Book Chapter",35,0+IF(D15="Monograph",100,0+IF(D15="Other Peer-Reviewed Output",10,0)))))))))) -> 0 | O15: ACCEPTABLE | P15: =IF(O15="Acceptable",I15,0) -> 0 | AB15: Book Chapter
A16: 5 | D16: SELECT OPTION | I16: =IF(ISBLANK(B16),0,0+(IF(ISBLANK(E16),0,0+IF(ISBLANK(F16),0,0+IF(ISBLANK(H16),0,0+IF(D16="Book",100,0+(IF(ISBLANK(G16),0,+IF(D16="Journal Article",50))+IF(D16="Book Chapter",35,0+IF(D16="Monograph",100,0+IF(D16="Other Peer-Reviewed Output",10,0)))))))))) -> 0 | O16: ACCEPTABLE | P16: =IF(O16="Acceptable",I16,0) -> 0 | AB16: Monograph
A17: 6 | D17: SELECT OPTION | I17: =IF(ISBLANK(B17),0,0+(IF(ISBLANK(E17),0,0+IF(ISBLANK(F17),0,0+IF(ISBLANK(H17),0,0+IF(D17="Book",100,0+(IF(ISBLANK(G17),0,+IF(D17="Journal Article",50))+IF(D17="Book Chapter",35,0+IF(D17="Monograph",100,0+IF(D17="Other Peer-Reviewed Output",10,0)))))))))) -> 0 | O17: ACCEPTABLE | P17: =IF(O17="Acceptable",I17,0) -> 0 | AB17: Other Peer-Reviewed Output
A18: 7 | D18: SELECT OPTION | I18: =IF(ISBLANK(B18),0,0+(IF(ISBLANK(E18),0,0+IF(ISBLANK(F18),0,0+IF(ISBLANK(H18),0,0+IF(D18="Book",100,0+(IF(ISBLANK(G18),0,+IF(D18="Journal Article",50))+IF(D18="Book Chapter",35,0+IF(D18="Monograph",100,0+IF(D18="Other Peer-Reviewed Output",10,0)))))))))) -> 0 | O18: ACCEPTABLE | P18: =IF(O18="Acceptable",I18,0) -> 0
A19: 8 | D19: SELECT OPTION | I19: =IF(ISBLANK(B19),0,0+(IF(ISBLANK(E19),0,0+IF(ISBLANK(F19),0,0+IF(ISBLANK(H19),0,0+IF(D19="Book",100,0+(IF(ISBLANK(G19),0,+IF(D19="Journal Article",50))+IF(D19="Book Chapter",35,0+IF(D19="Monograph",100,0+IF(D19="Other Peer-Reviewed Output",10,0)))))))))) -> 0 | O19: ACCEPTABLE | P19: =IF(O19="Acceptable",I19,0) -> 0
A20: 9 | D20: SELECT OPTION | I20: =IF(ISBLANK(B20),0,0+(IF(ISBLANK(E20),0,0+IF(ISBLANK(F20),0,0+IF(ISBLANK(H20),0,0+IF(D20="Book",100,0+(IF(ISBLANK(G20),0,+IF(D20="Journal Article",50))+IF(D20="Book Chapter",35,0+IF(D20="Monograph",100,0+IF(D20="Other Peer-Reviewed Output",10,0)))))))))) -> 0 | O20: ACCEPTABLE | P20: =IF(O20="Acceptable",I20,0) -> 0
A21: 10 | D21: SELECT OPTION | I21: =IF(ISBLANK(B21),0,0+(IF(ISBLANK(E21),0,0+IF(ISBLANK(F21),0,0+IF(ISBLANK(H21),0,0+IF(D21="Book",100,0+(IF(ISBLANK(G21),0,+IF(D21="Journal Article",50))+IF(D21="Book Chapter",35,0+IF(D21="Monograph",100,0+IF(D21="Other Peer-Reviewed Output",10,0)))))))))) -> 0 | O21: ACCEPTABLE | P21: =IF(O21="Acceptable",I21,0) -> 0
A22: 11 | D22: SELECT OPTION | I22: =IF(ISBLANK(B22),0,0+(IF(ISBLANK(E22),0,0+IF(ISBLANK(F22),0,0+IF(ISBLANK(H22),0,0+IF(D22="Book",100,0+(IF(ISBLANK(G22),0,+IF(D22="Journal Article",50))+IF(D22="Book Chapter",35,0+IF(D22="Monograph",100,0+IF(D22="Other Peer-Reviewed Output",10,0)))))))))) -> 0 | J22: <Google Drive link> | O22: ACCEPTABLE | P22: =IF(O22="Acceptable",I22,0) -> 0
A23: 12 | D23: SELECT OPTION | I23: =IF(ISBLANK(B23),0,0+(IF(ISBLANK(E23),0,0+IF(ISBLANK(F23),0,0+IF(ISBLANK(H23),0,0+IF(D23="Book",100,0+(IF(ISBLANK(G23),0,+IF(D23="Journal Article",50))+IF(D23="Book Chapter",35,0+IF(D23="Monograph",100,0+IF(D23="Other Peer-Reviewed Output",10,0)))))))))) -> 0 | J23: <Google Drive link> | O23: ACCEPTABLE | P23: =IF(O23="Acceptable",I23,0) -> 0
A24: 13 | D24: SELECT OPTION | I24: =IF(ISBLANK(B24),0,0+(IF(ISBLANK(E24),0,0+IF(ISBLANK(F24),0,0+IF(ISBLANK(H24),0,0+IF(D24="Book",100,0+(IF(ISBLANK(G24),0,+IF(D24="Journal Article",50))+IF(D24="Book Chapter",35,0+IF(D24="Monograph",100,0+IF(D24="Other Peer-Reviewed Output",10,0)))))))))) -> 0 | J24: <Google Drive link> | O24: ACCEPTABLE | P24: =IF(O24="Acceptable",I24,0) -> 0
A25: 14 | D25: SELECT OPTION | I25: =IF(ISBLANK(B25),0,0+(IF(ISBLANK(E25),0,0+IF(ISBLANK(F25),0,0+IF(ISBLANK(H25),0,0+IF(D25="Book",100,0+(IF(ISBLANK(G25),0,+IF(D25="Journal Article",50))+IF(D25="Book Chapter",35,0+IF(D25="Monograph",100,0+IF(D25="Other Peer-Reviewed Output",10,0)))))))))) -> 0 | J25: <Google Drive link> | O25: ACCEPTABLE | P25: =IF(O25="Acceptable",I25,0) -> 0
A26: 15 | D26: SELECT OPTION | I26: =IF(ISBLANK(B26),0,0+(IF(ISBLANK(E26),0,0+IF(ISBLANK(F26),0,0+IF(ISBLANK(H26),0,0+IF(D26="Book",100,0+(IF(ISBLANK(G26),0,+IF(D26="Journal Article",50))+IF(D26="Book Chapter",35,0+IF(D26="Monograph",100,0+IF(D26="Other Peer-Reviewed Output",10,0)))))))))) -> 0 | J26: <Google Drive link> | O26: ACCEPTABLE | P26: =IF(O26="Acceptable",I26,0) -> 0
A27: 16 | D27: SELECT OPTION | I27: =IF(ISBLANK(B27),0,0+(IF(ISBLANK(E27),0,0+IF(ISBLANK(F27),0,0+IF(ISBLANK(H27),0,0+IF(D27="Book",100,0+(IF(ISBLANK(G27),0,+IF(D27="Journal Article",50))+IF(D27="Book Chapter",35,0+IF(D27="Monograph",100,0+IF(D27="Other Peer-Reviewed Output",10,0)))))))))) -> 0 | J27: <Google Drive link> | O27: ACCEPTABLE | P27: =IF(O27="Acceptable",I27,0) -> 0
A28: 17 | D28: SELECT OPTION | I28: =IF(ISBLANK(B28),0,0+(IF(ISBLANK(E28),0,0+IF(ISBLANK(F28),0,0+IF(ISBLANK(H28),0,0+IF(D28="Book",100,0+(IF(ISBLANK(G28),0,+IF(D28="Journal Article",50))+IF(D28="Book Chapter",35,0+IF(D28="Monograph",100,0+IF(D28="Other Peer-Reviewed Output",10,0)))))))))) -> 0 | J28: <Google Drive link> | O28: ACCEPTABLE | P28: =IF(O28="Acceptable",I28,0) -> 0
A29: 18 | D29: SELECT OPTION | I29: =IF(ISBLANK(B29),0,0+(IF(ISBLANK(E29),0,0+IF(ISBLANK(F29),0,0+IF(ISBLANK(H29),0,0+IF(D29="Book",100,0+(IF(ISBLANK(G29),0,+IF(D29="Journal Article",50))+IF(D29="Book Chapter",35,0+IF(D29="Monograph",100,0+IF(D29="Other Peer-Reviewed Output",10,0)))))))))) -> 0 | J29: <Google Drive link> | O29: ACCEPTABLE | P29: =IF(O29="Acceptable",I29,0) -> 0
A30: 19 | D30: SELECT OPTION | I30: =IF(ISBLANK(B30),0,0+(IF(ISBLANK(E30),0,0+IF(ISBLANK(F30),0,0+IF(ISBLANK(H30),0,0+IF(D30="Book",100,0+(IF(ISBLANK(G30),0,+IF(D30="Journal Article",50))+IF(D30="Book Chapter",35,0+IF(D30="Monograph",100,0+IF(D30="Other Peer-Reviewed Output",10,0)))))))))) -> 0 | J30: <Google Drive link> | O30: ACCEPTABLE | P30: =IF(O30="Acceptable",I30,0) -> 0
A31: 20 | D31: SELECT OPTION | I31: =IF(ISBLANK(B31),0,0+(IF(ISBLANK(E31),0,0+IF(ISBLANK(F31),0,0+IF(ISBLANK(H31),0,0+IF(D31="Book",100,0+(IF(ISBLANK(G31),0,+IF(D31="Journal Article",50))+IF(D31="Book Chapter",35,0+IF(D31="Monograph",100,0+IF(D31="Other Peer-Reviewed Output",10,0)))))))))) -> 0 | J31: <Google Drive link> | O31: ACCEPTABLE | P31: =IF(O31="Acceptable",I31,0) -> 0
H32: TOTAL | I32: =SUM(I12:I31) -> 0 | P32: =SUM(P12:P31) -> 0
A34: 1.2 | B34: CO-AUTHORSHIP | M34: =B34 -> CO-AUTHORSHIP | O34: =B34 -> CO-AUTHORSHIP
A36: No. | B36: Title of Research Output | D36: Type of Research Output | E36: Name of Journal / Publisher | F36: Reviewer or Equivalent (if applicable) | G36: International Indexing Body (if applicable) | H36: Date Published (mm/dd/yyyy) | I36: % Contribution (write in decimal form) | J36: Faculty Score | K36: Link to Evidence from Google Drive | M36: REMARKS | O36: Validation of Documents | P36: Validated % Contribution (specify new %, if applicable) | Q36: Validated Score | R36: Explanation for Non-Acceptance
A37: 1 | D37: SELECT OPTION | I37: 0 | J37: =(IF(ISBLANK(B37),0,0+IF(ISBLANK(H37),0,0+IF(D37="Book",100,0+(IF(ISBLANK(G37),0,+IF(D37="Journal Article",50))+IF(D37="Book Chapter",35,0+IF(D37="Monograph",100,0+IF(D37="Other Peer-Reviewed Output",10,0))))))))*I37 -> 0 | O37: ACCEPTABLE | P37: =IF(O37="Acceptable",I37,0) -> 0 | Q37: =(IF(ISBLANK(B37),0,0+IF(ISBLANK(H37),0,0+IF(D37="Book",100,0+(IF(ISBLANK(G37),0,+IF(D37="Journal Article",50))+IF(D37="Book Chapter",35,0+IF(D37="Monograph",100,0+IF(D37="Other Peer-Reviewed Output",10,0))))))))*P37 -> 0
A38: 2 | D38: SELECT OPTION | I38: 0 | J38: =(IF(ISBLANK(B38),0,0+IF(ISBLANK(H38),0,0+IF(D38="Book",100,0+(IF(ISBLANK(G38),0,+IF(D38="Journal Article",50))+IF(D38="Book Chapter",35,0+IF(D38="Monograph",100,0+IF(D38="Other Peer-Reviewed Output",10,0))))))))*I38 -> 0 | O38: ACCEPTABLE | P38: =IF(O38="Acceptable",I38,0) -> 0 | Q38: =(IF(ISBLANK(B38),0,0+IF(ISBLANK(H38),0,0+IF(D38="Book",100,0+(IF(ISBLANK(G38),0,+IF(D38="Journal Article",50))+IF(D38="Book Chapter",35,0+IF(D38="Monograph",100,0+IF(D38="Other Peer-Reviewed Output",10,0))))))))*P38 -> 0
A39: 3 | D39: SELECT OPTION | I39: 0 | J39: =(IF(ISBLANK(B39),0,0+IF(ISBLANK(H39),0,0+IF(D39="Book",100,0+(IF(ISBLANK(G39),0,+IF(D39="Journal Article",50))+IF(D39="Book Chapter",35,0+IF(D39="Monograph",100,0+IF(D39="Other Peer-Reviewed Output",10,0))))))))*I39 -> 0 | O39: ACCEPTABLE | P39: =IF(O39="Acceptable",I39,0) -> 0 | Q39: =(IF(ISBLANK(B39),0,0+IF(ISBLANK(H39),0,0+IF(D39="Book",100,0+(IF(ISBLANK(G39),0,+IF(D39="Journal Article",50))+IF(D39="Book Chapter",35,0+IF(D39="Monograph",100,0+IF(D39="Other Peer-Reviewed Output",10,0))))))))*P39 -> 0
A40: 4 | D40: SELECT OPTION | I40: 0 | J40: =(IF(ISBLANK(B40),0,0+IF(ISBLANK(H40),0,0+IF(D40="Book",100,0+(IF(ISBLANK(G40),0,+IF(D40="Journal Article",50))+IF(D40="Book Chapter",35,0+IF(D40="Monograph",100,0+IF(D40="Other Peer-Reviewed Output",10,0))))))))*I40 -> 0 | O40: ACCEPTABLE | P40: =IF(O40="Acceptable",I40,0) -> 0 | Q40: =(IF(ISBLANK(B40),0,0+IF(ISBLANK(H40),0,0+IF(D40="Book",100,0+(IF(ISBLANK(G40),0,+IF(D40="Journal Article",50))+IF(D40="Book Chapter",35,0+IF(D40="Monograph",100,0+IF(D40="Other Peer-Reviewed Output",10,0))))))))*P40 -> 0
A41: 5 | D41: SELECT OPTION | I41: 0 | J41: =(IF(ISBLANK(B41),0,0+IF(ISBLANK(H41),0,0+IF(D41="Book",100,0+(IF(ISBLANK(G41),0,+IF(D41="Journal Article",50))+IF(D41="Book Chapter",35,0+IF(D41="Monograph",100,0+IF(D41="Other Peer-Reviewed Output",10,0))))))))*I41 -> 0 | O41: ACCEPTABLE | P41: =IF(O41="Acceptable",I41,0) -> 0 | Q41: =(IF(ISBLANK(B41),0,0+IF(ISBLANK(H41),0,0+IF(D41="Book",100,0+(IF(ISBLANK(G41),0,+IF(D41="Journal Article",50))+IF(D41="Book Chapter",35,0+IF(D41="Monograph",100,0+IF(D41="Other Peer-Reviewed Output",10,0))))))))*P41 -> 0
A42: 6 | D42: SELECT OPTION | I42: 0 | J42: =(IF(ISBLANK(B42),0,0+IF(ISBLANK(H42),0,0+IF(D42="Book",100,0+(IF(ISBLANK(G42),0,+IF(D42="Journal Article",50))+IF(D42="Book Chapter",35,0+IF(D42="Monograph",100,0+IF(D42="Other Peer-Reviewed Output",10,0))))))))*I42 -> 0 | O42: ACCEPTABLE | P42: =IF(O42="Acceptable",I42,0) -> 0 | Q42: =(IF(ISBLANK(B42),0,0+IF(ISBLANK(H42),0,0+IF(D42="Book",100,0+(IF(ISBLANK(G42),0,+IF(D42="Journal Article",50))+IF(D42="Book Chapter",35,0+IF(D42="Monograph",100,0+IF(D42="Other Peer-Reviewed Output",10,0))))))))*P42 -> 0
A43: 7 | D43: SELECT OPTION | I43: 0 | J43: =(IF(ISBLANK(B43),0,0+IF(ISBLANK(H43),0,0+IF(D43="Book",100,0+(IF(ISBLANK(G43),0,+IF(D43="Journal Article",50))+IF(D43="Book Chapter",35,0+IF(D43="Monograph",100,0+IF(D43="Other Peer-Reviewed Output",10,0))))))))*I43 -> 0 | O43: ACCEPTABLE | P43: =IF(O43="Acceptable",I43,0) -> 0 | Q43: =(IF(ISBLANK(B43),0,0+IF(ISBLANK(H43),0,0+IF(D43="Book",100,0+(IF(ISBLANK(G43),0,+IF(D43="Journal Article",50))+IF(D43="Book Chapter",35,0+IF(D43="Monograph",100,0+IF(D43="Other Peer-Reviewed Output",10,0))))))))*P43 -> 0
A44: 8 | D44: SELECT OPTION | I44: 0 | J44: =(IF(ISBLANK(B44),0,0+IF(ISBLANK(H44),0,0+IF(D44="Book",100,0+(IF(ISBLANK(G44),0,+IF(D44="Journal Article",50))+IF(D44="Book Chapter",35,0+IF(D44="Monograph",100,0+IF(D44="Other Peer-Reviewed Output",10,0))))))))*I44 -> 0 | O44: ACCEPTABLE | P44: =IF(O44="Acceptable",I44,0) -> 0 | Q44: =(IF(ISBLANK(B44),0,0+IF(ISBLANK(H44),0,0+IF(D44="Book",100,0+(IF(ISBLANK(G44),0,+IF(D44="Journal Article",50))+IF(D44="Book Chapter",35,0+IF(D44="Monograph",100,0+IF(D44="Other Peer-Reviewed Output",10,0))))))))*P44 -> 0
A45: 9 | D45: SELECT OPTION | I45: 0 | J45: =(IF(ISBLANK(B45),0,0+IF(ISBLANK(H45),0,0+IF(D45="Book",100,0+(IF(ISBLANK(G45),0,+IF(D45="Journal Article",50))+IF(D45="Book Chapter",35,0+IF(D45="Monograph",100,0+IF(D45="Other Peer-Reviewed Output",10,0))))))))*I45 -> 0 | O45: ACCEPTABLE | P45: =IF(O45="Acceptable",I45,0) -> 0 | Q45: =(IF(ISBLANK(B45),0,0+IF(ISBLANK(H45),0,0+IF(D45="Book",100,0+(IF(ISBLANK(G45),0,+IF(D45="Journal Article",50))+IF(D45="Book Chapter",35,0+IF(D45="Monograph",100,0+IF(D45="Other Peer-Reviewed Output",10,0))))))))*P45 -> 0
A46: 10 | D46: SELECT OPTION | I46: 0 | J46: =(IF(ISBLANK(B46),0,0+IF(ISBLANK(H46),0,0+IF(D46="Book",100,0+(IF(ISBLANK(G46),0,+IF(D46="Journal Article",50))+IF(D46="Book Chapter",35,0+IF(D46="Monograph",100,0+IF(D46="Other Peer-Reviewed Output",10,0))))))))*I46 -> 0 | O46: ACCEPTABLE | P46: =IF(O46="Acceptable",I46,0) -> 0 | Q46: =(IF(ISBLANK(B46),0,0+IF(ISBLANK(H46),0,0+IF(D46="Book",100,0+(IF(ISBLANK(G46),0,+IF(D46="Journal Article",50))+IF(D46="Book Chapter",35,0+IF(D46="Monograph",100,0+IF(D46="Other Peer-Reviewed Output",10,0))))))))*P46 -> 0
A47: 11 | D47: SELECT OPTION | I47: 0 | J47: =(IF(ISBLANK(B47),0,0+IF(ISBLANK(H47),0,0+IF(D47="Book",100,0+(IF(ISBLANK(G47),0,+IF(D47="Journal Article",50))+IF(D47="Book Chapter",35,0+IF(D47="Monograph",100,0+IF(D47="Other Peer-Reviewed Output",10,0))))))))*I47 -> 0 | O47: ACCEPTABLE | P47: =IF(O47="Acceptable",I47,0) -> 0 | Q47: =(IF(ISBLANK(B47),0,0+IF(ISBLANK(H47),0,0+IF(D47="Book",100,0+(IF(ISBLANK(G47),0,+IF(D47="Journal Article",50))+IF(D47="Book Chapter",35,0+IF(D47="Monograph",100,0+IF(D47="Other Peer-Reviewed Output",10,0))))))))*P47 -> 0
A48: 12 | D48: SELECT OPTION | I48: 0 | J48: =(IF(ISBLANK(B48),0,0+IF(ISBLANK(H48),0,0+IF(D48="Book",100,0+(IF(ISBLANK(G48),0,+IF(D48="Journal Article",50))+IF(D48="Book Chapter",35,0+IF(D48="Monograph",100,0+IF(D48="Other Peer-Reviewed Output",10,0))))))))*I48 -> 0 | O48: ACCEPTABLE | P48: =IF(O48="Acceptable",I48,0) -> 0 | Q48: =(IF(ISBLANK(B48),0,0+IF(ISBLANK(H48),0,0+IF(D48="Book",100,0+(IF(ISBLANK(G48),0,+IF(D48="Journal Article",50))+IF(D48="Book Chapter",35,0+IF(D48="Monograph",100,0+IF(D48="Other Peer-Reviewed Output",10,0))))))))*P48 -> 0
... A56: 20 | D56: SELECT OPTION | I56: 0 | J56: =(IF(ISBLANK(B56),0,0+IF(ISBLANK(H56),0,0+IF(D56="Book",100,0+(IF(ISBLANK(G56),0,+IF(D56="Journal Article",50))+IF(D56="Book Chapter",35,0+IF(D56="Monograph",100,0+IF(D56="Other Peer-Reviewed Output",10,0))))))))*I56 -> 0 | O56: ACCEPTABLE | P56: =IF(O56="Acceptable",I56,0) -> 0 | Q56: =(IF(ISBLANK(B56),0,0+IF(ISBLANK(H56),0,0+IF(D56="Book",100,0+(IF(ISBLANK(G56),0,+IF(D56="Journal Article",50))+IF(D56="Book Chapter",35,0+IF(D56="Monograph",100,0+IF(D56="Other Peer-Reviewed Output",10,0))))))))*P56 -> 0
B57: Note: Every Research Output with Multiple Authors should be accompanied by a Certification using FORM II-A1a | I57: TOTAL | J57: =SUM(J37:J56) -> 0 | Q57: =SUM(Q37:Q56) -> 0
A59: 2. | B59: FOR EVERY RESEARCH OUTPUT TRANSLATED INTO PROJECT, POLICY OR PRODUCT AS: | M59: =B59 -> FOR EVERY RESEARCH OUTPUT TRANSLATED INTO PROJECT, POLICY OR PRODUCT AS: | O59: =B59 -> FOR EVERY RESEARCH OUTPUT TRANSLATED INTO PROJECT, POLICY OR PRODUCT AS:
A60: 2.1 | B60: LEAD RESEARCHER | M60: =B60 -> LEAD RESEARCHER | O60: =B60 -> LEAD RESEARCHER
A61: No. | B61: Title of Research | E61: Date Completed (mm/dd/yyyy) | F61: Name of Project, Policy or Product | G61: Funding Source | H61: Date implemented, adopted or developed (mm/dd/yyyy) | I61: Faculty Score | J61: Link to Evidence from Google Drive | M61: REMARKS | O61: Validation of Documents | P61: Validated Score | Q61: Explanation for Non-Acceptance
A62: 1 | I62: =IF(ISBLANK(B62),0,0+IF(ISBLANK(E62),0,0+IF(ISBLANK(F62),0,0+(IF(ISBLANK(G62),0,0+IF(ISBLANK(H62),0,35)))))) -> 0 | O62: ACCEPTABLE | P62: =IF(O62="Acceptable",I62,0) -> 0
A63: 2 | I63: =IF(ISBLANK(B63),0,0+IF(ISBLANK(E63),0,0+IF(ISBLANK(F63),0,0+(IF(ISBLANK(G63),0,0+IF(ISBLANK(H63),0,35)))))) -> 0 | O63: ACCEPTABLE | P63: =IF(O63="Acceptable",I63,0) -> 0
A64: 3 | I64: =IF(ISBLANK(B64),0,0+IF(ISBLANK(E64),0,0+IF(ISBLANK(F64),0,0+(IF(ISBLANK(G64),0,0+IF(ISBLANK(H64),0,35)))))) -> 0 | O64: ACCEPTABLE | P64: =IF(O64="Acceptable",I64,0) -> 0
A65: 4 | I65: =IF(ISBLANK(B65),0,0+IF(ISBLANK(E65),0,0+IF(ISBLANK(F65),0,0+(IF(ISBLANK(G65),0,0+IF(ISBLANK(H65),0,35)))))) -> 0 | O65: ACCEPTABLE | P65: =IF(O65="Acceptable",I65,0) -> 0
A66: 5 | I66: =IF(ISBLANK(B66),0,0+IF(ISBLANK(E66),0,0+IF(ISBLANK(F66),0,0+(IF(ISBLANK(G66),0,0+IF(ISBLANK(H66),0,35)))))) -> 0 | O66: ACCEPTABLE | P66: =IF(O66="Acceptable",I66,0) -> 0
A67: 6 | I67: =IF(ISBLANK(B67),0,0+IF(ISBLANK(E67),0,0+IF(ISBLANK(F67),0,0+(IF(ISBLANK(G67),0,0+IF(ISBLANK(H67),0,35)))))) -> 0 | O67: ACCEPTABLE | P67: =IF(O67="Acceptable",I67,0) -> 0
A68: 7 | I68: =IF(ISBLANK(B68),0,0+IF(ISBLANK(E68),0,0+IF(ISBLANK(F68),0,0+(IF(ISBLANK(G68),0,0+IF(ISBLANK(H68),0,35)))))) -> 0 | O68: ACCEPTABLE | P68: =IF(O68="Acceptable",I68,0) -> 0
A69: 8 | I69: =IF(ISBLANK(B69),0,0+IF(ISBLANK(E69),0,0+IF(ISBLANK(F69),0,0+(IF(ISBLANK(G69),0,0+IF(ISBLANK(H69),0,35)))))) -> 0 | O69: Acceptable | P69: =IF(O69="Acceptable",I69,0) -> 0
A70: 9 | I70: =IF(ISBLANK(B70),0,0+IF(ISBLANK(E70),0,0+IF(ISBLANK(F70),0,0+(IF(ISBLANK(G70),0,0+IF(ISBLANK(H70),0,35)))))) -> 0 | O70: Acceptable | P70: =IF(O70="Acceptable",I70,0) -> 0
A71: 10 | I71: =IF(ISBLANK(B71),0,0+IF(ISBLANK(E71),0,0+IF(ISBLANK(F71),0,0+(IF(ISBLANK(G71),0,0+IF(ISBLANK(H71),0,35)))))) -> 0 | O71: Acceptable | P71: =IF(O71="Acceptable",I71,0) -> 0
H72: TOTAL | I72: =SUM(I62:I71) -> 0 | P72: =SUM(P62:P71) -> 0
A74: 2.2 | B74: CONTRIBUTOR (should be accompanied by a Certification using FORM II-A2a) | M74: =B74 -> CONTRIBUTOR (should be accompanied by a Certification using FORM II-A2a) | O74: =B74 -> CONTRIBUTOR (should be accompanied by a Certification using FORM II-A2a)
A75: No. | B75: Title of Research | E75: Date Completed (mm/dd/yyyy) | F75: Name of Project, Policy or Product | G75: Funding Source | H75: Date implemented, adopted or developed (mm/dd/yyyy) | I75: % Contribution (write in decimal form) | J75: Faculty Score | K75: Link to Evidence from Google Drive | M75: REMARKS | O75: Validation of Documents | P75: Validated % Contribution (specify new %, if applicable) | Q75: Validated Score | R75: Explanation for Non-Acceptance
A76: 1 | I76: 0 | J76: =(IF(ISBLANK(B76),0,0+IF(ISBLANK(E76),0,0+IF(ISBLANK(F76),0,0+IF(ISBLANK(G76),0,0+IF(ISBLANK(H76),0,35))))*I76)) -> 0 | O76: ACCEPTABLE | P76: =IF(O76="Acceptable",I76,0) -> 0 | Q76: =(IF(ISBLANK(B76),0,0+IF(ISBLANK(E76),0,0+IF(ISBLANK(F76),0,0+IF(ISBLANK(G76),0,0+IF(ISBLANK(H76),0,35))))*P76)) -> 0
A77: 2 | I77: 0 | J77: =(IF(ISBLANK(B77),0,0+IF(ISBLANK(E77),0,0+IF(ISBLANK(F77),0,0+IF(ISBLANK(G77),0,0+IF(ISBLANK(H77),0,35))))*I77)) -> 0 | O77: ACCEPTABLE | P77: =IF(O77="Acceptable",I77,0) -> 0 | Q77: =(IF(ISBLANK(B77),0,0+IF(ISBLANK(E77),0,0+IF(ISBLANK(F77),0,0+IF(ISBLANK(G77),0,0+IF(ISBLANK(H77),0,35))))*P77)) -> 0
A78: 3 | I78: 0 | J78: =(IF(ISBLANK(B78),0,0+IF(ISBLANK(E78),0,0+IF(ISBLANK(F78),0,0+IF(ISBLANK(G78),0,0+IF(ISBLANK(H78),0,35))))*I78)) -> 0 | O78: ACCEPTABLE | P78: =IF(O78="Acceptable",I78,0) -> 0 | Q78: =(IF(ISBLANK(B78),0,0+IF(ISBLANK(E78),0,0+IF(ISBLANK(F78),0,0+IF(ISBLANK(G78),0,0+IF(ISBLANK(H78),0,35))))*P78)) -> 0
A79: 4 | I79: 0 | J79: =(IF(ISBLANK(B79),0,0+IF(ISBLANK(E79),0,0+IF(ISBLANK(F79),0,0+IF(ISBLANK(G79),0,0+IF(ISBLANK(H79),0,35))))*I79)) -> 0 | O79: ACCEPTABLE | P79: =IF(O79="Acceptable",I79,0) -> 0 | Q79: =(IF(ISBLANK(B79),0,0+IF(ISBLANK(E79),0,0+IF(ISBLANK(F79),0,0+IF(ISBLANK(G79),0,0+IF(ISBLANK(H79),0,35))))*P79)) -> 0
A80: 5 | I80: 0 | J80: =(IF(ISBLANK(B80),0,0+IF(ISBLANK(E80),0,0+IF(ISBLANK(F80),0,0+IF(ISBLANK(G80),0,0+IF(ISBLANK(H80),0,35))))*I80)) -> 0 | O80: ACCEPTABLE | P80: =IF(O80="Acceptable",I80,0) -> 0 | Q80: =(IF(ISBLANK(B80),0,0+IF(ISBLANK(E80),0,0+IF(ISBLANK(F80),0,0+IF(ISBLANK(G80),0,0+IF(ISBLANK(H80),0,35))))*P80)) -> 0
A81: 6 | I81: 0 | J81: =(IF(ISBLANK(B81),0,0+IF(ISBLANK(E81),0,0+IF(ISBLANK(F81),0,0+IF(ISBLANK(G81),0,0+IF(ISBLANK(H81),0,35))))*I81)) -> 0 | O81: ACCEPTABLE | P81: =IF(O81="Acceptable",I81,0) -> 0 | Q81: =(IF(ISBLANK(B81),0,0+IF(ISBLANK(E81),0,0+IF(ISBLANK(F81),0,0+IF(ISBLANK(G81),0,0+IF(ISBLANK(H81),0,35))))*P81)) -> 0
A82: 7 | I82: 0 | J82: =(IF(ISBLANK(B82),0,0+IF(ISBLANK(E82),0,0+IF(ISBLANK(F82),0,0+IF(ISBLANK(G82),0,0+IF(ISBLANK(H82),0,35))))*I82)) -> 0 | O82: ACCEPTABLE | P82: =IF(O82="Acceptable",I82,0) -> 0 | Q82: =(IF(ISBLANK(B82),0,0+IF(ISBLANK(E82),0,0+IF(ISBLANK(F82),0,0+IF(ISBLANK(G82),0,0+IF(ISBLANK(H82),0,35))))*P82)) -> 0
A83: 8 | I83: 0 | J83: =(IF(ISBLANK(B83),0,0+IF(ISBLANK(E83),0,0+IF(ISBLANK(F83),0,0+IF(ISBLANK(G83),0,0+IF(ISBLANK(H83),0,35))))*I83)) -> 0 | O83: ACCEPTABLE | P83: =IF(O83="Acceptable",I83,0) -> 0 | Q83: =(IF(ISBLANK(B83),0,0+IF(ISBLANK(E83),0,0+IF(ISBLANK(F83),0,0+IF(ISBLANK(G83),0,0+IF(ISBLANK(H83),0,35))))*P83)) -> 0
A84: 9 | I84: 0 | J84: =(IF(ISBLANK(B84),0,0+IF(ISBLANK(E84),0,0+IF(ISBLANK(F84),0,0+IF(ISBLANK(G84),0,0+IF(ISBLANK(H84),0,35))))*I84)) -> 0 | O84: ACCEPTABLE | P84: =IF(O84="Acceptable",I84,0) -> 0 | Q84: =(IF(ISBLANK(B84),0,0+IF(ISBLANK(E84),0,0+IF(ISBLANK(F84),0,0+IF(ISBLANK(G84),0,0+IF(ISBLANK(H84),0,35))))*P84)) -> 0
A85: 10 | I85: 0 | J85: =(IF(ISBLANK(B85),0,0+IF(ISBLANK(E85),0,0+IF(ISBLANK(F85),0,0+IF(ISBLANK(G85),0,0+IF(ISBLANK(H85),0,35))))*I85)) -> 0 | O85: ACCEPTABLE | P85: =IF(O85="Acceptable",I85,0) -> 0 | Q85: =(IF(ISBLANK(B85),0,0+IF(ISBLANK(E85),0,0+IF(ISBLANK(F85),0,0+IF(ISBLANK(G85),0,0+IF(ISBLANK(H85),0,35))))*P85)) -> 0
I86: TOTAL | J86: =SUM(J76:J85) -> 0 | Q86: =SUM(Q76:Q85) -> 0
A88: 3. | B88: FOR EVERY RESEARCH PUBLICATION CITED BY OTHER AUTHORS | M88: =B88 -> FOR EVERY RESEARCH PUBLICATION CITED BY OTHER AUTHORS | O88: =B88 -> FOR EVERY RESEARCH PUBLICATION CITED BY OTHER AUTHORS
A89: 3.1 | B89: LOCAL AUTHORS (MAX = 40 POINTS) | M89: =B89 -> LOCAL AUTHORS (MAX = 40 POINTS) | O89: =B89 -> LOCAL AUTHORS (MAX = 40 POINTS)
A90: No. | B90: Title of Journal Article | E90: Date Published | F90: Name of Journal | G90: No. of Citation | H90: Citation Index | I90: Year/s Citation Published | J90: Faculty Score | K90: Link to Evidence from Google Drive | M90: REMARKS | O90: Validation of Documents | P90: No. of Validated Citations (specify new value, if applicable | Q90: Validated Score | R90: Explanation for Non-Acceptance
A91: 1 | J91: =G91*5 -> 0 | O91: ACCEPTABLE | P91: =IF(O91="Acceptable",G91,0) -> 0 | Q91: =P91*5 -> 0
A92: 2 | J92: =G92*5 -> 0 | O92: ACCEPTABLE | P92: =IF(O92="Acceptable",G92,0) -> 0 | Q92: =P92*5 -> 0
A93: 3 | J93: =G93*5 -> 0 | O93: ACCEPTABLE | P93: =IF(O93="Acceptable",G93,0) -> 0 | Q93: =P93*5 -> 0
A94: 4 | J94: =G94*5 -> 0 | O94: ACCEPTABLE | P94: =IF(O94="Acceptable",G94,0) -> 0 | Q94: =P94*5 -> 0
A95: 5 | J95: =G95*5 -> 0 | O95: ACCEPTABLE | P95: =IF(O95="Acceptable",G95,0) -> 0 | Q95: =P95*5 -> 0
A96: 6 | J96: =G96*5 -> 0 | O96: ACCEPTABLE | P96: =IF(O96="Acceptable",G96,0) -> 0 | Q96: =P96*5 -> 0
A97: 7 | J97: =G97*5 -> 0 | O97: ACCEPTABLE | P97: =IF(O97="Acceptable",G97,0) -> 0 | Q97: =P97*5 -> 0
A98: 8 | J98: =G98*5 -> 0 | O98: ACCEPTABLE | P98: =IF(O98="Acceptable",G98,0) -> 0 | Q98: =P98*5 -> 0
A99: 9 | J99: =G99*5 -> 0 | O99: ACCEPTABLE | P99: =IF(O99="Acceptable",G99,0) -> 0 | Q99: =P99*5 -> 0
A100: 10 | J100: =G100*5 -> 0 | O100: ACCEPTABLE | P100: =IF(O100="Acceptable",G100,0) -> 0 | Q100: =P100*5 -> 0
A101: 11 | J101: =G101*5 -> 0 | O101: ACCEPTABLE | P101: =IF(O101="Acceptable",G101,0) -> 0 | Q101: =P101*5 -> 0
A102: 12 | J102: =G102*5 -> 0 | O102: ACCEPTABLE | P102: =IF(O102="Acceptable",G102,0) -> 0 | Q102: =P102*5 -> 0
... A105: 15 | J105: =G105*5 -> 0 | O105: ACCEPTABLE | P105: =IF(O105="Acceptable",G105,0) -> 0 | Q105: =P105*5 -> 0
I106: TOTAL | J106: =SUM(J91:J105) -> 0 | Q106: =SUM(Q91:Q105) -> 0
A108: 3.2 | B108: INTERNATIONAL AUTHORS (MAX = 60 POINTS) | M108: =B108 -> INTERNATIONAL AUTHORS (MAX = 60 POINTS) | O108: =B108 -> INTERNATIONAL AUTHORS (MAX = 60 POINTS)
A109: No. | B109: Title of Journal Article | E109: Date Published | F109: Name of Journal | G109: No. of Citation | H109: Citation Index | I109: Year/s Citation Published | J109: Faculty Score | K109: Link to Evidence from Google Drive | M109: REMARKS | O109: Validation of Documents | P109: No. of Validated Citations (specify new value, if applicable | Q109: Validated Score | R109: Explanation for Non-Acceptance
A110: 1 | J110: =G110*10 -> 0 | O110: ACCEPTABLE | P110: =IF(O110="Acceptable",G110,0) -> 0 | Q110: =P110*10 -> 0
A111: 2 | J111: =G111*10 -> 0 | O111: ACCEPTABLE | P111: =IF(O111="Acceptable",G111,0) -> 0 | Q111: =P111*10 -> 0
A112: 3 | J112: =G112*10 -> 0 | O112: ACCEPTABLE | P112: =IF(O112="Acceptable",G112,0) -> 0 | Q112: =P112*10 -> 0
A113: 4 | J113: =G113*10 -> 0 | O113: ACCEPTABLE | P113: =IF(O113="Acceptable",G113,0) -> 0 | Q113: =P113*10 -> 0
A114: 5 | J114: =G114*10 -> 0 | O114: ACCEPTABLE | P114: =IF(O114="Acceptable",G114,0) -> 0 | Q114: =P114*10 -> 0
A115: 6 | J115: =G115*10 -> 0 | O115: ACCEPTABLE | P115: =IF(O115="Acceptable",G115,0) -> 0 | Q115: =P115*10 -> 0
A116: 7 | J116: =G116*10 -> 0 | O116: ACCEPTABLE | P116: =IF(O116="Acceptable",G116,0) -> 0 | Q116: =P116*10 -> 0
A117: 8 | J117: =G117*10 -> 0 | O117: ACCEPTABLE | P117: =IF(O117="Acceptable",G117,0) -> 0 | Q117: =P117*10 -> 0
A118: 9 | J118: =G118*10 -> 0 | O118: ACCEPTABLE | P118: =IF(O118="Acceptable",G118,0) -> 0 | Q118: =P118*10 -> 0
...

Sheet Form2-B
A1: KRA II - RESEARCH, INNOVATION AND CREATIVE WORK | M1: =A1 -> KRA II - RESEARCH, INNOVATION AND CREATIVE WORK | O1: =A1 -> KRA II - RESEARCH, INNOVATION AND CREATIVE WORK
A3: ='Request Form'!B6 -> LAST NAME: | D3: =Form1_A!E3 -> 0 | O3: =A3 -> LAST NAME: | P3: =D3 -> 0
A4: ='Request Form'!B7 -> FIRST NAME, EXT.: | D4: =Form1_A!E4 -> 0 | O4: =A4 -> FIRST NAME, EXT.: | P4: =D4 -> 0
A5: ='Request Form'!B8 -> MIDDLE NAME: | D5: =Form1_A!E5 -> 0 | O5: =A5 -> MIDDLE NAME: | P5: =D5 -> 0
A7: CRITERION B - INVENTIONS (MAX = 100 POINTS) | M7: =A7 -> CRITERION B - INVENTIONS (MAX = 100 POINTS) | O7: =A7 -> CRITERION B - INVENTIONS (MAX = 100 POINTS)
AC8: Legend:
A9: 1. | B9: FOR EVERY PATENDED INVENTION | M9: =B9 -> FOR EVERY PATENDED INVENTION | O9: =B9 -> FOR EVERY PATENDED INVENTION | AC9: ACCEPTABLE
A10: 1.1 | B10: PATENTABLE INVENTIONS, UTILITY MODELS AND INDUSTRIAL DESIGNS | M10: =B10 -> PATENTABLE INVENTIONS, UTILITY MODELS AND INDUSTRIAL DESIGNS | O10: =B10 -> PATENTABLE INVENTIONS, UTILITY MODELS AND INDUSTRIAL DESIGNS | AC10: NOT ACCEPTABLE
A11: 1.1.1 | B11: INVENTION PATENTS | M11: =B11 -> INVENTION PATENTS | O11: =B11 -> INVENTION PATENTS
A12: SOLE INVENTOR | M12: =A12 -> SOLE INVENTOR | O12: =A12 -> SOLE INVENTOR | AC12: SELECT OPTION
A13: No. | B13: Name of the Invention | E13: Application Date (mm/dd/yyyy) | F13: Patent Application Stage | G13: Date Accepted, Published or Granted (mm/dd/yyyy) | I13: Faculty Score | J13: Link to Evidence from Google Drive | M13: REMARKS | O13: Validation of Documents | P13: Validated Score | Q13: Explanation for Non-Acceptance | AC13: Accepted
A14: 1 | F14: SELECT OPTION | I14: =IF(ISBLANK(B14),0,0+IF(ISBLANK(E14),0,0+IF(ISBLANK(G14),0,0+IF(F14="Accepted",10)+IF(F14="Published",20)+IF(F14="Granted",80)))) -> 0 | O14: ACCEPTABLE | P14: =IF(O14="Acceptable",I14,0) -> 0 | AC14: Published
A15: 2 | F15: SELECT OPTION | I15: =IF(ISBLANK(B15),0,0+IF(ISBLANK(E15),0,0+IF(ISBLANK(G15),0,0+IF(F15="Accepted",10)+IF(F15="Published",20)+IF(F15="Granted",80)))) -> 0 | O15: ACCEPTABLE | P15: =IF(O15="Acceptable",I15,0) -> 0 | AC15: Granted
A16: 3 | F16: SELECT OPTION | I16: =IF(ISBLANK(B16),0,0+IF(ISBLANK(E16),0,0+IF(ISBLANK(G16),0,0+IF(F16="Accepted",10)+IF(F16="Published",20)+IF(F16="Granted",80)))) -> 0 | O16: ACCEPTABLE | P16: =IF(O16="Acceptable",I16,0) -> 0
A17: 4 | F17: SELECT OPTION | I17: =IF(ISBLANK(B17),0,0+IF(ISBLANK(E17),0,0+IF(ISBLANK(G17),0,0+IF(F17="Accepted",10)+IF(F17="Published",20)+IF(F17="Granted",80)))) -> 0 | O17: ACCEPTABLE | P17: =IF(O17="Acceptable",I17,0) -> 0
A18: 5 | F18: SELECT OPTION | I18: =IF(ISBLANK(B18),0,0+IF(ISBLANK(E18),0,0+IF(ISBLANK(G18),0,0+IF(F18="Accepted",10)+IF(F18="Published",20)+IF(F18="Granted",80)))) -> 0 | O18: ACCEPTABLE | P18: =IF(O18="Acceptable",I18,0) -> 0
A19: 6 | F19: SELECT OPTION | I19: =IF(ISBLANK(B19),0,0+IF(ISBLANK(E19),0,0+IF(ISBLANK(G19),0,0+IF(F19="Accepted",10)+IF(F19="Published",20)+IF(F19="Granted",80)))) -> 0 | O19: ACCEPTABLE | P19: =IF(O19="Acceptable",I19,0) -> 0
A20: 7 | F20: SELECT OPTION | I20: =IF(ISBLANK(B20),0,0+IF(ISBLANK(E20),0,0+IF(ISBLANK(G20),0,0+IF(F20="Accepted",10)+IF(F20="Published",20)+IF(F20="Granted",80)))) -> 0 | O20: ACCEPTABLE | P20: =IF(O20="Acceptable",I20,0) -> 0
A21: 8 | F21: SELECT OPTION | I21: =IF(ISBLANK(B21),0,0+IF(ISBLANK(E21),0,0+IF(ISBLANK(G21),0,0+IF(F21="Accepted",10)+IF(F21="Published",20)+IF(F21="Granted",80)))) -> 0 | O21: ACCEPTABLE | P21: =IF(O21="Acceptable",I21,0) -> 0
A22: 9 | F22: SELECT OPTION | I22: =IF(ISBLANK(B22),0,0+IF(ISBLANK(E22),0,0+IF(ISBLANK(G22),0,0+IF(F22="Accepted",10)+IF(F22="Published",20)+IF(F22="Granted",80)))) -> 0 | O22: ACCEPTABLE | P22: =IF(O22="Acceptable",I22,0) -> 0
A23: 10 | F23: SELECT OPTION | I23: =IF(ISBLANK(B23),0,0+IF(ISBLANK(E23),0,0+IF(ISBLANK(G23),0,0+IF(F23="Accepted",10)+IF(F23="Published",20)+IF(F23="Granted",80)))) -> 0 | O23: ACCEPTABLE | P23: =IF(O23="Acceptable",I23,0) -> 0
A24: 11 | F24: SELECT OPTION | I24: =IF(ISBLANK(B24),0,0+IF(ISBLANK(E24),0,0+IF(ISBLANK(G24),0,0+IF(F24="Accepted",10)+IF(F24="Published",20)+IF(F24="Granted",80)))) -> 0 | O24: ACCEPTABLE | P24: =IF(O24="Acceptable",I24,0) -> 0
A25: 12 | F25: SELECT OPTION | I25: =IF(ISBLANK(B25),0,0+IF(ISBLANK(E25),0,0+IF(ISBLANK(G25),0,0+IF(F25="Accepted",10)+IF(F25="Published",20)+IF(F25="Granted",80)))) -> 0 | O25: ACCEPTABLE | P25: =IF(O25="Acceptable",I25,0) -> 0
A26: 13 | F26: SELECT OPTION | I26: =IF(ISBLANK(B26),0,0+IF(ISBLANK(E26),0,0+IF(ISBLANK(G26),0,0+IF(F26="Accepted",10)+IF(F26="Published",20)+IF(F26="Granted",80)))) -> 0 | O26: ACCEPTABLE | P26: =IF(O26="Acceptable",I26,0) -> 0
A27: 14 | F27: SELECT OPTION | I27: =IF(ISBLANK(B27),0,0+IF(ISBLANK(E27),0,0+IF(ISBLANK(G27),0,0+IF(F27="Accepted",10)+IF(F27="Published",20)+IF(F27="Granted",80)))) -> 0 | O27: ACCEPTABLE | P27: =IF(O27="Acceptable",I27,0) -> 0
A28: 15 | F28: SELECT OPTION | I28: =IF(ISBLANK(B28),0,0+IF(ISBLANK(E28),0,0+IF(ISBLANK(G28),0,0+IF(F28="Accepted",10)+IF(F28="Published",20)+IF(F28="Granted",80)))) -> 0 | O28: ACCEPTABLE | P28: =IF(O28="Acceptable",I28,0) -> 0
G29: TOTAL | I29: =SUM(I14:I28) -> 0 | P29: =SUM(P14:P28) -> 0
A31: WITH MULTIPLE INVENTORS | M31: =A31 -> WITH MULTIPLE INVENTORS | O31: =A31 -> WITH MULTIPLE INVENTORS
A32: No. | B32: Name of the Invention | E32: Date of Application | F32: Patent Application Stage | G32: Date Accepted, Published, or Granted (mm/dd/yyyy) | I32: % Contribution (write in decimal form) | J32: Faculty Score | K32: Link to Evidence from Google Drive | M32: REMARKS | O32: Validation of Documents | P32: Validated % Contribution (specify new %, if applicable) | Q32: Validated Score | R32: Explanation for Non-Acceptance
A33: 1 | F33: SELECT OPTION | I33: 0 | J33: =(IF(ISBLANK(B33),0,0+(IF(ISBLANK(E33),0,0+(IF(ISBLANK(F33),0,0+(IF(ISBLANK(G33),0,0+IF(F33="Accepted",10)+IF(F33="Published",20)+IF(F33="Granted",80)))*I33)))))) -> 0 | O33: ACCEPTABLE | P33: =IF(O33="Acceptable",I33,0) -> 0 | Q33: =(IF(ISBLANK(B33),0,0+(IF(ISBLANK(E33),0,0+(IF(ISBLANK(F33),0,0+(IF(ISBLANK(G33),0,0+IF(F33="Accepted",10)+IF(F33="Published",20)+IF(F33="Granted",80)))*P33)))))) -> 0
A34: 2 | F34: SELECT OPTION | I34: 0 | J34: =(IF(ISBLANK(B34),0,0+(IF(ISBLANK(E34),0,0+(IF(ISBLANK(F34),0,0+(IF(ISBLANK(G34),0,0+IF(F34="Accepted",10)+IF(F34="Published",20)+IF(F34="Granted",80)))*I34)))))) -> 0 | O34: ACCEPTABLE | P34: =IF(O34="Acceptable",I34,0) -> 0 | Q34: =(IF(ISBLANK(B34),0,0+(IF(ISBLANK(E34),0,0+(IF(ISBLANK(F34),0,0+(IF(ISBLANK(G34),0,0+IF(F34="Accepted",10)+IF(F34="Published",20)+IF(F34="Granted",80)))*P34)))))) -> 0
A35: 3 | F35: SELECT OPTION | I35: 0 | J35: =(IF(ISBLANK(B35),0,0+(IF(ISBLANK(E35),0,0+(IF(ISBLANK(F35),0,0+(IF(ISBLANK(G35),0,0+IF(F35="Accepted",10)+IF(F35="Published",20)+IF(F35="Granted",80)))*I35)))))) -> 0 | O35: ACCEPTABLE | P35: =IF(O35="Acceptable",I35,0) -> 0 | Q35: =(IF(ISBLANK(B35),0,0+(IF(ISBLANK(E35),0,0+(IF(ISBLANK(F35),0,0+(IF(ISBLANK(G35),0,0+IF(F35="Accepted",10)+IF(F35="Published",20)+IF(F35="Granted",80)))*P35)))))) -> 0
A36: 4 | F36: SELECT OPTION | I36: 0 | J36: =(IF(ISBLANK(B36),0,0+(IF(ISBLANK(E36),0,0+(IF(ISBLANK(F36),0,0+(IF(ISBLANK(G36),0,0+IF(F36="Accepted",10)+IF(F36="Published",20)+IF(F36="Granted",80)))*I36)))))) -> 0 | O36: ACCEPTABLE | P36: =IF(O36="Acceptable",I36,0) -> 0 | Q36: =(IF(ISBLANK(B36),0,0+(IF(ISBLANK(E36),0,0+(IF(ISBLANK(F36),0,0+(IF(ISBLANK(G36),0,0+IF(F36="Accepted",10)+IF(F36="Published",20)+IF(F36="Granted",80)))*P36)))))) -> 0
A37: 5 | F37: SELECT OPTION | I37: 0 | J37: =(IF(ISBLANK(B37),0,0+(IF(ISBLANK(E37),0,0+(IF(ISBLANK(F37),0,0+(IF(ISBLANK(G37),0,0+IF(F37="Accepted",10)+IF(F37="Published",20)+IF(F37="Granted",80)))*I37)))))) -> 0 | O37: ACCEPTABLE | P37: =IF(O37="Acceptable",I37,0) -> 0 | Q37: =(IF(ISBLANK(B37),0,0+(IF(ISBLANK(E37),0,0+(IF(ISBLANK(F37),0,0+(IF(ISBLANK(G37),0,0+IF(F37="Accepted",10)+IF(F37="Published",20)+IF(F37="Granted",80)))*P37)))))) -> 0
A38: 6 | F38: SELECT OPTION | I38: 0 | J38: =(IF(ISBLANK(B38),0,0+(IF(ISBLANK(E38),0,0+(IF(ISBLANK(F38),0,0+(IF(ISBLANK(G38),0,0+IF(F38="Accepted",10)+IF(F38="Published",20)+IF(F38="Granted",80)))*I38)))))) -> 0 | O38: ACCEPTABLE | P38: =IF(O38="Acceptable",I38,0) -> 0 | Q38: =(IF(ISBLANK(B38),0,0+(IF(ISBLANK(E38),0,0+(IF(ISBLANK(F38),0,0+(IF(ISBLANK(G38),0,0+IF(F38="Accepted",10)+IF(F38="Published",20)+IF(F38="Granted",80)))*P38)))))) -> 0
A39: 7 | F39: SELECT OPTION | I39: 0 | J39: =(IF(ISBLANK(B39),0,0+(IF(ISBLANK(E39),0,0+(IF(ISBLANK(F39),0,0+(IF(ISBLANK(G39),0,0+IF(F39="Accepted",10)+IF(F39="Published",20)+IF(F39="Granted",80)))*I39)))))) -> 0 | O39: ACCEPTABLE | P39: =IF(O39="Acceptable",I39,0) -> 0 | Q39: =(IF(ISBLANK(B39),0,0+(IF(ISBLANK(E39),0,0+(IF(ISBLANK(F39),0,0+(IF(ISBLANK(G39),0,0+IF(F39="Accepted",10)+IF(F39="Published",20)+IF(F39="Granted",80)))*P39)))))) -> 0
A40: 8 | F40: SELECT OPTION | I40: 0 | J40: =(IF(ISBLANK(B40),0,0+(IF(ISBLANK(E40),0,0+(IF(ISBLANK(F40),0,0+(IF(ISBLANK(G40),0,0+IF(F40="Accepted",10)+IF(F40="Published",20)+IF(F40="Granted",80)))*I40)))))) -> 0 | O40: ACCEPTABLE | P40: =IF(O40="Acceptable",I40,0) -> 0 | Q40: =(IF(ISBLANK(B40),0,0+(IF(ISBLANK(E40),0,0+(IF(ISBLANK(F40),0,0+(IF(ISBLANK(G40),0,0+IF(F40="Accepted",10)+IF(F40="Published",20)+IF(F40="Granted",80)))*P40)))))) -> 0
A41: 9 | F41: SELECT OPTION | I41: 0 | J41: =(IF(ISBLANK(B41),0,0+(IF(ISBLANK(E41),0,0+(IF(ISBLANK(F41),0,0+(IF(ISBLANK(G41),0,0+IF(F41="Accepted",10)+IF(F41="Published",20)+IF(F41="Granted",80)))*I41)))))) -> 0 | O41: ACCEPTABLE | P41: =IF(O41="Acceptable",I41,0) -> 0 | Q41: =(IF(ISBLANK(B41),0,0+(IF(ISBLANK(E41),0,0+(IF(ISBLANK(F41),0,0+(IF(ISBLANK(G41),0,0+IF(F41="Accepted",10)+IF(F41="Published",20)+IF(F41="Granted",80)))*P41)))))) -> 0
A42: 10 | F42: SELECT OPTION | I42: 0 | J42: =(IF(ISBLANK(B42),0,0+(IF(ISBLANK(E42),0,0+(IF(ISBLANK(F42),0,0+(IF(ISBLANK(G42),0,0+IF(F42="Accepted",10)+IF(F42="Published",20)+IF(F42="Granted",80)))*I42)))))) -> 0 | O42: ACCEPTABLE | P42: =IF(O42="Acceptable",I42,0) -> 0 | Q42: =(IF(ISBLANK(B42),0,0+(IF(ISBLANK(E42),0,0+(IF(ISBLANK(F42),0,0+(IF(ISBLANK(G42),0,0+IF(F42="Accepted",10)+IF(F42="Published",20)+IF(F42="Granted",80)))*P42)))))) -> 0
A43: 11 | F43: SELECT OPTION | I43: 0 | J43: =(IF(ISBLANK(B43),0,0+(IF(ISBLANK(E43),0,0+(IF(ISBLANK(F43),0,0+(IF(ISBLANK(G43),0,0+IF(F43="Accepted",10)+IF(F43="Published",20)+IF(F43="Granted",80)))*I43)))))) -> 0 | O43: ACCEPTABLE | P43: =IF(O43="Acceptable",I43,0) -> 0 | Q43: =(IF(ISBLANK(B43),0,0+(IF(ISBLANK(E43),0,0+(IF(ISBLANK(F43),0,0+(IF(ISBLANK(G43),0,0+IF(F43="Accepted",10)+IF(F43="Published",20)+IF(F43="Granted",80)))*P43)))))) -> 0
A44: 12 | F44: SELECT OPTION | I44: 0 | J44: =(IF(ISBLANK(B44),0,0+(IF(ISBLANK(E44),0,0+(IF(ISBLANK(F44),0,0+(IF(ISBLANK(G44),0,0+IF(F44="Accepted",10)+IF(F44="Published",20)+IF(F44="Granted",80)))*I44)))))) -> 0 | O44: ACCEPTABLE | P44: =IF(O44="Acceptable",I44,0) -> 0 | Q44: =(IF(ISBLANK(B44),0,0+(IF(ISBLANK(E44),0,0+(IF(ISBLANK(F44),0,0+(IF(ISBLANK(G44),0,0+IF(F44="Accepted",10)+IF(F44="Published",20)+IF(F44="Granted",80)))*P44)))))) -> 0
... A47: 15 | F47: SELECT OPTION | I47: 0 | J47: =(IF(ISBLANK(B47),0,0+(IF(ISBLANK(E47),0,0+(IF(ISBLANK(F47),0,0+(IF(ISBLANK(G47),0,0+IF(F47="Accepted",10)+IF(F47="Published",20)+IF(F47="Granted",80)))*I47)))))) -> 0 | O47: ACCEPTABLE | P47: =IF(O47="Acceptable",I47,0) -> 0 | Q47: =(IF(ISBLANK(B47),0,0+(IF(ISBLANK(E47),0,0+(IF(ISBLANK(F47),0,0+(IF(ISBLANK(G47),0,0+IF(F47="Accepted",10)+IF(F47="Published",20)+IF(F47="Granted",80)))*P47)))))) -> 0
B48: Note: should be accompanied by a Certification using FORM II-B1a | I48: TOTAL | J48: =SUM(J33:J47) -> 0 | Q48: =SUM(Q33:Q47) -> 0
A50: 1.1.2 | B50: UTILITY MODELS AND INDUSTRIAL DESIGNS | M50: =B50 -> UTILITY MODELS AND INDUSTRIAL DESIGNS | O50: =B50 -> UTILITY MODELS AND INDUSTRIAL DESIGNS
A51: SOLE INVENTOR | M51: =A51 -> SOLE INVENTOR | O51: =A51 -> SOLE INVENTOR
A52: No. | B52: Name of Invention | E52: Type of Patent | F52: Date of Application (mm/dd/yyyy) | G52: Date Granted (mm/dd/yyyy) | I52: Faculty Score | J52: Link to Evidence from Google Drive | M52: REMARKS | O52: Validation of Documents | P52: Validated Score | Q52: Explanation for Non-Acceptance
A53: 1 | E53: SELECT OPTION | I53: =IF(ISBLANK(B53),0,0+IF(ISBLANK(F53),0,0+IF(ISBLANK(G53),0,0+IF(E53="Utility Model",10,0+IF(E53="Industrial Design",5,0))))) -> 0 | O53: ACCEPTABLE | P53: =IF(O53="Acceptable",I53,0) -> 0 | AC53: SELECT OPTION
A54: 2 | E54: SELECT OPTION | I54: =IF(ISBLANK(B54),0,0+IF(ISBLANK(F54),0,0+IF(ISBLANK(G54),0,0+IF(E54="Utility Model",10,0+IF(E54="Industrial Design",5,0))))) -> 0 | O54: ACCEPTABLE | P54: =IF(O54="Acceptable",I54,0) -> 0 | AC54: Utility Model
A55: 3 | E55: SELECT OPTION | I55: =IF(ISBLANK(B55),0,0+IF(ISBLANK(F55),0,0+IF(ISBLANK(G55),0,0+IF(E55="Utility Model",10,0+IF(E55="Industrial Design",5,0))))) -> 0 | O55: ACCEPTABLE | P55: =IF(O55="Acceptable",I55,0) -> 0 | AC55: Industrial Design
A56: 4 | E56: SELECT OPTION | I56: =IF(ISBLANK(B56),0,0+IF(ISBLANK(F56),0,0+IF(ISBLANK(G56),0,0+IF(E56="Utility Model",10,0+IF(E56="Industrial Design",5,0))))) -> 0 | O56: ACCEPTABLE | P56: =IF(O56="Acceptable",I56,0) -> 0 | AC56: Utility Model
A57: 5 | E57: SELECT OPTION | I57: =IF(ISBLANK(B57),0,0+IF(ISBLANK(F57),0,0+IF(ISBLANK(G57),0,0+IF(E57="Utility Model",10,0+IF(E57="Industrial Design",5,0))))) -> 0 | O57: ACCEPTABLE | P57: =IF(O57="Acceptable",I57,0) -> 0 | AC57: Utility Model
A58: 6 | E58: SELECT OPTION | I58: =IF(ISBLANK(B58),0,0+IF(ISBLANK(F58),0,0+IF(ISBLANK(G58),0,0+IF(E58="Utility Model",10,0+IF(E58="Industrial Design",5,0))))) -> 0 | O58: ACCEPTABLE | P58: =IF(O58="Acceptable",I58,0) -> 0 | AC58: Industrial Design
A59: 7 | E59: SELECT OPTION | I59: =IF(ISBLANK(B59),0,0+IF(ISBLANK(F59),0,0+IF(ISBLANK(G59),0,0+IF(E59="Utility Model",10,0+IF(E59="Industrial Design",5,0))))) -> 0 | O59: ACCEPTABLE | P59: =IF(O59="Acceptable",I59,0) -> 0
A60: 8 | E60: SELECT OPTION | I60: =IF(ISBLANK(B60),0,0+IF(ISBLANK(F60),0,0+IF(ISBLANK(G60),0,0+IF(E60="Utility Model",10,0+IF(E60="Industrial Design",5,0))))) -> 0 | O60: ACCEPTABLE | P60: =IF(O60="Acceptable",I60,0) -> 0
A61: 9 | E61: SELECT OPTION | I61: =IF(ISBLANK(B61),0,0+IF(ISBLANK(F61),0,0+IF(ISBLANK(G61),0,0+IF(E61="Utility Model",10,0+IF(E61="Industrial Design",5,0))))) -> 0 | O61: ACCEPTABLE | P61: =IF(O61="Acceptable",I61,0) -> 0
A62: 10 | E62: SELECT OPTION | I62: =IF(ISBLANK(B62),0,0+IF(ISBLANK(F62),0,0+IF(ISBLANK(G62),0,0+IF(E62="Utility Model",10,0+IF(E62="Industrial Design",5,0))))) -> 0 | O62: ACCEPTABLE | P62: =IF(O62="Acceptable",I62,0) -> 0
A63: 11 | E63: SELECT OPTION | I63: =IF(ISBLANK(B63),0,0+IF(ISBLANK(F63),0,0+IF(ISBLANK(G63),0,0+IF(E63="Utility Model",10,0+IF(E63="Industrial Design",5,0))))) -> 0 | O63: ACCEPTABLE | P63: =IF(O63="Acceptable",I63,0) -> 0
A64: 12 | E64: SELECT OPTION | I64: =IF(ISBLANK(B64),0,0+IF(ISBLANK(F64),0,0+IF(ISBLANK(G64),0,0+IF(E64="Utility Model",10,0+IF(E64="Industrial Design",5,0))))) -> 0 | O64: ACCEPTABLE | P64: =IF(O64="Acceptable",I64,0) -> 0
A65: 13 | E65: SELECT OPTION | I65: =IF(ISBLANK(B65),0,0+IF(ISBLANK(F65),0,0+IF(ISBLANK(G65),0,0+IF(E65="Utility Model",10,0+IF(E65="Industrial Design",5,0))))) -> 0 | O65: ACCEPTABLE | P65: =IF(O65="Acceptable",I65,0) -> 0
A66: 14 | E66: SELECT OPTION | I66: =IF(ISBLANK(B66),0,0+IF(ISBLANK(F66),0,0+IF(ISBLANK(G66),0,0+IF(E66="Utility Model",10,0+IF(E66="Industrial Design",5,0))))) -> 0 | O66: ACCEPTABLE | P66: =IF(O66="Acceptable",I66,0) -> 0
A67: 15 | E67: SELECT OPTION | I67: =IF(ISBLANK(B67),0,0+IF(ISBLANK(F67),0,0+IF(ISBLANK(G67),0,0+IF(E67="Utility Model",10,0+IF(E67="Industrial Design",5,0))))) -> 0 | O67: ACCEPTABLE | P67: =IF(O67="Acceptable",I67,0) -> 0
B68: Note: should be accompanied by a Certification using FORM II-B1a | G68: TOTAL | I68: =SUM(I53:I67) -> 0 | P68: =SUM(P53:P67) -> 0
A70: WITH MULTIPLE INVENTORS | M70: =A70 -> WITH MULTIPLE INVENTORS | O70: =A70 -> WITH MULTIPLE INVENTORS
A71: No. | B71: Name of Invention | E71: Type of Patent | F71: Date of Application (mm/dd/yyyy) | G71: Date Granted (mm/dd/yyyy) | I71: % Contribution (write in decimal form) | J71: Faculty Score | K71: Link to Evidence from Google Drive | M71: REMARKS | O71: Validation of Documents | P71: Validated % Contribution (specify new %, if applicable) | Q71: Validated Score | R71: Explanation for Non-Acceptance
A72: 1 | E72: SELECT OPTION | I72: 0 | J72: =(IF(ISBLANK(B72),0,0+IF(ISBLANK(F72),0,0+IF(ISBLANK(G72),0,0+IF(E72="Utility Model",10,0+IF(E72="Industrial Design",5,0)))))*I72) -> 0 | O72: ACCEPTABLE | P72: =IF(O72="Acceptable",I72,0) -> 0 | Q72: =(IF(ISBLANK(B72),0,0+IF(ISBLANK(F72),0,0+IF(ISBLANK(G72),0,0+IF(E72="Utility Model",10,0+IF(E72="Industrial Design",5,0)))))*P72) -> 0
A73: 2 | E73: SELECT OPTION | I73: 0 | J73: =(IF(ISBLANK(B73),0,0+IF(ISBLANK(F73),0,0+IF(ISBLANK(G73),0,0+IF(E73="Utility Model",10,0+IF(E73="Industrial Design",5,0)))))*I73) -> 0 | O73: ACCEPTABLE | P73: =IF(O73="Acceptable",I73,0) -> 0 | Q73: =(IF(ISBLANK(B73),0,0+IF(ISBLANK(F73),0,0+IF(ISBLANK(G73),0,0+IF(E73="Utility Model",10,0+IF(E73="Industrial Design",5,0)))))*P73) -> 0
A74: 3 | E74: SELECT OPTION | I74: 0 | J74: =(IF(ISBLANK(B74),0,0+IF(ISBLANK(F74),0,0+IF(ISBLANK(G74),0,0+IF(E74="Utility Model",10,0+IF(E74="Industrial Design",5,0)))))*I74) -> 0 | O74: ACCEPTABLE | P74: =IF(O74="Acceptable",I74,0) -> 0 | Q74: =(IF(ISBLANK(B74),0,0+IF(ISBLANK(F74),0,0+IF(ISBLANK(G74),0,0+IF(E74="Utility Model",10,0+IF(E74="Industrial Design",5,0)))))*P74) -> 0
A75: 4 | E75: SELECT OPTION | I75: 0 | J75: =(IF(ISBLANK(B75),0,0+IF(ISBLANK(F75),0,0+IF(ISBLANK(G75),0,0+IF(E75="Utility Model",10,0+IF(E75="Industrial Design",5,0)))))*I75) -> 0 | O75: ACCEPTABLE | P75: =IF(O75="Acceptable",I75,0) -> 0 | Q75: =(IF(ISBLANK(B75),0,0+IF(ISBLANK(F75),0,0+IF(ISBLANK(G75),0,0+IF(E75="Utility Model",10,0+IF(E75="Industrial Design",5,0)))))*P75) -> 0
A76: 5 | E76: SELECT OPTION | I76: 0 | J76: =(IF(ISBLANK(B76),0,0+IF(ISBLANK(F76),0,0+IF(ISBLANK(G76),0,0+IF(E76="Utility Model",10,0+IF(E76="Industrial Design",5,0)))))*I76) -> 0 | O76: ACCEPTABLE | P76: =IF(O76="Acceptable",I76,0) -> 0 | Q76: =(IF(ISBLANK(B76),0,0+IF(ISBLANK(F76),0,0+IF(ISBLANK(G76),0,0+IF(E76="Utility Model",10,0+IF(E76="Industrial Design",5,0)))))*P76) -> 0
A77: 6 | E77: SELECT OPTION | I77: 0 | J77: =(IF(ISBLANK(B77),0,0+IF(ISBLANK(F77),0,0+IF(ISBLANK(G77),0,0+IF(E77="Utility Model",10,0+IF(E77="Industrial Design",5,0)))))*I77) -> 0 | O77: ACCEPTABLE | P77: =IF(O77="Acceptable",I77,0) -> 0 | Q77: =(IF(ISBLANK(B77),0,0+IF(ISBLANK(F77),0,0+IF(ISBLANK(G77),0,0+IF(E77="Utility Model",10,0+IF(E77="Industrial Design",5,0)))))*P77) -> 0
A78: 7 | E78: SELECT OPTION | I78: 0 | J78: =(IF(ISBLANK(B78),0,0+IF(ISBLANK(F78),0,0+IF(ISBLANK(G78),0,0+IF(E78="Utility Model",10,0+IF(E78="Industrial Design",5,0)))))*I78) -> 0 | O78: ACCEPTABLE | P78: =IF(O78="Acceptable",I78,0) -> 0 | Q78: =(IF(ISBLANK(B78),0,0+IF(ISBLANK(F78),0,0+IF(ISBLANK(G78),0,0+IF(E78="Utility Model",10,0+IF(E78="Industrial Design",5,0)))))*P78) -> 0
A79: 8 | E79: SELECT OPTION | I79: 0 | J79: =(IF(ISBLANK(B79),0,0+IF(ISBLANK(F79),0,0+IF(ISBLANK(G79),0,0+IF(E79="Utility Model",10,0+IF(E79="Industrial Design",5,0)))))*I79) -> 0 | O79: ACCEPTABLE | P79: =IF(O79="Acceptable",I79,0) -> 0 | Q79: =(IF(ISBLANK(B79),0,0+IF(ISBLANK(F79),0,0+IF(ISBLANK(G79),0,0+IF(E79="Utility Model",10,0+IF(E79="Industrial Design",5,0)))))*P79) -> 0
A80: 9 | E80: SELECT OPTION | I80: 0 | J80: =(IF(ISBLANK(B80),0,0+IF(ISBLANK(F80),0,0+IF(ISBLANK(G80),0,0+IF(E80="Utility Model",10,0+IF(E80="Industrial Design",5,0)))))*I80) -> 0 | O80: ACCEPTABLE | P80: =IF(O80="Acceptable",I80,0) -> 0 | Q80: =(IF(ISBLANK(B80),0,0+IF(ISBLANK(F80),0,0+IF(ISBLANK(G80),0,0+IF(E80="Utility Model",10,0+IF(E80="Industrial Design",5,0)))))*P80) -> 0
A81: 10 | E81: SELECT OPTION | I81: 0 | J81: =(IF(ISBLANK(B81),0,0+IF(ISBLANK(F81),0,0+IF(ISBLANK(G81),0,0+IF(E81="Utility Model",10,0+IF(E81="Industrial Design",5,0)))))*I81) -> 0 | O81: ACCEPTABLE | P81: =IF(O81="Acceptable",I81,0) -> 0 | Q81: =(IF(ISBLANK(B81),0,0+IF(ISBLANK(F81),0,0+IF(ISBLANK(G81),0,0+IF(E81="Utility Model",10,0+IF(E81="Industrial Design",5,0)))))*P81) -> 0
A82: 11 | E82: SELECT OPTION | I82: 0 | J82: =(IF(ISBLANK(B82),0,0+IF(ISBLANK(F82),0,0+IF(ISBLANK(G82),0,0+IF(E82="Utility Model",10,0+IF(E82="Industrial Design",5,0)))))*I82) -> 0 | O82: ACCEPTABLE | P82: =IF(O82="Acceptable",I82,0) -> 0 | Q82: =(IF(ISBLANK(B82),0,0+IF(ISBLANK(F82),0,0+IF(ISBLANK(G82),0,0+IF(E82="Utility Model",10,0+IF(E82="Industrial Design",5,0)))))*P82) -> 0
A83: 12 | E83: SELECT OPTION | I83: 0 | J83: =(IF(ISBLANK(B83),0,0+IF(ISBLANK(F83),0,0+IF(ISBLANK(G83),0,0+IF(E83="Utility Model",10,0+IF(E83="Industrial Design",5,0)))))*I83) -> 0 | O83: ACCEPTABLE | P83: =IF(O83="Acceptable",I83,0) -> 0 | Q83: =(IF(ISBLANK(B83),0,0+IF(ISBLANK(F83),0,0+IF(ISBLANK(G83),0,0+IF(E83="Utility Model",10,0+IF(E83="Industrial Design",5,0)))))*P83) -> 0
... A86: 15 | E86: SELECT OPTION | I86: 0 | J86: =(IF(ISBLANK(B86),0,0+IF(ISBLANK(F86),0,0+IF(ISBLANK(G86),0,0+IF(E86="Utility Model",10,0+IF(E86="Industrial Design",5,0)))))*I86) -> 0 | O86: ACCEPTABLE | P86: =IF(O86="Acceptable",I86,0) -> 0 | Q86: =(IF(ISBLANK(B86),0,0+IF(ISBLANK(F86),0,0+IF(ISBLANK(G86),0,0+IF(E86="Utility Model",10,0+IF(E86="Industrial Design",5,0)))))*P86) -> 0
B87: Note: should be accompanied by a Certification using FORM II-B1a | I87: TOTAL | J87: =SUM(J72:J86) -> 0 | Q87: =SUM(Q72:Q86) -> 0
A89: 1.2 | B89: COMMERCIALIZED PATENTED PRODUCTS | M89: =B89 -> COMMERCIALIZED PATENTED PRODUCTS | O89: =B89 -> COMMERCIALIZED PATENTED PRODUCTS
A90: 1.2.1 | B90: LOCAL (MAX = 20 POINTS) | M90: =B90 -> LOCAL (MAX = 20 POINTS) | O90: =B90 -> LOCAL (MAX = 20 POINTS)
A91: No. | B91: Name of Patented Product | E91: Type of Product | F91: Date Patented (mm/dd/yyyy) | G91: Date Product was first Commercialized (mm/dd/yyyy) | I91: Area/Place Commercialized | J91: Faculty Score | K91: Link to Evidence from Google Drive | M91: REMARKS | O91: Validation of Documents | P91: Validated Score | Q91: Explanation for Non-Acceptance
A92: 1 | J92: =IF(ISBLANK(B92),0,0+IF(ISBLANK(E92),0,0+IF(ISBLANK(F92),0,0+IF(ISBLANK(G92),0,0+IF(ISBLANK(I92),0,5))))) -> 0 | O92: ACCEPTABLE | P92: =IF(O92="Acceptable",J92,0) -> 0
A93: 2 | J93: =IF(ISBLANK(B93),0,0+IF(ISBLANK(E93),0,0+IF(ISBLANK(F93),0,0+IF(ISBLANK(G93),0,0+IF(ISBLANK(I93),0,5))))) -> 0 | O93: ACCEPTABLE | P93: =IF(O93="Acceptable",J93,0) -> 0
A94: 3 | J94: =IF(ISBLANK(B94),0,0+IF(ISBLANK(E94),0,0+IF(ISBLANK(F94),0,0+IF(ISBLANK(G94),0,0+IF(ISBLANK(I94),0,5))))) -> 0 | O94: ACCEPTABLE | P94: =IF(O94="Acceptable",J94,0) -> 0
A95: 4 | J95: =IF(ISBLANK(B95),0,0+IF(ISBLANK(E95),0,0+IF(ISBLANK(F95),0,0+IF(ISBLANK(G95),0,0+IF(ISBLANK(I95),0,5))))) -> 0 | O95: ACCEPTABLE | P95: =IF(O95="Acceptable",J95,0) -> 0
A96: 5 | J96: =IF(ISBLANK(B96),0,0+IF(ISBLANK(E96),0,0+IF(ISBLANK(F96),0,0+IF(ISBLANK(G96),0,0+IF(ISBLANK(I96),0,5))))) -> 0 | O96: ACCEPTABLE | P96: =IF(O96="Acceptable",J96,0) -> 0
A97: 6 | J97: =IF(ISBLANK(B97),0,0+IF(ISBLANK(E97),0,0+IF(ISBLANK(F97),0,0+IF(ISBLANK(G97),0,0+IF(ISBLANK(I97),0,5))))) -> 0 | O97: ACCEPTABLE | P97: =IF(O97="Acceptable",J97,0) -> 0
A98: 7 | J98: =IF(ISBLANK(B98),0,0+IF(ISBLANK(E98),0,0+IF(ISBLANK(F98),0,0+IF(ISBLANK(G98),0,0+IF(ISBLANK(I98),0,5))))) -> 0 | O98: ACCEPTABLE | P98: =IF(O98="Acceptable",J98,0) -> 0
A99: 8 | J99: =IF(ISBLANK(B99),0,0+IF(ISBLANK(E99),0,0+IF(ISBLANK(F99),0,0+IF(ISBLANK(G99),0,0+IF(ISBLANK(I99),0,5))))) -> 0 | O99: ACCEPTABLE | P99: =IF(O99="Acceptable",J99,0) -> 0
A100: 9 | J100: =IF(ISBLANK(B100),0,0+IF(ISBLANK(E100),0,0+IF(ISBLANK(F100),0,0+IF(ISBLANK(G100),0,0+IF(ISBLANK(I100),0,5))))) -> 0 | O100: ACCEPTABLE | P100: =IF(O100="Acceptable",J100,0) -> 0
A101: 10 | J101: =IF(ISBLANK(B101),0,0+IF(ISBLANK(E101),0,0+IF(ISBLANK(F101),0,0+IF(ISBLANK(G101),0,0+IF(ISBLANK(I101),0,5))))) -> 0 | O101: ACCEPTABLE | P101: =IF(O101="Acceptable",J101,0) -> 0
I102: TOTAL | J102: =SUM(J92:J101) -> 0 | P102: =SUM(P92:P101) -> 0
A104: 1.2.2 | B104: INTERNATIONAL (MAX = 30 POINTS) | M104: =B104 -> INTERNATIONAL (MAX = 30 POINTS) | O104: =B104 -> INTERNATIONAL (MAX = 30 POINTS)
A105: No. | B105: Name of Patented Product | E105: Type of Product | F105: Date Patented (mm/dd/yyyy) | G105: Date Product was first Commercialized (mm/dd/yyyy) | I105: Area/Place Commercialized | J105: Faculty Score | K105: Link to Evidence from Google Drive | M105: REMARKS | O105: Validation of Documents | P105: Validated Score | Q105: Explanation for Non-Acceptance
A106: 1 | J106: =IF(ISBLANK(B106),0,0+IF(ISBLANK(E106),0,0+IF(ISBLANK(F106),0,0+IF(ISBLANK(G106),0,0+IF(ISBLANK(I106),0,10))))) -> 0 | O106: ACCEPTABLE | P106: =IF(O106="Acceptable",J106,0) -> 0
A107: 2 | J107: =IF(ISBLANK(B107),0,10) -> 0 | O107: ACCEPTABLE | P107: =IF(O107="Acceptable",J107,0) -> 0
A108: 3 | J108: =IF(ISBLANK(B108),0,10) -> 0 | O108: ACCEPTABLE | P108: =IF(O108="Acceptable",J108,0) -> 0
A109: 4 | J109: =IF(ISBLANK(B109),0,10) -> 0 | O109: ACCEPTABLE | P109: =IF(O109="Acceptable",J109,0) -> 0
A110: 5 | J110: =IF(ISBLANK(B110),0,10) -> 0 | O110: ACCEPTABLE | P110: =IF(O110="Acceptable",J110,0) -> 0
A111: 6 | J111: =IF(ISBLANK(B111),0,10) -> 0 | O111: ACCEPTABLE | P111: =IF(O111="Acceptable",J111,0) -> 0
...

Sheet Form2_C
A1: KRA II - RESEARCH, INNOVATION AND CREATIVE WORK | N1: =A1 -> KRA II - RESEARCH, INNOVATION AND CREATIVE WORK | P1: =A1 -> KRA II - RESEARCH, INNOVATION AND CREATIVE WORK
A3: ='Request Form'!B6 -> LAST NAME: | D3: =Form1_A!E3 -> 0 | P3: =A3 -> LAST NAME: | Q3: =D3 -> 0
A4: ='Request Form'!B7 -> FIRST NAME, EXT.: | D4: =Form1_A!E4 -> 0 | P4: =A4 -> FIRST NAME, EXT.: | Q4: =D4 -> 0
A5: ='Request Form'!B8 -> MIDDLE NAME: | D5: =Form1_A!E5 -> 0 | P5: =A5 -> MIDDLE NAME: | Q5: =D5 -> 0
AB6: ACCEPTABLE
A7: CRITERION C - CREATIVE WORKS (MAX = 100 POINTS) | N7: =A7 -> CRITERION C - CREATIVE WORKS (MAX = 100 POINTS) | P7: =A7 -> CRITERION C - CREATIVE WORKS (MAX = 100 POINTS) | AB7: NOT ACCEPTABLE
A9: 1. | B9: FOR EVERY CREATIVE WORK CREATED, PERFORMED. PRESENTED, EXHIBITED AND PUBLISHED | N9: =B9 -> FOR EVERY CREATIVE WORK CREATED, PERFORMED. PRESENTED, EXHIBITED AND PUBLISHED | P9: =B9 -> FOR EVERY CREATIVE WORK CREATED, PERFORMED. PRESENTED, EXHIBITED AND PUBLISHED
A10: 1.1 | B10: NEW CREATIVE PERFORMING ARTWORK (e.g. MUSIC, DANCE AND THEATRE) | N10: =B10 -> NEW CREATIVE PERFORMING ARTWORK (e.g. MUSIC, DANCE AND THEATRE) | P10: =B10 -> NEW CREATIVE PERFORMING ARTWORK (e.g. MUSIC, DANCE AND THEATRE) | AB10: SELECT OPTION
A11: No. | B11: Title of Creative Performing Art | E11: Type of Performing Art | F11: Classification | G11: Date Copyrighted / Date Performed (mm/dd/yyyy) | H11: Venue of Performance | J11: Organizer | K11: Faculty Points | L11: Link to Evidence from Google Drive | N11: REMARKS | P11: Validation of Documents | Q11: Validated Score | R11: Explanation for Non-Acceptance | AB11: New Creation
AB12: Own Work
A13: 1 | E13: SELECT OPTION | F13: SELECT OPTION | K13: =IF(ISBLANK(B13),0,0+IF(E13="SELECT OPTION",0,0+IF(ISBLANK(G13),0,0+IF(ISBLANK(J13),0,0+IF(F13="New Creation",20,0+IF(F13="Own Work",10,0+IF(F13="Work of Others",10,0))))))) -> 0 | P13: ACCEPTABLE | Q13: =IF(P13="Acceptable",K13,0) -> 0 | AA13: 43647 | AB13: Work of Others | AD13: SELECT OPTION
A14: 2 | E14: SELECT OPTION | F14: SELECT OPTION | K14: =IF(ISBLANK(B14),0,0+IF(ISBLANK(E14),0,0+IF(ISBLANK(G14),0,0+IF(ISBLANK(J14),0,0+IF(F14="New Creation",20,0+IF(F14="Own Work",10,0+IF(F14="Work of Others",10,0))))))) -> 0 | P14: ACCEPTABLE | Q14: =IF(P14="Acceptable",K14,0) -> 0 | AA14: 48426 | AD14: Song/Music
A15: 3 | E15: SELECT OPTION | F15: SELECT OPTION | K15: =IF(ISBLANK(B15),0,0+IF(ISBLANK(E15),0,0+IF(ISBLANK(G15),0,0+IF(ISBLANK(J15),0,0+IF(F15="New Creation",20,0+IF(F15="Own Work",10,0+IF(F15="Work of Others",10,0))))))) -> 0 | P15: ACCEPTABLE | Q15: =IF(P15="Acceptable",K15,0) -> 0 | AD15: Choreography/Dance
A16: 4 | E16: SELECT OPTION | F16: SELECT OPTION | K16: =IF(ISBLANK(B16),0,0+IF(ISBLANK(E16),0,0+IF(ISBLANK(G16),0,0+IF(ISBLANK(J16),0,0+IF(F16="New Creation",20,0+IF(F16="Own Work",10,0+IF(F16="Work of Others",10,0))))))) -> 0 | P16: ACCEPTABLE | Q16: =IF(P16="Acceptable",H16,0) -> 0 | AD16: Drama/Theater
A17: 5 | E17: SELECT OPTION | F17: SELECT OPTION | K17: =IF(ISBLANK(B17),0,0+IF(ISBLANK(E17),0,0+IF(ISBLANK(G17),0,0+IF(ISBLANK(J17),0,0+IF(F17="New Creation",20,0+IF(F17="Own Work",10,0+IF(F17="Work of Others",10,0))))))) -> 0 | P17: ACCEPTABLE | Q17: =IF(P17="Acceptable",H17,0) -> 0 | AD17: Others
A18: 6 | E18: SELECT OPTION | F18: SELECT OPTION | K18: =IF(ISBLANK(B18),0,0+IF(ISBLANK(E18),0,0+IF(ISBLANK(G18),0,0+IF(ISBLANK(J18),0,0+IF(F18="New Creation",20,0+IF(F18="Own Work",10,0+IF(F18="Work of Others",10,0))))))) -> 0 | P18: ACCEPTABLE | Q18: =IF(P18="Acceptable",H18,0) -> 0
A19: 7 | E19: SELECT OPTION | F19: SELECT OPTION | K19: =IF(ISBLANK(B19),0,0+IF(ISBLANK(E19),0,0+IF(ISBLANK(G19),0,0+IF(ISBLANK(J19),0,0+IF(F19="New Creation",20,0+IF(F19="Own Work",10,0+IF(F19="Work of Others",10,0))))))) -> 0 | P19: ACCEPTABLE | Q19: =IF(P19="Acceptable",H19,0) -> 0
A20: 8 | E20: SELECT OPTION | F20: SELECT OPTION | K20: =IF(ISBLANK(B20),0,0+IF(ISBLANK(E20),0,0+IF(ISBLANK(G20),0,0+IF(ISBLANK(J20),0,0+IF(F20="New Creation",20,0+IF(F20="Own Work",10,0+IF(F20="Work of Others",10,0))))))) -> 0 | P20: ACCEPTABLE | Q20: =IF(P20="Acceptable",H20,0) -> 0
J21: TOTAL | K21: =SUM(K13:K20) -> 0 | Q21: =SUM(Q13:Q20) -> 0
A23: 1.2 | B23: EXHIBITION (e.g. VISUAL ART, ARCHITECTURE, FILM AND MULTIMEDIA) | N23: =B23 -> EXHIBITION (e.g. VISUAL ART, ARCHITECTURE, FILM AND MULTIMEDIA)
A24: No. | B24: Title of Creative Work | E24: Type of Creative Work | F24: Classification | G24: Exhibition Date (mm/dd/yyyy) | H24: Venue of Exhibit | J24: Organizer | K24: Faculty Points | L24: Link to Evidence from Google Drive | N24: REMARKS | P24: Validation of Documents | Q24: Validated Score | R24: Explanation for Non-Acceptance | AB24: SELECT OPTION | AF24: SELECT OPTION
A25: 1 | E25: SELECT OPTION | F25: SELECT OPTION | K25: =IF(ISBLANK(B25),0,0+IF(E25="SELECT OPTION",0,0+IF(F25="SELECT OPTION",0,0+IF(ISBLANK(H25),0,0+IF(ISBLANK(J25),0,0+IF(ISBLANK(G25),0,20)))))) -> 0 | P25: Acceptable | Q25: =IF(P25="Acceptable",K25,0) -> 0 | AB25: Visual Arts | AF25: Painting/Drawing
A26: 2 | E26: SELECT OPTION | F26: SELECT OPTION | K26: =IF(ISBLANK(B26),0,0+IF(E26="SELECT OPTION",0,0+IF(F26="SELECT OPTION",0,0+IF(ISBLANK(H26),0,0+IF(ISBLANK(J26),0,0+IF(ISBLANK(G26),0,20)))))) -> 0 | P26: Acceptable | Q26: =IF(P26="Acceptable",K26,0) -> 0 | AB26: Architecture | AF26: Film/Short Film
A27: 3 | E27: SELECT OPTION | F27: SELECT OPTION | K27: =IF(ISBLANK(B27),0,0+IF(E27="SELECT OPTION",0,0+IF(F27="SELECT OPTION",0,0+IF(ISBLANK(H27),0,0+IF(ISBLANK(J27),0,0+IF(ISBLANK(G27),0,20)))))) -> 0 | P27: Acceptable | Q27: =IF(P27="Acceptable",H27,0) -> 0 | AB27: Film | AF27: Architectural Design
A28: 4 | E28: SELECT OPTION | F28: SELECT OPTION | K28: =IF(ISBLANK(B28),0,0+IF(E28="SELECT OPTION",0,0+IF(F28="SELECT OPTION",0,0+IF(ISBLANK(H28),0,0+IF(ISBLANK(J28),0,0+IF(ISBLANK(G28),0,20)))))) -> 0 | P28: Acceptable | Q28: =IF(P28="Acceptable",H28,0) -> 0 | AB28: Multimedia | AF28: Multimedia
A29: 5 | E29: SELECT OPTION | F29: SELECT OPTION | K29: =IF(ISBLANK(B29),0,0+IF(E29="SELECT OPTION",0,0+IF(F29="SELECT OPTION",0,0+IF(ISBLANK(H29),0,0+IF(ISBLANK(J29),0,0+IF(ISBLANK(G29),0,20)))))) -> 0 | P29: Acceptable | Q29: =IF(P29="Acceptable",H29,0) -> 0 | AF29: Photography
A30: 6 | E30: SELECT OPTION | F30: SELECT OPTION | K30: =IF(ISBLANK(B30),0,0+IF(E30="SELECT OPTION",0,0+IF(F30="SELECT OPTION",0,0+IF(ISBLANK(H30),0,0+IF(ISBLANK(J30),0,0+IF(ISBLANK(G30),0,20)))))) -> 0 | P30: Acceptable | Q30: =IF(P30="Acceptable",H30,0) -> 0 | AF30: Sculpture
A31: 7 | E31: SELECT OPTION | F31: SELECT OPTION | K31: =IF(ISBLANK(B31),0,0+IF(E31="SELECT OPTION",0,0+IF(F31="SELECT OPTION",0,0+IF(ISBLANK(H31),0,0+IF(ISBLANK(J31),0,0+IF(ISBLANK(G31),0,20)))))) -> 0 | P31: Acceptable | Q31: =IF(P31="Acceptable",H31,0) -> 0 | AF31: Others
J32: TOTAL | K32: =SUM(K25:K31) -> 0 | Q32: =SUM(Q25:Q31) -> 0
A34: 1.3 | B34: JURIED OR PEER-REVIEWED DESIGNS (e.g. ARCHITECTURE, ENGINEERING, INDUSTRIAL DESIGN) | N34: =B34 -> JURIED OR PEER-REVIEWED DESIGNS (e.g. ARCHITECTURE, ENGINEERING, INDUSTRIAL DESIGN)
A35: No. | B35: Title of Design | E35: Classification | F35: Reviewer, Evaluator or Its Equivalent | G35: Activity/Exhibition Date (mm/dd/yyyy) | H35: Venue of Activity/Exhibit | J35: Organizer | K35: Faculty Points | L35: Link to Evidence from Google Drive | N35: REMARKS | P35: Validation of Documents | Q35: Validated Score | R35: Explanation for Non-Acceptance | AB35: SELECT OPTION
A36: 1 | E36: SELECT OPTION | K36: =IF(ISBLANK(B36),0,0+IF(E36="SELECT OPTION",0,0+IF(ISBLANK(F36),0,0+IF(ISBLANK(H36),0,0+IF(ISBLANK(J36),0,0+IF(ISBLANK(G36),0,20)))))) -> 0 | P36: Acceptable | Q36: =IF(P36="Acceptable",K36,0) -> 0 | AB36: Architecture
A37: 2 | E37: SELECT OPTION | K37: =IF(ISBLANK(B37),0,0+IF(E37="SELECT OPTION",0,0+IF(ISBLANK(F37),0,0+IF(ISBLANK(H37),0,0+IF(ISBLANK(J37),0,0+IF(ISBLANK(G37),0,20)))))) -> 0 | P37: Acceptable | Q37: =IF(P37="Acceptable",K37,0) -> 0 | AB37: Engineering
A38: 3 | E38: SELECT OPTION | K38: =IF(ISBLANK(B38),0,0+IF(E38="SELECT OPTION",0,0+IF(ISBLANK(F38),0,0+IF(ISBLANK(H38),0,0+IF(ISBLANK(J38),0,0+IF(ISBLANK(G38),0,20)))))) -> 0 | P38: Acceptable | Q38: =IF(P38="Acceptable",I38,0) -> 0 | AB38: Industrial Design
A39: 4 | E39: SELECT OPTION | K39: =IF(ISBLANK(B39),0,0+IF(E39="SELECT OPTION",0,0+IF(ISBLANK(F39),0,0+IF(ISBLANK(H39),0,0+IF(ISBLANK(J39),0,0+IF(ISBLANK(G39),0,20)))))) -> 0 | P39: Acceptable | Q39: =IF(P39="Acceptable",I39,0) -> 0
A40: 5 | E40: SELECT OPTION | K40: =IF(ISBLANK(B40),0,0+IF(E40="SELECT OPTION",0,0+IF(ISBLANK(F40),0,0+IF(ISBLANK(H40),0,0+IF(ISBLANK(J40),0,0+IF(ISBLANK(G40),0,20)))))) -> 0 | P40: Acceptable | Q40: =IF(P40="Acceptable",I40,0) -> 0
A41: 6 | E41: SELECT OPTION | K41: =IF(ISBLANK(B41),0,0+IF(E41="SELECT OPTION",0,0+IF(ISBLANK(F41),0,0+IF(ISBLANK(H41),0,0+IF(ISBLANK(J41),0,0+IF(ISBLANK(G41),0,20)))))) -> 0 | P41: Acceptable | Q41: =IF(P41="Acceptable",I41,0) -> 0
A42: 7 | E42: SELECT OPTION | K42: =IF(ISBLANK(B42),0,0+IF(E42="SELECT OPTION",0,0+IF(ISBLANK(F42),0,0+IF(ISBLANK(H42),0,0+IF(ISBLANK(J42),0,0+IF(ISBLANK(G42),0,20)))))) -> 0 | P42: Acceptable | Q42: =IF(P42="Acceptable",I42,0) -> 0
J43: TOTAL | K43: =SUM(K36:K42) -> 0 | Q43: =SUM(Q36:Q42) -> 0
A45: 1.4 | B45: LITERARY PUBLICATIONS (e.g. NOVEL, SHORT STORY, ESSAY AND POETRY) | N45: =B45 -> LITERARY PUBLICATIONS (e.g. NOVEL, SHORT STORY, ESSAY AND POETRY)
A46: No. | B46: Title of Literary Publication | E46: Type of Literary Publication | F46: Reviewer, Evaluator or Its Equivalent | G46: Name of Publication | H46: Name of Publisher/Press | J46: Date Published (mm/dd/yyyy) | K46: Faculty Points | L46: Link to Evidence from Google Drive | N46: REMARKS | P46: Validation of Documents | Q46: Validated Score | R46: Explanation for Non-Acceptance | T46: SELECT OPTION
A47: 1 | E47: SELECT OPTION | K47: =IF(ISBLANK(F47)+ISBLANK(G47),0,IF(E47="Novel",20,0+IF(E47="Short Story",10,0+IF(E47="Essay",10,0)+IF(E47="Poetry",10,0)+IF(E47="Others",10,0)))) -> 0 | P47: Acceptable | Q47: =IF(P47="Acceptable",K47,0) -> 0 | T47: Novel
A48: 2 | E48: SELECT OPTION | K48: =IF(ISBLANK(F48)+ISBLANK(G48),0,IF(E48="Novel",20,0+IF(E48="Short Story",10,0+IF(E48="Essay",10,0)+IF(E48="Poetry",10,0)+IF(E48="Others",10,0)))) -> 0 | P48: Acceptable | Q48: =IF(P48="Acceptable",K48,0) -> 0 | T48: Short Story
A49: 3 | E49: SELECT OPTION | K49: =IF(ISBLANK(F49)+ISBLANK(G49),0,IF(E49="Novel",20,0+IF(E49="Short Story",10,0+IF(E49="Essay",10,0)+IF(E49="Poetry",10,0)+IF(E49="Others",10,0)))) -> 0 | P49: Acceptable | Q49: =IF(P49="Acceptable",J49,0) -> 0 | T49: Essay
A50: 4 | E50: SELECT OPTION | K50: =IF(ISBLANK(F50)+ISBLANK(G50),0,IF(E50="Novel",20,0+IF(E50="Short Story",10,0+IF(E50="Essay",10,0)+IF(E50="Poetry",10,0)+IF(E50="Others",10,0)))) -> 0 | P50: Acceptable | Q50: =IF(P50="Acceptable",J50,0) -> 0 | T50: Poetry
A51: 5 | E51: SELECT OPTION | K51: =IF(ISBLANK(F51)+ISBLANK(G51),0,IF(E51="Novel",20,0+IF(E51="Short Story",10,0+IF(E51="Essay",10,0)+IF(E51="Poetry",10,0)+IF(E51="Others",10,0)))) -> 0 | P51: Acceptable | Q51: =IF(P51="Acceptable",J51,0) -> 0 | T51: Others
A52: 6 | E52: SELECT OPTION | K52: =IF(ISBLANK(F52)+ISBLANK(G52),0,IF(E52="Novel",20,0+IF(E52="Short Story",10,0+IF(E52="Essay",10,0)+IF(E52="Poetry",10,0)+IF(E52="Others",10,0)))) -> 0 | P52: Acceptable | Q52: =IF(P52="Acceptable",J52,0) -> 0
A53: 7 | E53: SELECT OPTION | K53: =IF(ISBLANK(F53)+ISBLANK(G53),0,IF(E53="Novel",20,0+IF(E53="Short Story",10,0+IF(E53="Essay",10,0)+IF(E53="Poetry",10,0)+IF(E53="Others",10,0)))) -> 0 | P53: Acceptable | Q53: =IF(P53="Acceptable",J53,0) -> 0
B54: Equivalent Points | J54: TOTAL | K54: =SUM(K47:K53) -> 0 | Q54: =SUM(Q47:Q53) -> 0
B56: Prepared by: | E56: Evaluated by: | P56: Validated by:
B59: Name and Signature | E59: Name of IEC Member and Signature | P59: Name of REC Member and Signature
B60: Date: | E60: Date: | P60: Date:
E63: Name of IEC Chair and Signature | P63: Name of REC Chair and Signature
E64: Date: | P64: Date:

Sheet KRA II
A1: FACULTY POSITION RECLASSIFICATION FOR SUCs | K1: =A1 -> FACULTY POSITION RECLASSIFICATION FOR SUCs | M1: =A1 -> FACULTY POSITION RECLASSIFICATION FOR SUCs
A3: KRA II - RESEARCH, INNOVATION AND CREATIVE WORK | M3: =A3 -> KRA II - RESEARCH, INNOVATION AND CREATIVE WORK
A4: SUMMARY OF POINTS | K4: =A3 -> KRA II - RESEARCH, INNOVATION AND CREATIVE WORK | M4: =A4 -> SUMMARY OF POINTS
K5: =A4 -> SUMMARY OF POINTS
A6: ='Request Form'!B6 -> LAST NAME: | D6: =Form1_A!E3 -> 0 | M6: =A6 -> LAST NAME: | N6: =D6 -> 0
A7: ='Request Form'!B7 -> FIRST NAME, EXT.: | D7: =Form1_A!E4 -> 0 | M7: =A7 -> FIRST NAME, EXT.: | N7: =D7 -> 0
A8: ='Request Form'!B8 -> MIDDLE NAME: | D8: =Form1_A!E5 -> 0 | M8: =A8 -> MIDDLE NAME: | N8: =D8 -> 0
A10: CRITERION A - RESEARCH OUTPUTS (MAX = 100 POINTS) | K10: REMARKS | M10: =A10 -> CRITERION A - RESEARCH OUTPUTS (MAX = 100 POINTS)
M11: Validated Score | N11: Allowable Points | O11: Remarks
A12: 1. | B12: SCHOLARLY RESEARCHE PAPERS PUBLISHED | H12: Points | I12: Allowable Points | K12: =B12 -> SCHOLARLY RESEARCHE PAPERS PUBLISHED
B13: 1.1 | C13: Sole Authorship | H13: =Form2_A!I32 -> 0 | M13: =Form2_A!P32 -> 0
B14: 1.2 | C14: Co-Authorship | H14: =Form2_A!J57 -> 0 | M14: =Form2_A!Q57 -> 0
A15: TOTAL POINTS | H15: =SUM(H13:H14) -> 0 | M15: =SUM(M13:M14) -> 0
A17: 2. | B17: RESEARCH OUTPUT TRANSLATED INTO PROJECT, POLICY OR PRODUCT | K17: =B17 -> RESEARCH OUTPUT TRANSLATED INTO PROJECT, POLICY OR PRODUCT
B18: 2.1 | C18: Lead Researcher | H18: =Form2_A!I72 -> 0 | M18: =Form2_A!P72 -> 0
B19: 2.2 | C19: Contributor | H19: =Form2_A!J86 -> 0 | M19: =Form2_A!Q86 -> 0
A20: TOTAL POINTS | H20: =SUM(H18:H19) -> 0 | M20: =SUM(M18:M19) -> 0
A22: 3. | B22: RESEARCH PUBLICATION CITED
B23: 3.1 Local (MAX = 40 POINTS) | H23: =Form2_A!J106 -> 0 | I23: =IF(H23<=40,H23,40) -> 0 | K23: =B22 -> RESEARCH PUBLICATION CITED | M23: =Form2_A!Q106 -> 0 | N23: =IF(M23<=40,M23,40) -> 0
B24: 3.2 International (MAX = 60 POINTS) | H24: =Form2_A!J125 -> 0 | I24: =IF(H24<=60,H24,60) -> 0 | M24: =Form2_A!Q125 -> 0 | N24: =IF(M24<=60,M24,60) -> 0
A25: TOTAL POINTS | H25: =SUM(I23:I24) -> 0 | M25: =SUM(N23:N24) -> 0
A26: TOTAL POINTS FOR CRITERION A | H26: =H15+H20+H25 -> 0 | I26: =IF(H26>=100,100,H26) -> 0 | M26: =M15+M20+M25 -> 0 | N26: =IF(M26>=100,100,M26) -> 0
A28: CRITERION B - INVENTIONS (MAX = 100 POINTS) | K28: REMARKS | M28: =A28 -> CRITERION B - INVENTIONS (MAX = 100 POINTS)
M29: Validated Score | N29: Allowable Points | O29: Remarks
A30: 1. | B30: PATENTED INVENTIONS | H30: Points | I30: Allowable Points | K30: =B30 -> PATENTED INVENTIONS
B31: 1.1 | C31: Patentable Inventions
C32: 1.1.1 Invention Patent
C33: - Sole Inventor | H33: ='Form2-B'!I29 -> 0 | M33: ='Form2-B'!P29 -> 0
C34: - Co-inventor | H34: ='Form2-B'!J48 -> 0 | M34: ='Form2-B'!Q48 -> 0
C35: 1.1.2 Utility Model and Industrial Design
C36: - Sole Inventor | H36: ='Form2-B'!I68 -> 0 | M36: ='Form2-B'!P68 -> 0
C37: - Co-inventor | H37: ='Form2-B'!J87 -> 0 | M37: ='Form2-B'!Q87 -> 0
B38: 1.2 Commercialized Patented Product
C39: 1.2.1 Local (Max = 20 points) | H39: ='Form2-B'!J102 -> 0 | I39: =IF(H39<=20,H39,20) -> 0 | M39: ='Form2-B'!P102 -> 0 | N39: =IF(M39<=20,M39,20) -> 0
C40: 1.2.2 International (Max = 30 points) | H40: ='Form2-B'!J116 -> 0 | I40: =IF(H40<=30,H40,30) -> 0 | M40: ='Form2-B'!P116 -> 0 | N40: =IF(M40<=30,M40,30) -> 0
A41: TOTAL POINTS | H41: =H33+H34+H36+H37+I39+I40 -> 0 | M41: =SUM(M33:M40) -> 0 | N41: =M33+M34+M36+M37+N39+N40 -> 0
A43: 2. | B43: NON-PATENTABLE INVENTIONS | K43: =B43 -> NON-PATENTABLE INVENTIONS
B44: 2.1 Copyrighted and Utilized Software Products
C45: 2.1.1 New Software Products
C46: a. Sole Developer | H46: ='Form2-B'!I133 -> 0 | M46: ='Form2-B'!P133 -> 0
C47: b. Co-Developer | H47: ='Form2-B'!J147 -> 0 | M47: ='Form2-B'!Q147 -> 0
C48: 2.1.2 Updated Software Products | H48: ='Form2-B'!J162 -> 0 | M48: ='Form2-B'!P162 -> 0
A49: 2.2 | B49: New Plant Variety, Animal Breed, New Microbial Strain
B50: 2.1.1 Sole Developer | H50: ='Form2-B'!I177 -> 0 | M50: ='Form2-B'!P177 -> 0
B51: 2.1.2 Co-Developer | H51: ='Form2-B'!J191 -> 0 | M51: ='Form2-B'!Q191 -> 0
A52: TOTAL POINTS | H52: =SUM(H46:H51) -> 0 | M52: =SUM(M46:M51) -> 0
A53: TOTAL POINTS FOR CRITERION B (MAX - 100 points) | H53: =H41+H52 -> 0 | I53: =IF(H53>=100,100,H53) -> 0 | M53: =M41+M52 -> 0 | N53: =IF(M53>=100,100,M53) -> 0
A55: CRITERION C - CREATIVE WORKS (MAX = 100 POINTS) | K55: REMARKS | M55: =A55 -> CRITERION C - CREATIVE WORKS (MAX = 100 POINTS)
M56: Validated Score | N56: Allowable Points | O56: Remarks
A57: 1. | B57: CREATIVE WORKS PERFORMED, EXHIBITED, DESIGNED & PUBLISHED | H57: Points | I57: Allowable Points | K57: =B57 -> CREATIVE WORKS PERFORMED, EXHIBITED, DESIGNED & PUBLISHED
A58: 1.1 | B58: Performing Arts | H58: =Form2_C!K21 -> 0 | M58: =Form2_C!Q21 -> 0
A59: 1.2 | B59: Exhibitions | H59: =Form2_C!K32 -> 0 | M59: =Form2_C!Q32 -> 0
A60: 1.3 | B60: Designs | H60: =Form2_C!K43 -> 0 | M60: =Form2_C!Q43 -> 0
A61: 1.4 | B61: Literary Publication | H61: =Form2_C!K54 -> 0 | M61: =Form2_C!Q54 -> 0
A62: TOTAL POINTS FOR CRITERION C (MAX - 100 points) | H62: =SUM(H58:H61) -> 0 | I62: =IF(H62>=100,100,H62) -> 0 | M62: =SUM(M58:M61) -> 0 | N62: =IF(M62>=100,100,M62) -> 0
A63: GRAND TOTAL POINTS FOR KRA II (MAX - 100 points) | H63: =H26+H53+H62 -> 0 | I63: =IF(H63>=100,100,H63) -> 0 | M63: =M26+M53+M62 -> 0 | N63: =IF(M63>=100,100,M63) -> 0
C65: Conforme: | E65: Evaluated by: | M65: Validated by:
C68: Name and Signature | E68: Name of IEC Member and Signature | M68: Name of REC Member and Signature
C69: Date: | E69: Date: | M69: Date:
E72: Name of IEC Chair and Signature | M72: Name of REC Member and Signature
E73: Date: | M73: Date:

Sheet Form 3-A&B
A1: KRA III - EXTENSION | N1: =A1 -> KRA III - EXTENSION | P1: =A1 -> KRA III - EXTENSION
A3: ='Request Form'!B6 -> LAST NAME: | D3: =Form1_A!E3 -> 0 | P3: =A3 -> LAST NAME: | Q3: =D3 -> 0
A4: ='Request Form'!B7 -> FIRST NAME, EXT.: | D4: =Form1_A!E4 -> 0 | P4: =A4 -> FIRST NAME, EXT.: | Q4: =D4 -> 0
A5: ='Request Form'!B8 -> MIDDLE NAME: | D5: =Form1_A!E5 -> 0 | P5: =A5 -> MIDDLE NAME: | Q5: =D5 -> 0
A7: CRITERION A - SERVICE TO THE INSTITUTION (MAX = 30 POINTS) | N7: =A7 -> CRITERION A - SERVICE TO THE INSTITUTION (MAX = 30 POINTS) | P7: =A7 -> CRITERION A - SERVICE TO THE INSTITUTION (MAX = 30 POINTS) | AB7: SELECT OPTION
AB8: Lead Coordinator
A9: 1. | B9: FOR EVERY SUCCESSFUL LINKAGE, NETWORKING OR PARTNERSHIP ACTIVITY | N9: =B9 -> FOR EVERY SUCCESSFUL LINKAGE, NETWORKING OR PARTNERSHIP ACTIVITY | P9: =B9 -> FOR EVERY SUCCESSFUL LINKAGE, NETWORKING OR PARTNERSHIP ACTIVITY | AB9: Assistant Coordinator
A10: No. | B10: Name of Partner | E10: Nature of Partnership | F10: Faculty role in the forging of partnership | G10: MOA | I10: Activities conducted based on MOA (not necessarily involving the faculty) | J10: Date of activity (mm/dd/yyyy) | K10: Faculty Score | L10: Link to Evidence from Google Drive | N10: REMARKS
G11: Start (mm/dd/yyyy) | H11: Expiration (mm/dd/yyyy) | P11: Validation of Documents | Q11: Validated Score | R11: Explanation for Non-Acceptance
A12: 1 | F12: SELECT OPTION | K12: =IF(ISBLANK(B12),0,0+IF(ISBLANK(E12),0,0+IF(F12="SELECT OPTION",0,0+IF(ISBLANK(G12),0,0+IF(ISBLANK(H12),0,0+IF(ISBLANK(I12),0,0+IF(ISBLANK(J12),0,0+IF(F12="Lead Coordinator",5,0+IF(F12="Assistant Coordinator",3,0))))))))) -> 0 | P12: ACCEPTABLE | Q12: =IF(P12="Acceptable",K12,0) -> 0 | AB12: ACCEPTABLE
A13: 2 | F13: SELECT OPTION | K13: =IF(ISBLANK(B13),0,0+IF(ISBLANK(E13),0,0+IF(F13="SELECT OPTION",0,0+IF(ISBLANK(G13),0,0+IF(ISBLANK(H13),0,0+IF(ISBLANK(I13),0,0+IF(ISBLANK(J13),0,0+IF(F13="Lead Coordinator",5,0+IF(F13="Assistant Coordinator",3,0))))))))) -> 0 | P13: ACCEPTABLE | Q13: =IF(P13="Acceptable",K13,0) -> 0 | AB13: NOT ACCEPTABLE
A14: 3 | F14: SELECT OPTION | K14: =IF(ISBLANK(B14),0,0+IF(ISBLANK(E14),0,0+IF(F14="SELECT OPTION",0,0+IF(ISBLANK(G14),0,0+IF(ISBLANK(H14),0,0+IF(ISBLANK(I14),0,0+IF(ISBLANK(J14),0,0+IF(F14="Lead Coordinator",5,0+IF(F14="Assistant Coordinator",3,0))))))))) -> 0 | P14: ACCEPTABLE | Q14: =IF(P14="Acceptable",K14,0) -> 0
A15: 4 | F15: SELECT OPTION | K15: =IF(ISBLANK(B15),0,0+IF(ISBLANK(E15),0,0+IF(F15="SELECT OPTION",0,0+IF(ISBLANK(G15),0,0+IF(ISBLANK(H15),0,0+IF(ISBLANK(I15),0,0+IF(ISBLANK(J15),0,0+IF(F15="Lead Coordinator",5,0+IF(F15="Assistant Coordinator",3,0))))))))) -> 0 | P15: ACCEPTABLE | Q15: =IF(P15="Acceptable",K15,0) -> 0
A16: 5 | F16: SELECT OPTION | K16: =IF(ISBLANK(B16),0,0+IF(ISBLANK(E16),0,0+IF(F16="SELECT OPTION",0,0+IF(ISBLANK(G16),0,0+IF(ISBLANK(H16),0,0+IF(ISBLANK(I16),0,0+IF(ISBLANK(J16),0,0+IF(F16="Lead Coordinator",5,0+IF(F16="Assistant Coordinator",3,0))))))))) -> 0 | P16: ACCEPTABLE | Q16: =IF(P16="Acceptable",K16,0) -> 0
A17: 6 | F17: SELECT OPTION | K17: =IF(ISBLANK(B17),0,0+IF(ISBLANK(E17),0,0+IF(F17="SELECT OPTION",0,0+IF(ISBLANK(G17),0,0+IF(ISBLANK(H17),0,0+IF(ISBLANK(I17),0,0+IF(ISBLANK(J17),0,0+IF(F17="Lead Coordinator",5,0+IF(F17="Assistant Coordinator",3,0))))))))) -> 0 | P17: ACCEPTABLE | Q17: =IF(P17="Acceptable",K17,0) -> 0
A18: 7 | F18: SELECT OPTION | K18: =IF(ISBLANK(B18),0,0+IF(ISBLANK(E18),0,0+IF(F18="SELECT OPTION",0,0+IF(ISBLANK(G18),0,0+IF(ISBLANK(H18),0,0+IF(ISBLANK(I18),0,0+IF(ISBLANK(J18),0,0+IF(F18="Lead Coordinator",5,0+IF(F18="Assistant Coordinator",3,0))))))))) -> 0 | P18: ACCEPTABLE | Q18: =IF(P18="Acceptable",K18,0) -> 0
A19: 8 | F19: SELECT OPTION | K19: =IF(ISBLANK(B19),0,0+IF(ISBLANK(E19),0,0+IF(F19="SELECT OPTION",0,0+IF(ISBLANK(G19),0,0+IF(ISBLANK(H19),0,0+IF(ISBLANK(I19),0,0+IF(ISBLANK(J19),0,0+IF(F19="Lead Coordinator",5,0+IF(F19="Assistant Coordinator",3,0))))))))) -> 0 | P19: ACCEPTABLE | Q19: =IF(P19="Acceptable",K19,0) -> 0
A20: 9 | F20: SELECT OPTION | K20: =IF(ISBLANK(B20),0,0+IF(ISBLANK(E20),0,0+IF(F20="SELECT OPTION",0,0+IF(ISBLANK(G20),0,0+IF(ISBLANK(H20),0,0+IF(ISBLANK(I20),0,0+IF(ISBLANK(J20),0,0+IF(F20="Lead Coordinator",5,0+IF(F20="Assistant Coordinator",3,0))))))))) -> 0 | P20: ACCEPTABLE | Q20: =IF(P20="Acceptable",K20,0) -> 0
J21: TOTAL | K21: =SUM(K12:K20) -> 0 | Q21: =SUM(Q12:Q20) -> 0
A23: 2. | B23: TOTAL CONTRIBUTION TO INCOME GENERATION | N23: =B23 -> TOTAL CONTRIBUTION TO INCOME GENERATION | P23: =B23 -> TOTAL CONTRIBUTION TO INCOME GENERATION | AB23: SELECT OPTION
A24: No. | B24: Name of the Commercialized Product, Funded Project, or Project with Industry | F24: Role | G24: Coverage Period (mm/dd/yyyy to mm/dd/yyyy) | I24: Total Amount | J24: Faculty Points | K24: Link to Evidence from Google Drive | N24: REMARKS | P24: Validation of Documents | Q24: Validated Score | R24: Explanation for Non-Acceptance | AB24: Lead Contributor
A25: 1 | F25: SELECT OPTION | J25: =IF(ISBLANK(B25),0,0+IF(ISBLANK(G25),0,0+IF(F25="Lead Contributor",(IF(I25=0,0,IF(I25<=6000000,6,IF(I25<=12000000,12,18)))),0+IF(F25="Co-contributor",(IF(I25=0,0,IF(I25<=6000000,3,IF(I25<=12000000,6,9)))),0)))) -> 0 | P25: ACCEPTABLE | Q25: =IF(P25="Acceptable",J25,0) -> 0 | AB25: Co-contributor
A26: 2 | F26: SELECT OPTION | J26: =IF(ISBLANK(B26),0,0+IF(ISBLANK(G26),0,0+IF(F26="Lead Contributor",(IF(I26=0,0,IF(I26<=6000000,6,IF(I26<=12000000,12,18)))),0+IF(F26="Co-contributor",(IF(I26=0,0,IF(I26<=6000000,3,IF(I26<=12000000,6,9)))),0)))) -> 0 | P26: ACCEPTABLE | Q26: =IF(P26="Acceptable",J26,0) -> 0
A27: 3 | F27: SELECT OPTION | J27: =IF(ISBLANK(B27),0,0+IF(ISBLANK(G27),0,0+IF(F27="Lead Contributor",(IF(I27=0,0,IF(I27<=6000000,6,IF(I27<=12000000,12,18)))),0+IF(F27="Co-contributor",(IF(I27=0,0,IF(I27<=6000000,3,IF(I27<=12000000,6,9)))),0)))) -> 0 | P27: ACCEPTABLE | Q27: =IF(P27="Acceptable",J27,0) -> 0
A28: 4 | F28: SELECT OPTION | J28: =IF(ISBLANK(B28),0,0+IF(ISBLANK(G28),0,0+IF(F28="Lead Contributor",(IF(I28=0,0,IF(I28<=6000000,6,IF(I28<=12000000,12,18)))),0+IF(F28="Co-contributor",(IF(I28=0,0,IF(I28<=6000000,3,IF(I28<=12000000,6,9)))),0)))) -> 0 | P28: ACCEPTABLE | Q28: =IF(P28="Acceptable",J28,0) -> 0
A29: 5 | F29: SELECT OPTION | J29: =IF(ISBLANK(B29),0,0+IF(ISBLANK(G29),0,0+IF(F29="Lead Contributor",(IF(I29=0,0,IF(I29<=6000000,6,IF(I29<=12000000,12,18)))),0+IF(F29="Co-contributor",(IF(I29=0,0,IF(I29<=6000000,3,IF(I29<=12000000,6,9)))),0)))) -> 0 | P29: ACCEPTABLE | Q29: =IF(P29="Acceptable",J29,0) -> 0
A30: 6 | F30: SELECT OPTION | J30: =IF(ISBLANK(B30),0,0+IF(ISBLANK(G30),0,0+IF(F30="Lead Contributor",(IF(I30=0,0,IF(I30<=6000000,6,IF(I30<=12000000,12,18)))),0+IF(F30="Co-contributor",(IF(I30=0,0,IF(I30<=6000000,3,IF(I30<=12000000,6,9)))),0)))) -> 0 | P30: ACCEPTABLE | Q30: =IF(P30="Acceptable",J30,0) -> 0
A31: 7 | F31: SELECT OPTION | J31: =IF(ISBLANK(B31),0,0+IF(ISBLANK(G31),0,0+IF(F31="Lead Contributor",(IF(I31=0,0,IF(I31<=6000000,6,IF(I31<=12000000,12,18)))),0+IF(F31="Co-contributor",(IF(I31=0,0,IF(I31<=6000000,3,IF(I31<=12000000,6,9)))),0)))) -> 0 | P31: ACCEPTABLE | Q31: =IF(P31="Acceptable",J31,0) -> 0
A32: 8 | F32: SELECT OPTION | J32: =IF(ISBLANK(B32),0,0+IF(ISBLANK(G32),0,0+IF(F32="Lead Contributor",(IF(I32=0,0,IF(I32<=6000000,6,IF(I32<=12000000,12,18)))),0+IF(F32="Co-contributor",(IF(I32=0,0,IF(I32<=6000000,3,IF(I32<=12000000,6,9)))),0)))) -> 0 | P32: ACCEPTABLE | Q32: =IF(P32="Acceptable",J32,0) -> 0
A33: 9 | F33: SELECT OPTION | J33: =IF(ISBLANK(B33),0,0+IF(ISBLANK(G33),0,0+IF(F33="Lead Contributor",(IF(I33=0,0,IF(I33<=6000000,6,IF(I33<=12000000,12,18)))),0+IF(F33="Co-contributor",(IF(I33=0,0,IF(I33<=6000000,3,IF(I33<=12000000,6,9)))),0)))) -> 0 | P33: ACCEPTABLE | Q33: =IF(P33="Acceptable",J33,0) -> 0
I34: TOTAL | J34: =SUM(J25:J33) -> 0 | Q34: =SUM(Q25:Q33) -> 0
A36: CRITERION B - SERVICE TO THE COMMUNITY (MAX = 50 POINTS) | N36: =A36 -> CRITERION B - SERVICE TO THE COMMUNITY (MAX = 50 POINTS) | P36: =A36 -> CRITERION B - SERVICE TO THE COMMUNITY (MAX = 50 POINTS)
A38: 1. | B38: PROFESSIONAL/EXPERTISE-BASED SERVICES | N38: =B38 -> PROFESSIONAL/EXPERTISE-BASED SERVICES | P38: =B38 -> PROFESSIONAL/EXPERTISE-BASED SERVICES
A39: 1.1 | B39: FOR SERVICES IN ACCREDITATION, EVALUATION, ASSESSMENT WORKS AND OTHER RELATED EDUCATION QA ACTIVITIES | N39: =B39 -> FOR SERVICES IN ACCREDITATION, EVALUATION, ASSESSMENT WORKS AND OTHER RELATED EDUCATION QA ACTIVITIES | P39: =B39 -> FOR SERVICES IN ACCREDITATION, EVALUATION, ASSESSMENT WORKS AND OTHER RELATED EDUCATION QA ACTIVITIES
A40: No. | B40: Name of Agency/Organization | E40: Appointment Period | G40: QA-related Services Provided | I40: Scope | J40: No. of Deployment | K40: Faculty Points | L40: Link to Evidence from Google Drive | N40: REMARKS
E41: Start | F41: End | P41: Validation of Documents | Q41: Validated Score | R41: Explanation for Non-Acceptance | AB41: SELECT OPTION
A42: 1 | I42: SELECT OPTION | K42: =IF(ISBLANK(B42),0,0+IF(ISBLANK(E42),0,0+IF(ISBLANK(F42),0,0+IF(I42="SELECT OPTION",0,0+IF(ISBLANK(G42),0,0+IF(I42="Local",IF(J42>0,8,0),0)+IF(I42="International",IF(J42>0,10,0),0)))))) -> 0 | P42: ACCEPTABLE | Q42: =IF(P42="Acceptable",K42,0) -> 0 | AB42: Local
A43: 2 | I43: SELECT OPTION | K43: =IF(ISBLANK(B43),0,0+IF(ISBLANK(E43),0,0+IF(ISBLANK(F43),0,0+IF(I43="SELECT OPTION",0,0+IF(ISBLANK(G43),0,0+IF(I43="Local",IF(J43>0,8,0),0)+IF(I43="International",IF(J43>0,10,0),0)))))) -> 0 | P43: ACCEPTABLE | Q43: =IF(P43="Acceptable",K43,0) -> 0 | AB43: International
A44: 3 | I44: SELECT OPTION | K44: =IF(ISBLANK(B44),0,0+IF(ISBLANK(E44),0,0+IF(ISBLANK(F44),0,0+IF(I44="SELECT OPTION",0,0+IF(ISBLANK(G44),0,0+IF(I44="Local",IF(J44>0,8,0),0)+IF(I44="International",IF(J44>0,10,0),0)))))) -> 0 | P44: ACCEPTABLE | Q44: =IF(P44="Acceptable",K44,0) -> 0
A45: 4 | I45: SELECT OPTION | K45: =IF(ISBLANK(B45),0,0+IF(ISBLANK(E45),0,0+IF(ISBLANK(F45),0,0+IF(I45="SELECT OPTION",0,0+IF(ISBLANK(G45),0,0+IF(I45="Local",IF(J45>0,8,0),0)+IF(I45="International",IF(J45>0,10,0),0)))))) -> 0 | P45: ACCEPTABLE | Q45: =IF(P45="Acceptable",K45,0) -> 0
A46: 5 | I46: SELECT OPTION | K46: =IF(ISBLANK(B46),0,0+IF(ISBLANK(E46),0,0+IF(ISBLANK(F46),0,0+IF(I46="SELECT OPTION",0,0+IF(ISBLANK(G46),0,0+IF(I46="Local",IF(J46>0,8,0),0)+IF(I46="International",IF(J46>0,10,0),0)))))) -> 0 | P46: ACCEPTABLE | Q46: =IF(P46="Acceptable",K46,0) -> 0
A47: 6 | I47: SELECT OPTION | K47: =IF(ISBLANK(B47),0,0+IF(ISBLANK(E47),0,0+IF(ISBLANK(F47),0,0+IF(I47="SELECT OPTION",0,0+IF(ISBLANK(G47),0,0+IF(I47="Local",IF(J47>0,8,0),0)+IF(I47="International",IF(J47>0,10,0),0)))))) -> 0 | P47: ACCEPTABLE | Q47: =IF(P47="Acceptable",K47,0) -> 0
A48: 7 | I48: SELECT OPTION | K48: =IF(ISBLANK(B48),0,0+IF(ISBLANK(E48),0,0+IF(ISBLANK(F48),0,0+IF(I48="SELECT OPTION",0,0+IF(ISBLANK(G48),0,0+IF(I48="Local",IF(J48>0,8,0),0)+IF(I48="International",IF(J48>0,10,0),0)))))) -> 0 | P48: ACCEPTABLE | Q48: =IF(P48="Acceptable",K48,0) -> 0
A49: 8 | I49: SELECT OPTION | K49: =IF(ISBLANK(B49),0,0+IF(ISBLANK(E49),0,0+IF(ISBLANK(F49),0,0+IF(I49="SELECT OPTION",0,0+IF(ISBLANK(G49),0,0+IF(I49="Local",IF(J49>0,8,0),0)+IF(I49="International",IF(J49>0,10,0),0)))))) -> 0 | P49: ACCEPTABLE | Q49: =IF(P49="Acceptable",K49,0) -> 0
A50: 9 | I50: SELECT OPTION | K50: =IF(ISBLANK(B50),0,0+IF(ISBLANK(E50),0,0+IF(ISBLANK(F50),0,0+IF(I50="SELECT OPTION",0,0+IF(ISBLANK(G50),0,0+IF(I50="Local",IF(J50>0,8,0),0)+IF(I50="International",IF(J50>0,10,0),0)))))) -> 0 | P50: ACCEPTABLE | Q50: =IF(P50="Acceptable",K50,0) -> 0
A51: 10 | I51: SELECT OPTION | K51: =IF(ISBLANK(B51),0,0+IF(ISBLANK(E51),0,0+IF(ISBLANK(F51),0,0+IF(I51="SELECT OPTION",0,0+IF(ISBLANK(G51),0,0+IF(I51="Local",IF(J51>0,8,0),0)+IF(I51="International",IF(J51>0,10,0),0)))))) -> 0 | P51: ACCEPTABLE | Q51: =IF(P51="Acceptable",K51,0) -> 0
J52: TOTAL | K52: =SUM(K42:K51) -> 0 | Q52: =SUM(Q42:Q51) -> 0
AB53: SELECT OPTION
A54: 1.2 | B54: SERVICES AS JUDGE OR EXAMINER FOR LOCAL/INTERNATIONAL RESEARCH AWARDS AND ACADEMIC COMPETITIONS | N54: =B54 -> SERVICES AS JUDGE OR EXAMINER FOR LOCAL/INTERNATIONAL RESEARCH AWARDS AND ACADEMIC COMPETITIONS | P54: =B54 -> SERVICES AS JUDGE OR EXAMINER FOR LOCAL/INTERNATIONAL RESEARCH AWARDS AND ACADEMIC COMPETITIONS | AB54: Academic Competition
A55: No. | B55: Title of the Event/Activity | F55: Organizer | H55: Date of Event (mm/dd/yyyy) | I55: Nature of the Award | J55: Venue | K55: Faculty Points | L55: Link to Evidence from Google Drive | N55: REMARKS | P55: Validation of Documents | Q55: Validated Score | R55: Explanation for Non-Acceptance | AB55: Research Award
A56: 1 | I56: SELECT OPTION | K56: =IF(ISBLANK(B56),0,0+IF(ISBLANK(F56),0,0+IF(ISBLANK(H56),0,0+IF(ISBLANK(J56),0,0+IF(I56="SELECT OPTION",0,0+IF(I56="Research Award",2,0+IF(I56="Academic Competition",1,0))))))) -> 0 | P56: ACCEPTABLE | Q56: =IF(P56="Acceptable",K56,0) -> 0
A57: 2 | I57: SELECT OPTION | K57: =IF(ISBLANK(B57),0,0+IF(ISBLANK(F57),0,0+IF(ISBLANK(H57),0,0+IF(ISBLANK(J57),0,0+IF(I57="SELECT OPTION",0,0+IF(I57="Research Award",2,0+IF(I57="Academic Competition",1,0))))))) -> 0 | P57: ACCEPTABLE | Q57: =IF(P57="Acceptable",K57,0) -> 0
A58: 3 | I58: SELECT OPTION | K58: =IF(ISBLANK(B58),0,0+IF(ISBLANK(F58),0,0+IF(ISBLANK(H58),0,0+IF(ISBLANK(J58),0,0+IF(I58="SELECT OPTION",0,0+IF(I58="Research Award",2,0+IF(I58="Academic Competition",1,0))))))) -> 0 | P58: ACCEPTABLE | Q58: =IF(P58="Acceptable",K58,0) -> 0
A59: 4 | I59: SELECT OPTION | K59: =IF(ISBLANK(B59),0,0+IF(ISBLANK(F59),0,0+IF(ISBLANK(H59),0,0+IF(ISBLANK(J59),0,0+IF(I59="SELECT OPTION",0,0+IF(I59="Research Award",2,0+IF(I59="Academic Competition",1,0))))))) -> 0 | P59: ACCEPTABLE | Q59: =IF(P59="Acceptable",K59,0) -> 0
A60: 5 | I60: SELECT OPTION | K60: =IF(ISBLANK(B60),0,0+IF(ISBLANK(F60),0,0+IF(ISBLANK(H60),0,0+IF(ISBLANK(J60),0,0+IF(I60="SELECT OPTION",0,0+IF(I60="Research Award",2,0+IF(I60="Academic Competition",1,0))))))) -> 0 | P60: ACCEPTABLE | Q60: =IF(P60="Acceptable",K60,0) -> 0
A61: 6 | I61: SELECT OPTION | K61: =IF(ISBLANK(B61),0,0+IF(ISBLANK(F61),0,0+IF(ISBLANK(H61),0,0+IF(ISBLANK(J61),0,0+IF(I61="SELECT OPTION",0,0+IF(I61="Research Award",2,0+IF(I61="Academic Competition",1,0))))))) -> 0 | P61: ACCEPTABLE | Q61: =IF(P61="Acceptable",K61,0) -> 0
A62: 7 | I62: SELECT OPTION | K62: =IF(ISBLANK(B62),0,0+IF(ISBLANK(F62),0,0+IF(ISBLANK(H62),0,0+IF(ISBLANK(J62),0,0+IF(I62="SELECT OPTION",0,0+IF(I62="Research Award",2,0+IF(I62="Academic Competition",1,0))))))) -> 0 | P62: ACCEPTABLE | Q62: =IF(P62="Acceptable",K62,0) -> 0
A63: 8 | I63: SELECT OPTION | K63: =IF(ISBLANK(B63),0,0+IF(ISBLANK(F63),0,0+IF(ISBLANK(H63),0,0+IF(ISBLANK(J63),0,0+IF(I63="SELECT OPTION",0,0+IF(I63="Research Award",2,0+IF(I63="Academic Competition",1,0))))))) -> 0 | P63: ACCEPTABLE | Q63: =IF(P63="Acceptable",K63,0) -> 0
A64: 9 | I64: SELECT OPTION | K64: =IF(ISBLANK(B64),0,0+IF(ISBLANK(F64),0,0+IF(ISBLANK(H64),0,0+IF(ISBLANK(J64),0,0+IF(I64="SELECT OPTION",0,0+IF(I64="Research Award",2,0+IF(I64="Academic Competition",1,0))))))) -> 0 | P64: ACCEPTABLE | Q64: =IF(P64="Acceptable",K64,0) -> 0
A65: 10 | I65: SELECT OPTION | K65: =IF(ISBLANK(B65),0,0+IF(ISBLANK(F65),0,0+IF(ISBLANK(H65),0,0+IF(ISBLANK(J65),0,0+IF(I65="SELECT OPTION",0,0+IF(I65="Research Award",2,0+IF(I65="Academic Competition",1,0))))))) -> 0 | P65: ACCEPTABLE | Q65: =IF(P65="Acceptable",K65,0) -> 0
J66: TOTAL | K66: =SUM(K56:K65) -> 0 | Q66: =SUM(Q56:Q65) -> 0
A68: 1.3 | B68: FOR SERVICES AS A SHORT-TERM CONSULTANT/EXPERT | N68: =B68 -> FOR SERVICES AS A SHORT-TERM CONSULTANT/EXPERT | P68: =B68 -> FOR SERVICES AS A SHORT-TERM CONSULTANT/EXPERT
A69: No. | B69: Title of the Project/Consultancy | F69: Name of Organization | G69: Period of Engagement | I69: Scope | J69: Role | K69: Faculty Points | L69: Link to Evidence from Google Drive | N69: REMARKS | P69: Validation of Documents | Q69: Validated Score | R69: Explanation for Non-Acceptance | AB69: SELECT OPTION
G70: Start | H70: End | AB70: Local
A71: 1 | I71: SELECT OPTION | K71: =IF(ISBLANK(B71),0,0+IF(ISBLANK(F71),0,0+IF(ISBLANK(G71),0,0+IF(ISBLANK(H71),0,0+IF(ISBLANK(J71),0,0+IF(I71="SELECT OPTION",0,0+IF(I71="Local",8,10))))))) -> 0 | P71: ACCEPTABLE | Q71: =IF(P71="Acceptable",K71,0) -> 0 | AB71: International
A72: 2 | I72: SELECT OPTION | K72: =IF(ISBLANK(B72),0,0+IF(ISBLANK(F72),0,0+IF(ISBLANK(G72),0,0+IF(ISBLANK(H72),0,0+IF(ISBLANK(J72),0,0+IF(I72="SELECT OPTION",0,0+IF(I72="Local",8,10))))))) -> 0 | P72: ACCEPTABLE | Q72: =IF(P72="Acceptable",K72,0) -> 0
A73: 3 | I73: SELECT OPTION | K73: =IF(ISBLANK(B73),0,0+IF(ISBLANK(F73),0,0+IF(ISBLANK(G73),0,0+IF(ISBLANK(H73),0,0+IF(ISBLANK(J73),0,0+IF(I73="SELECT OPTION",0,0+IF(I73="Local",8,10))))))) -> 0 | P73: ACCEPTABLE | Q73: =IF(P73="Acceptable",K73,0) -> 0
A74: 4 | I74: SELECT OPTION | K74: =IF(ISBLANK(B74),0,0+IF(ISBLANK(F74),0,0+IF(ISBLANK(G74),0,0+IF(ISBLANK(H74),0,0+IF(ISBLANK(J74),0,0+IF(I74="SELECT OPTION",0,0+IF(I74="Local",8,10))))))) -> 0 | P74: ACCEPTABLE | Q74: =IF(P74="Acceptable",K74,0) -> 0
A75: 5 | I75: SELECT OPTION | K75: =IF(ISBLANK(B75),0,0+IF(ISBLANK(F75),0,0+IF(ISBLANK(G75),0,0+IF(ISBLANK(H75),0,0+IF(ISBLANK(J75),0,0+IF(I75="SELECT OPTION",0,0+IF(I75="Local",8,10))))))) -> 0 | P75: ACCEPTABLE | Q75: =IF(P75="Acceptable",K75,0) -> 0
A76: 6 | I76: SELECT OPTION | K76: =IF(ISBLANK(B76),0,0+IF(ISBLANK(F76),0,0+IF(ISBLANK(G76),0,0+IF(ISBLANK(H76),0,0+IF(ISBLANK(J76),0,0+IF(I76="SELECT OPTION",0,0+IF(I76="Local",8,10))))))) -> 0 | P76: ACCEPTABLE | Q76: =IF(P76="Acceptable",K76,0) -> 0
A77: 7 | I77: SELECT OPTION | K77: =IF(ISBLANK(B77),0,0+IF(ISBLANK(F77),0,0+IF(ISBLANK(G77),0,0+IF(ISBLANK(H77),0,0+IF(ISBLANK(J77),0,0+IF(I77="SELECT OPTION",0,0+IF(I77="Local",8,10))))))) -> 0 | P77: ACCEPTABLE | Q77: =IF(P77="Acceptable",K77,0) -> 0
J78: TOTAL | K78: =SUM(K71:K77) -> 0 | Q78: =SUM(Q71:Q77) -> 0
A80: 1.4 | B80: SERVICES THROUGH MEDIA AS: | N80: =B80 -> SERVICES THROUGH MEDIA AS: | P80: =B80 -> SERVICES THROUGH MEDIA AS:
A81: No. | B81: Services | F81: Name of Media | G81: Title of Newspaper Column or TV/Radio Program | I81: Period of Engagement (mm/dd/yyyy to mm/dd/yyyy) | J81: No. of engagements | K81: Faculty Points | L81: Link to Evidence from Google Drive | N81: REMARKS | P81: Validation of Documents | Q81: Validated Score | R81: Explanation for Non-Acceptance
A82: 1.4.1 | B82: Writer of occasional newspaper column | K82: =IF(ISBLANK(F82),0,0+IF(ISBLANK(I82),0,0+J82*2)) -> 0 | P82: ACCEPTABLE | Q82: =IF(P82="Acceptable",K82,0) -> 0
A83: 1.4.2 | B83: Writer of regular newspaper column | K83: =IF(ISBLANK(F83),0,0+IF(ISBLANK(G83),0,0+IF(ISBLANK(I83),0,10))) -> 0 | P83: ACCEPTABLE | Q83: =IF(P83="Acceptable",K83,0) -> 0
A84: 1.4.3 | B84: Host of TV/Radio Program | K84: =IF(ISBLANK(F84),0,0+IF(ISBLANK(G84),0,0+IF(ISBLANK(I84),0,10))) -> 0 | P84: ACCEPTABLE | Q84: =IF(P84="Acceptable",K84,0) -> 0
A85: 1.4.4 | B85: Guesting as technical expert for TV or radio program/print media/online media | K85: =IF(ISBLANK(F85),0,0+IF(ISBLANK(I85),0,0+J85*1)) -> 0 | P85: ACCEPTABLE | Q85: =IF(P85="Acceptable",K85,0) -> 0
J86: TOTAL | K86: =SUM(K82:K85) -> 0 | Q86: =SUM(Q82:Q85) -> 0
A88: 1.5 | B88: FOR EVERY HOUR OF TRAINING COURSE, SEMINAR, WORKSHOP CONDUCTED AS A RESOURCE PERSON, CONVENOR, FACILITATOR, MODERATOR, KEYNOTE/PLENARY SPEAKER OR PANELIST | N88: =B88 -> FOR EVERY HOUR OF TRAINING COURSE, SEMINAR, WORKSHOP CONDUCTED AS A RESOURCE PERSON, CONVENOR, FACILITATOR, MODERATOR, KEYNOTE/PLENARY SPEAKER OR PANELIST | P88: =B88 -> FOR EVERY HOUR OF TRAINING COURSE, SEMINAR, WORKSHOP CONDUCTED AS A RESOURCE PERSON, CONVENOR, FACILITATOR, MODERATOR, KEYNOTE/PLENARY SPEAKER OR PANELIST
A89: No. | B89: Title of the Training | E89: Type of Participation | F89: Organizer | G89: Period of Engagement | I89: Scope | J89: Total No. of Hours | K89: Faculty Points | L89: Link to Evidence from Google Drive | N89: REMARKS | P89: Validation of Documents | Q89: Validated Score | R89: Explanation for Non-Acceptance
G90: start date | H90: end date
A91: 1 | I91: SELECT OPTION | K91: =IF(ISBLANK(B91),0,0+IF(ISBLANK(E91),0,0+IF(ISBLANK(F91),0,0+(IF(ISBLANK(G91),0,0+IF(ISBLANK(H91),0,0+IF(I91="SELECT OPTION",0,0+IF(I91="Local",(2*J91),IF(I91="International",(3*J91),0))))))))) -> 0 | P91: ACCEPTABLE | Q91: =IF(P91="Acceptable",K91,0) -> 0
A92: 2 | I92: SELECT OPTION | K92: =IF(ISBLANK(B92),0,0+IF(ISBLANK(E92),0,0+IF(ISBLANK(F92),0,0+(IF(ISBLANK(G92),0,0+IF(ISBLANK(H92),0,0+IF(I92="SELECT OPTION",0,0+IF(I92="Local",(2*J92),IF(I92="International",(3*J92),0))))))))) -> 0 | P92: ACCEPTABLE | Q92: =IF(P92="Acceptable",K92,0) -> 0
A93: 3 | I93: SELECT OPTION | K93: =IF(ISBLANK(B93),0,0+IF(ISBLANK(E93),0,0+IF(ISBLANK(F93),0,0+(IF(ISBLANK(G93),0,0+IF(ISBLANK(H93),0,0+IF(I93="SELECT OPTION",0,0+IF(I93="Local",(2*J93),IF(I93="International",(3*J93),0))))))))) -> 0 | P93: ACCEPTABLE | Q93: =IF(P93="Acceptable",K93,0) -> 0
A94: 4 | I94: SELECT OPTION | K94: =IF(ISBLANK(B94),0,0+IF(ISBLANK(E94),0,0+IF(ISBLANK(F94),0,0+(IF(ISBLANK(G94),0,0+IF(ISBLANK(H94),0,0+IF(I94="SELECT OPTION",0,0+IF(I94="Local",(2*J94),IF(I94="International",(3*J94),0))))))))) -> 0 | P94: ACCEPTABLE | Q94: =IF(P94="Acceptable",K94,0) -> 0
A95: 5 | I95: SELECT OPTION | K95: =IF(ISBLANK(B95),0,0+IF(ISBLANK(E95),0,0+IF(ISBLANK(F95),0,0+(IF(ISBLANK(G95),0,0+IF(ISBLANK(H95),0,0+IF(I95="SELECT OPTION",0,0+IF(I95="Local",(2*J95),IF(I95="International",(3*J95),0))))))))) -> 0 | P95: ACCEPTABLE | Q95: =IF(P95="Acceptable",K95,0) -> 0
A96: 6 | I96: SELECT OPTION | K96: =IF(ISBLANK(B96),0,0+IF(ISBLANK(E96),0,0+IF(ISBLANK(F96),0,0+(IF(ISBLANK(G96),0,0+IF(ISBLANK(H96),0,0+IF(I96="SELECT OPTION",0,0+IF(I96="Local",(2*J96),IF(I96="International",(3*J96),0))))))))) -> 0 | P96: ACCEPTABLE | Q96: =IF(P96="Acceptable",K96,0) -> 0
A97: 7 | I97: SELECT OPTION | K97: =IF(ISBLANK(B97),0,0+IF(ISBLANK(E97),0,0+IF(ISBLANK(F97),0,0+(IF(ISBLANK(G97),0,0+IF(ISBLANK(H97),0,0+IF(I97="SELECT OPTION",0,0+IF(I97="Local",(2*J97),IF(I97="International",(3*J97),0))))))))) -> 0 | P97: ACCEPTABLE | Q97: =IF(P97="Acceptable",K97,0) -> 0
A98: 8 | I98: SELECT OPTION | K98: =IF(ISBLANK(B98),0,0+IF(ISBLANK(E98),0,0+IF(ISBLANK(F98),0,0+(IF(ISBLANK(G98),0,0+IF(ISBLANK(H98),0,0+IF(I98="SELECT OPTION",0,0+IF(I98="Local",(2*J98),IF(I98="International",(3*J98),0))))))))) -> 0 | P98: ACCEPTABLE | Q98: =IF(P98="Acceptable",K98,0) -> 0
A99: 9 | I99: SELECT OPTION | K99: =IF(ISBLANK(B99),0,0+IF(ISBLANK(E99),0,0+IF(ISBLANK(F99),0,0+(IF(ISBLANK(G99),0,0+IF(ISBLANK(H99),0,0+IF(I99="SELECT OPTION",0,0+IF(I99="Local",(2*J99),IF(I99="International",(3*J99),0))))))))) -> 0 | P99: ACCEPTABLE | Q99: =IF(P99="Acceptable",K99,0) -> 0
J100: TOTAL | K100: =SUM(K91:K99) -> 0 | Q100: =SUM(Q91:Q99) -> 0
A102: 2. | B102: INSTITUTIONAL SOCIAL RESPONSIBILITY | N102: =B102 -> INSTITUTIONAL SOCIAL RESPONSIBILITY | P102: =B102 -> INSTITUTIONAL SOCIAL RESPONSIBILITY
A103: 2.1 | B103: FOR EVERY SERVICE-ORIENTED PROJECT IN THE COMMUNITY PARTICIPATED, INCLUDING ADVOCACY INITIATIVES | N103: =B103 -> FOR EVERY SERVICE-ORIENTED PROJECT IN THE COMMUNITY PARTICIPATED, INCLUDING ADVOCACY INITIATIVES | P103: =B103 -> FOR EVERY SERVICE-ORIENTED PROJECT IN THE COMMUNITY PARTICIPATED, INCLUDING ADVOCACY INITIATIVES
A104: No. | B104: Name of Community Extension Activity | F104: Name of Community | H104: No. of Beneficiaries | I104: Role | J104: Activity Date (mm/dd/yyyy) | K104: Faculty Points | L104: Link to Evidence from Google Drive | N104: REMARKS | P104: Validation of Documents | Q104: Validated Score | R104: Explanation for Non-Acceptance
A105: 1 | I105: SELECT OPTION | K105: =IF(ISBLANK(B105),0,0+IF(ISBLANK(F105),0,0+IF(ISBLANK(H105),0,0+IF(ISBLANK(J105),0,0+IF(I105="SELECT OPTION",0,0+IF(I105="Head",5,0)+IF(I105="Participant",2,0)))))) -> 0 | P105: ACCEPTABLE | Q105: =IF(P105="Acceptable",K105,0) -> 0 | AB105: SELECT OPTION
A106: 2 | I106: SELECT OPTION | K106: =IF(ISBLANK(B106),0,0+IF(ISBLANK(F106),0,0+IF(ISBLANK(H106),0,0+IF(ISBLANK(J106),0,0+IF(I106="SELECT OPTION",0,0+IF(I106="Head",5,0)+IF(I106="Participant",2,0)))))) -> 0 | P106: ACCEPTABLE | Q106: =IF(P106="Acceptable",K106,0) -> 0 | AB106: Head
A107: 3 | I107: SELECT OPTION | K107: =IF(ISBLANK(B107),0,0+IF(ISBLANK(F107),0,0+IF(ISBLANK(H107),0,0+IF(ISBLANK(J107),0,0+IF(I107="SELECT OPTION",0,0+IF(I107="Head",5,0)+IF(I107="Participant",2,0)))))) -> 0 | P107: ACCEPTABLE | Q107: =IF(P107="Acceptable",K107,0) -> 0 | AB107: Participant
A108: 4 | I108: SELECT OPTION | K108: =IF(ISBLANK(B108),0,0+IF(ISBLANK(F108),0,0+IF(ISBLANK(H108),0,0+IF(ISBLANK(J108),0,0+IF(I108="SELECT OPTION",0,0+IF(I108="Head",5,0)+IF(I108="Participant",2,0)))))) -> 0 | P108: ACCEPTABLE | Q108: =IF(P108="Acceptable",K108,0) -> 0
A109: 5 | I109: SELECT OPTION | K109: =IF(ISBLANK(B109),0,0+IF(ISBLANK(F109),0,0+IF(ISBLANK(H109),0,0+IF(ISBLANK(J109),0,0+IF(I109="SELECT OPTION",0,0+IF(I109="Head",5,0)+IF(I109="Participant",2,0)))))) -> 0 | P109: ACCEPTABLE | Q109: =IF(P109="Acceptable",K109,0) -> 0
...

Sheet Form 3-C&D
B1: KRA III - EXTENSION | K1: =B1 -> KRA III - EXTENSION | N1: =B1 -> KRA III - EXTENSION
AC2: SELECT OPTION
B3: ='Request Form'!B6 -> LAST NAME: | E3: =Form1_A!E3 -> 0 | N3: =B3 -> LAST NAME: | O3: =E3 -> 0 | AC3: NOT APPLICABLE
B4: ='Request Form'!B7 -> FIRST NAME, EXT.: | E4: =Form1_A!E4 -> 0 | N4: =B4 -> FIRST NAME, EXT.: | O4: =E4 -> 0 | AC4: ON APPROVED STUDY LEAVE
B5: ='Request Form'!B8 -> MIDDLE NAME: | E5: =Form1_A!E5 -> 0 | N5: =B5 -> MIDDLE NAME: | O5: =E5 -> 0 | AB5: 0 | AC5: ON APPROVED SABBATICAL LEAVE
AB6: 1 | AC6: ON APPROVED MATERNITY LEAVE
B7: CRITERION C - QUALITY OF EXTENSION SERVICES (MAX = 20 POINTS) | K7: =B7 -> CRITERION C - QUALITY OF EXTENSION SERVICES (MAX = 20 POINTS) | N7: =B7 -> CRITERION C - QUALITY OF EXTENSION SERVICES (MAX = 20 POINTS) | AB7: 2
AB8: 3 | AC8: ACCEPTABLE
B9: CLIENT SATISFACTION RATING: Enter average rating received by the faculty/semester. For newly appointed faculty from private HEI, LUCs, TESDA/DepEd schools who decided to proceed with the evaluation, put "0" in semesters with no client satisfaction rating. | AB9: 4 | AC9: NOT ACCEPTABLE
AB10: 5
B11: SPECIFY NUMBER OF SEMESTERS THAT WILL BE DEDUCTED FROM THE DIVISOR, IF APPLICABLE → | I11: 0 | AB11: 6
AB12: 7
B13: REASON FOR DEDUCTING THE DIVISOR | G13: SELECT OPTION | H13: <Link to Evidence from Google Drive> | AB13: 8
B15: 1. | C15: CLIENT SATISFACTION RATING FOR OUTREACH AND EXTENSION PROJECTS | K15: =C15 -> CLIENT SATISFACTION RATING FOR OUTREACH AND EXTENSION PROJECTS | N15: =C15 -> CLIENT SATISFACTION RATING FOR OUTREACH AND EXTENSION PROJECTS
B16: No. | C16: Evaluation Period | F16: CLIENT SATISFACTION RATING | K16: REMARKS
F17: 1st Semester | G17: Link to Evidence from Google Drive | H17: 2nd Semester | I17: Link to Evidence from Google Drive | K17: 1ST SEMESTER | L17: 2ND SEMESTER | N17: 1st SEM Rating as Validated | O17: Ratings | P17: Explanation for Non-Acceptance | Q17: 2nd SEM Rating as Validated | R17: Ratings | S17: Explanation for Non-Acceptance
B18: 1 | C18: AY 2019-2020 | F18: 0 | H18: 0 | N18: ACCEPTABLE | O18: =IF(N18="Acceptable",F18,"") -> 0 | Q18: ACCEPTABLE | R18: =IF(Q18="Acceptable",H18,"") -> 0
B19: 2 | C19: AY 2020-2021 | F19: 0 | H19: 0 | N19: ACCEPTABLE | O19: =IF(N19="Acceptable",F19,"") -> 0 | Q19: ACCEPTABLE | R19: =IF(Q19="Acceptable",H19,"") -> 0
B20: 3 | C20: AY 2021-2022 | F20: 0 | H20: 0 | N20: ACCEPTABLE | O20: =IF(N20="Acceptable",F20,"") -> 0 | Q20: ACCEPTABLE | R20: =IF(Q20="Acceptable",H20,"") -> 0
B21: 4 | C21: AY 2022-2023 | F21: 0 | H21: 0 | N21: ACCEPTABLE | O21: =IF(N21="Acceptable",F21,"") -> 0 | Q21: ACCEPTABLE | R21: =IF(Q21="Acceptable",H21,"") -> 0
B22: OVERALL AVERAGE RATING | H22: =IF(G13="NOT APPLICABLE",AVERAGE(F18:F21,H18:H21),0+IF(G13="ON APPROVED STUDY LEAVE",SUM(F18:F21,H18:H21)/(8-I11),0)+IF(G13="ON APPROVED SABBATICAL LEAVE",SUM(F18:F21,H18:H21)/(8-I11),0+IF(G13="ON APPROVED MATERNITY LEAVE",SUM(F18:F21,H18:H21)/(8-I11),0))) -> 0 | AC22: SELECT OPTION
B23: TOTAL FACULTY SCORE | H23: =H22/100*20 -> 0 | N23: VALIDATED RATING | P23: =IF(G13="NOT APPLICABLE",AVERAGE(O18:O21,R18:R21),0+IF(G13="ON APPROVED STUDY LEAVE",SUM(O18:O21,R18:R21)/(8-I11),0)+IF(G13="ON APPROVED SABBATICAL LEAVE",SUM(O18:O21,R18:R21)/(8-I11),0+IF(G13="ON APPROVED MATERNITY LEAVE",SUM(O18:O21,R18:R21)/(8-I11),0))) -> 0 | Q23: VALIDATED SCORE | S23: =P23/100*20 -> 0 | AC23: President or OIC President
AC24: Vice-President
B25: CRITERION D - BONUS CRITERION (MAX = 20 POINTS) | K25: =B25 -> CRITERION D - BONUS CRITERION (MAX = 20 POINTS) | N25: =B25 -> CRITERION D - BONUS CRITERION (MAX = 20 POINTS) | AC25: Chancellor
AC26: Vice-Chancellor
B27: 1. | C27: FOR ADMINISTRATIVE DESIGNATION | K27: =C27 -> FOR ADMINISTRATIVE DESIGNATION | N27: =C27 -> FOR ADMINISTRATIVE DESIGNATION | AC27: Campus Director/Administrator/Head
B28: 1.1 | C28: HIGHEST ADMINISTRATIVE DESIGNATION HELD FOR AT LEAST ONE YEAR WITH THE EVALUATION PERIOD | K28: =C28 -> HIGHEST ADMINISTRATIVE DESIGNATION HELD FOR AT LEAST ONE YEAR WITH THE EVALUATION PERIOD | N28: =C28 -> HIGHEST ADMINISTRATIVE DESIGNATION HELD FOR AT LEAST ONE YEAR WITH THE EVALUATION PERIOD | AC28: Faculty Regent
AC29: Office Director
B30: No. | C30: Designation | G30: Effectivity Period (mm/dd/yyyy to mm/dd/yyyy) | H30: Faculty Score | I30: Link to Evidence from Google Drive | K30: REMARKS | N30: Validation of Documents | O30: Validated Score | P30: Explanation for Non-Acceptance | AC30: University/College Secretary
B31: 1 | C31: SELECT OPTION | H31: =IF(ISBLANK(G31),0,0+IF(C31="SELECT OPTION",0,0+IF(C31="President or OIC President",20)+IF(C31="Vice-President",15)+IF(C31="Chancellor",10)+IF(C31="Vice-Chancellor",8)+IF(C31="Campus Director/Administrator/Head",8)+IF(C31="Faculty Regent",8)+IF(C31="Office Director",6)+IF(C31="University/College Secretary",6)+IF(C31="Project Head",4)+IF(C31="Institution-level Committee Chair",3)+IF(C31="Institution-level Committee Member",2)+IF(C31="Dean",6)++IF(C31="Associate Dean",5)+IF(C31="College Secretary",3)+IF(C31="Department Head",4)+IF(C31="Program Chair/Project Head",3)+IF(C31="Department-level Committee Chair",2))+IF(C31="Department-level Committee Member",1)) -> 0 | I31: <Google Drive link> | N31: ACCEPTABLE | O31: =IF(N31="Acceptable",H31,0) -> 0 | AC31: Project Head
G32: TOTAL | O32: =SUM(O31:O31) -> 0 | AC32: Institution-level Committee Chair
AC33: Institution-level Committee Member
C34: Prepared by: | F34: Evaluated by: | N34: Validated by: | AC34: Dean
AC35: Associate Dean
AC36: College Secretary
C37: Name and Signature | F37: Name of IEC Member and Signature | N37: Name of REC Member and Signature | AC37: Department Head
C38: Date: | F38: Date: | N38: Date: | AC38: Program Chair/Project Head
AC39: Department-level Committee Chair
AC40: Department-level Committee Member
F41: Name of IEC Chair and Signature | N41: Name of REC Chair and Signature
F42: Date: | N42: Date:

Sheet KRA III
A1: FACULTY POSITION RECLASSIFICATION FOR SUCs | K1: =A1 -> FACULTY POSITION RECLASSIFICATION FOR SUCs | M1: =A1 -> FACULTY POSITION RECLASSIFICATION FOR SUCs
A3: KRA III - EXTENSION | K3: =A3 -> KRA III - EXTENSION | M3: =A3 -> KRA III - EXTENSION
A4: SUMMARY OF POINTS | K4: =A4 -> SUMMARY OF POINTS | M4: =A4 -> SUMMARY OF POINTS
A5: ='Request Form'!B6 -> LAST NAME: | D5: =Form1_A!E3 -> 0 | M5: =A5 -> LAST NAME: | N5: =D5 -> 0
A6: ='Request Form'!B7 -> FIRST NAME, EXT.: | D6: =Form1_A!E4 -> 0 | M6: =A6 -> FIRST NAME, EXT.: | N6: =D6 -> 0
A7: ='Request Form'!B8 -> MIDDLE NAME: | D7: =Form1_A!E5 -> 0 | M7: =A7 -> MIDDLE NAME: | N7: =D7 -> 0
A9: CRITERION A - SERVICE TO THE INSTITUTION (MAX = 30 POINTS) | K9: =A9 -> CRITERION A - SERVICE TO THE INSTITUTION (MAX = 30 POINTS) | M9: =A9 -> CRITERION A - SERVICE TO THE INSTITUTION (MAX = 30 POINTS)
H10: Faculty Score | I10: Allowable Points | K10: REMARKS | M10: Validated Score | N10: Allowable Points | O10: Remarks
A11: 1. | B11: LINKAGES, NETWORKING AND PARTNESHIP | H11: ='Form 3-A&B'!K21 -> 0 | M11: ='Form 3-A&B'!Q21 -> 0
A12: 2. | B12: CONTRIBUTION TO INCOME GENERATION | H12: ='Form 3-A&B'!J34 -> 0 | M12: ='Form 3-A&B'!Q34 -> 0
C13: TOTAL POINTS FOR CRITERION A | H13: =SUM(H11:H12) -> 0 | I13: =IF(H13>=30,30,H13) -> 0 | M13: =SUM(M11:M12) -> 0 | N13: =IF(M13>=30,30,M13) -> 0
A15: CRITERION B - SERVICE TO THE COMMUNITY (MAX = 50 POINTS) | K15: =A15 -> CRITERION B - SERVICE TO THE COMMUNITY (MAX = 50 POINTS) | M15: =A15 -> CRITERION B - SERVICE TO THE COMMUNITY (MAX = 50 POINTS)
A16: 1. | B16: PROFEESIONAL EXPERTISE-BASED SERVICES | H16: Faculty Score | I16: Allowable Points | K16: REMARKS
B17: 1.1 | C17: Accreditation, evaluation, assessment & other related educational QA activities. | H17: ='Form 3-A&B'!K52 -> 0 | M17: ='Form 3-A&B'!Q52 -> 0
B18: 1.2 | C18: Judge/Examiner for local/international research awards and academic competitions | H18: ='Form 3-A&B'!K66 -> 0 | M18: ='Form 3-A&B'!Q66 -> 0
B19: 1.3 | C19: For services rendered as a short-term consultant/expert | H19: ='Form 3-A&B'!K78 -> 0 | M19: ='Form 3-A&B'!Q78 -> 0
B20: 1.4 | C20: Services through media
C21: 1.4.1 Writer of occasional newspaper column (Max = 10 points) | H21: ='Form 3-A&B'!K82 -> 0 | I21: =IF(H21>=10,10,H21) -> 0 | M21: ='Form 3-A&B'!Q82 -> 0 | N21: =IF(M21>=10,10,M21) -> 0
C22: 1.4.2 Writer of regular newspaper column | H22: ='Form 3-A&B'!K83 -> 0 | M22: ='Form 3-A&B'!Q83 -> 0
C23: 1.4.3 Host of TV/Radio Program | H23: ='Form 3-A&B'!K84 -> 0 | M23: ='Form 3-A&B'!Q84 -> 0
C24: 1.4.4 Guesting as technical expert for TV/radio program/print/online media (Max=10 pts) | H24: ='Form 3-A&B'!K85 -> 0 | I24: =IF(H24>=10,10,H24) -> 0 | M24: ='Form 3-A&B'!Q85 -> 0 | N24: =IF(M24>=10,10,M24) -> 0
B25: 1.5 | C25: For every hour of training/seminar/workshop conducted as Resource Person/Convenor/ Facilitator / Moderator/Keynote Speaker/Plenary Speaker/Panelist | H25: ='Form 3-A&B'!K100 -> 0 | M25: ='Form 3-A&B'!Q100 -> 0
C26: TOTAL | H26: =H17+H18+H19+I21+H22+H23+I24+H25 -> 0 | M26: =M17+M18+M19+N21+M22+M23+N24+M25 -> 0
A27: 2. | B27: INSTITUTIONAL RESPONSIBILITY
B28: 2.1 | C28: For every service-oriented project in the community (including advocacy initiatives) | H28: ='Form 3-A&B'!K115 -> 0 | M28: ='Form 3-A&B'!Q115 -> 0
C29: TOTAL POINTS FOR CRITERION B | H29: =H26+H28 -> 0 | I29: =IF(H29>=50,50,H29) -> 0 | M29: =M26+M28 -> 0 | N29: =IF(M29>=50,50,M29) -> 0
A31: CRITERION C - QUALITY OF EXTENSION (MAX = 20 POINTS) | K31: =A31 -> CRITERION C - QUALITY OF EXTENSION (MAX = 20 POINTS) | M31: =A31 -> CRITERION C - QUALITY OF EXTENSION (MAX = 20 POINTS)
H32: Faculty Score | I32: Allowable Points | K32: REMARKS | M32: Validated Score | N32: Allowable Points | O32: Remarks
A33: 1. | B33: CLIENT SATISFACTION RATING FOR OUTREACH AND EXTENSION ACTIVITIES | H33: ='Form 3-C&D'!H23 -> 0 | M33: ='Form 3-C&D'!S23 -> 0
A34: TOTAL POINTS FOR CRITERION B (MAX = 20 points) | H34: =H33 -> 0 | I34: =IF(H34>=20,20,H34) -> 0 | M34: =M33 -> 0 | N34: =IF(M34>=20,20,M34) -> 0
A36: CRITERION D - BONUS CRITERION (MAX = 20 POINTS) | K36: =A36 -> CRITERION D - BONUS CRITERION (MAX = 20 POINTS)
H37: Faculty Score | I37: Allowable Points | K37: REMARKS | M37: Validated Score | N37: Allowable Points | O37: Remarks
A38: 1. | B38: ADMINISTRATIVE DESIGNATION | H38: ='Form 3-C&D'!H31 -> 0 | M38: ='Form 3-C&D'!O32 -> 0
A39: TOTAL POINTS FOR CRITERION C (MAX = 20 POINTS) | H39: =SUM(H38) -> 0 | I39: =H39 -> 0 | M39: =M38 -> 0 | N39: =IF(M39>=20,20,M39) -> 0 | AA39: Complete Evaluation | AB39: On Part-Time | AC39: Allowable Points
A40: GRAND TOTAL POINTS FOR KRA III (MAX - 100 points) | H40: =H13+H29+H34+H39 -> 0 | I40: =IF((I13+I29+I34+I39)>=100,100,(I13+I29+I34+I39)) -> 0 | M40: =M13+M29+M34+M39 -> 0 | N40: =IF((N13+N29+N34+N39)>=100,100,(N13+N29+N34+N39)) -> 0 | AA40: =Form1_A!AF68 -> 0 | AB40: =Form1_A!AG68 -> 0
AA41: =Form1_A!AF69 -> 0 | AB41: =Form1_A!AG69 -> 0
C42: Conforme: | E42: Evaluated by: | M42: Validated by: | AA42: =SUM(AA40:AA41) -> 0 | AB42: =SUM(AB40:AB41) -> 0 | AC42: =AB42 -> 0
C45: Name and Signature | E45: Name of IEC Member and Signature | M45: Name of REC Member and Signature
C46: Date: | E46: Date: | M46: Date:
E49: Name of IEC Chair and Signature | M49: Name of REC Member and Signature
E50: Date: | M50: Date:

Sheet Form 4-A&B
A1: KRA IV - PROFESSIONAL DEVELOPMENT | L1: =A1 -> KRA IV - PROFESSIONAL DEVELOPMENT | N1: =A1 -> KRA IV - PROFESSIONAL DEVELOPMENT | AB1: ACCEPTABLE
AB2: NOT ACCEPTABLE
A3: ='Request Form'!B6 -> LAST NAME: | D3: =Form1_A!E3 -> 0 | N3: =A3 -> LAST NAME: | O3: =D3 -> 0 | AB3: SELECT OPTION
A4: ='Request Form'!B7 -> FIRST NAME, EXT.: | D4: =Form1_A!E4 -> 0 | N4: =A4 -> FIRST NAME, EXT.: | O4: =D4 -> 0 | AB4: Board Member
A5: ='Request Form'!B8 -> MIDDLE NAME: | D5: =Form1_A!E5 -> 0 | N5: =A5 -> MIDDLE NAME: | O5: =D5 -> 0 | AB5: Officer
AB6: Lead Organizer
A7: CRITERION A – INVOLVEMENT IN PROFESSIONAL ORGANIZATION (MAX = 20 POINTS) | L7: =A7 -> CRITERION A – INVOLVEMENT IN PROFESSIONAL ORGANIZATION (MAX = 20 POINTS) | N7: =A7 -> CRITERION A – INVOLVEMENT IN PROFESSIONAL ORGANIZATION (MAX = 20 POINTS) | AB7: Co-organizer
AB8: Committee Chair
A9: 1. | B9: FOR CURRENT INDIVIDUAL MEMBERSHIP AND ACTIVE ROLE/CONTRIBUTION IN PROFESSIONAL ORGANIZATION, LEARNED/HONOR/SCIENTIFIC SOCIETY | L9: =B9 -> FOR CURRENT INDIVIDUAL MEMBERSHIP AND ACTIVE ROLE/CONTRIBUTION IN PROFESSIONAL ORGANIZATION, LEARNED/HONOR/SCIENTIFIC SOCIETY | N9: =B9 -> FOR CURRENT INDIVIDUAL MEMBERSHIP AND ACTIVE ROLE/CONTRIBUTION IN PROFESSIONAL ORGANIZATION, LEARNED/HONOR/SCIENTIFIC SOCIETY | AB9: Committee Member
A10: No. | B10: Name of Organization | E10: Type of Organization | F10: Activity of the organization participated by the faculty | G10: Role or contribution to the activity of the organization | H10: Date of Activity (mm/dd/yyyy) | I10: Faculty Score | J10: Link to Evidence from Google Drive | L10: REMARKS | N10: Validation of Documents | O10: Validated Score | P10: Explanation for Non-Acceptance | AB10: Moderator
A11: 1 | G11: SELECT OPTION | I11: =IF(ISBLANK(B11),0,0+IF(ISBLANK(E11),0,0+IF(ISBLANK(F11),0,0+IF(ISBLANK(H11),0,0+IF(G11="SELECT OPTION",0,5))))) -> 0 | N11: ACCEPTABLE | O11: =IF(N11="Acceptable",I11,0) -> 0
A12: 2 | G12: SELECT OPTION | I12: =IF(ISBLANK(B12),0,0+IF(ISBLANK(E12),0,0+IF(ISBLANK(F12),0,0+IF(ISBLANK(H12),0,0+IF(G12="SELECT OPTION",0,5))))) -> 0 | N12: ACCEPTABLE | O12: =IF(N12="Acceptable",I12,0) -> 0
A13: 3 | G13: SELECT OPTION | I13: =IF(ISBLANK(B13),0,0+IF(ISBLANK(E13),0,0+IF(ISBLANK(F13),0,0+IF(ISBLANK(H13),0,0+IF(G13="SELECT OPTION",0,5))))) -> 0 | N13: ACCEPTABLE | O13: =IF(N13="Acceptable",I13,0) -> 0
A14: 4 | G14: SELECT OPTION | I14: =IF(ISBLANK(B14),0,0+IF(ISBLANK(E14),0,0+IF(ISBLANK(F14),0,0+IF(ISBLANK(H14),0,0+IF(G14="SELECT OPTION",0,5))))) -> 0 | N14: ACCEPTABLE | O14: =IF(N14="Acceptable",I14,0) -> 0
A15: 5 | G15: SELECT OPTION | I15: =IF(ISBLANK(B15),0,0+IF(ISBLANK(E15),0,0+IF(ISBLANK(F15),0,0+IF(ISBLANK(H15),0,0+IF(G15="SELECT OPTION",0,5))))) -> 0 | N15: ACCEPTABLE | O15: =IF(N15="Acceptable",I15,0) -> 0
A16: 6 | G16: SELECT OPTION | I16: =IF(ISBLANK(B16),0,0+IF(ISBLANK(E16),0,0+IF(ISBLANK(F16),0,0+IF(ISBLANK(H16),0,0+IF(G16="SELECT OPTION",0,5))))) -> 0 | J16: <Google Drive link> | N16: ACCEPTABLE | O16: =IF(N16="Acceptable",I16,0) -> 0
A17: 7 | G17: SELECT OPTION | I17: =IF(ISBLANK(B17),0,0+IF(ISBLANK(E17),0,0+IF(ISBLANK(F17),0,0+IF(ISBLANK(H17),0,0+IF(G17="SELECT OPTION",0,5))))) -> 0 | J17: <Google Drive link> | N17: ACCEPTABLE | O17: =IF(N17="Acceptable",I17,0) -> 0
A18: 8 | G18: SELECT OPTION | I18: =IF(ISBLANK(B18),0,0+IF(ISBLANK(E18),0,0+IF(ISBLANK(F18),0,0+IF(ISBLANK(H18),0,0+IF(G18="SELECT OPTION",0,5))))) -> 0 | J18: <Google Drive link> | N18: ACCEPTABLE | O18: =IF(N18="Acceptable",I18,0) -> 0
A19: 9 | G19: SELECT OPTION | I19: =IF(ISBLANK(B19),0,0+IF(ISBLANK(E19),0,0+IF(ISBLANK(F19),0,0+IF(ISBLANK(H19),0,0+IF(G19="SELECT OPTION",0,5))))) -> 0 | J19: <Google Drive link> | N19: ACCEPTABLE | O19: =IF(N19="Acceptable",I19,0) -> 0
A20: 10 | G20: SELECT OPTION | I20: =IF(ISBLANK(B20),0,0+IF(ISBLANK(E20),0,0+IF(ISBLANK(F20),0,0+IF(ISBLANK(H20),0,0+IF(G20="SELECT OPTION",0,5))))) -> 0 | J20: <Google Drive link> | N20: ACCEPTABLE | O20: =IF(N20="Acceptable",I20,0) -> 0
H21: TOTAL | I21: =SUM(I11:I20) -> 0 | O21: =SUM(O10:O20) -> 0
A23: CRITERION B – CONTINUING DEVELOPMENT (MAX = 60 POINTS) | L23: =A23 -> CRITERION B – CONTINUING DEVELOPMENT (MAX = 60 POINTS) | N23: =A23 -> CRITERION B – CONTINUING DEVELOPMENT (MAX = 60 POINTS)
A25: 1. | B25: EDUCATIONAL QUALIFICATIONS (MAX - 40 POINTS) | L25: =B25 -> EDUCATIONAL QUALIFICATIONS (MAX - 40 POINTS) | N25: =B25 -> EDUCATIONAL QUALIFICATIONS (MAX - 40 POINTS)
AB26: Facilitator
A27: 1.1 | B27: FOR DOCTORATE DEGREE (First Time) | L27: =B27 -> FOR DOCTORATE DEGREE (First Time) | N27: =B27 -> FOR DOCTORATE DEGREE (First Time)
A28: No. | B28: Name of Doctorate Degree (provide complete name of the program) | E28: Name of Institution where the degree was earned | F28: Date Completed (mm/dd/yyyy) | G28: Is the faculty Qualified for the automatic 1 sub-rank increase? | H28: Faculty Score | I28: Link to Evidence from Google Drive | L28: REMARKS | N28: Validation of Documents | O28: Validated Score | P28: Explanation for Non-Acceptance | AB28: SELECT OPTION
A29: 1 | G29: NO | H29: =IF(ISBLANK(B29)+ISBLANK(E29)+ISBLANK(F29),0,0+IF(G29="NO",40,0)) -> 0 | N29: ACCEPTABLE | O29: =IF(N29="Acceptable",H29,0) -> 0 | AB29: NO
AB30: YES
A31: 1.2 | B31: ADDITIONAL DEGREES | L31: =B31 -> ADDITIONAL DEGREES | N31: =B31 -> ADDITIONAL DEGREES | AB31: SELECT OPTION
A32: No. | B32: Degree | E32: Degree Name | F32: Name of HEI | G32: Date Completed (mm/dd/yyyy) | H32: Faculty Score | I32: Link to Evidence from Google Drive | L32: REMARKS | N32: Validation of Documents | O32: Validated Score | P32: Explanation for Non-Acceptance | AB32: Additional Doctorate Degree
A33: 1 | B33: SELECT OPTION | H33: =IF(ISBLANK(E33),0,0+IF(ISBLANK(F33),0,0+IF(ISBLANK(G33),0,0+IF(B33="SELECT OPTION",0,0+IF(B33="Post-Masters Diploma/Certificate",10,0+IF(B33="Post-Doctorate Diploma/Certificate",10,0+IF(B33="Additional Master's Degree",20,0+IF(B33="Additional Doctorate Degree",40,0)))))))) -> 0 | N33: ACCEPTABLE | O33: =IF(N33="Acceptable",H33,0) -> 0 | AB33: Additional Master's Degree
A34: 2 | B34: SELECT OPTION | H34: =IF(ISBLANK(E34),0,0+IF(ISBLANK(F34),0,0+IF(ISBLANK(G34),0,0+IF(B34="SELECT OPTION",0,0+IF(B34="Post-Masters Diploma/Certificate",10,0+IF(B34="Post-Doctorate Diploma/Certificate",10,0+IF(B34="Additional Master's Degree",20,0+IF(B34="Additional Doctorate Degree",40,0)))))))) -> 0 | N34: ACCEPTABLE | O34: =IF(N34="Acceptable",H34,0) -> 0 | AB34: Post-Doctorate Diploma/Certificate
A35: 3 | B35: SELECT OPTION | H35: =IF(ISBLANK(E35),0,0+IF(ISBLANK(F35),0,0+IF(ISBLANK(G35),0,0+IF(B35="SELECT OPTION",0,0+IF(B35="Post-Masters Diploma/Certificate",10,0+IF(B35="Post-Doctorate Diploma/Certificate",10,0+IF(B35="Additional Master's Degree",20,0+IF(B35="Additional Doctorate Degree",40,0)))))))) -> 0 | N35: ACCEPTABLE | O35: =IF(N35="Acceptable",H35,0) -> 0 | AB35: Post-Masters Diploma/Certificate
A36: 4 | B36: SELECT OPTION | H36: =IF(ISBLANK(E36),0,0+IF(ISBLANK(F36),0,0+IF(ISBLANK(G36),0,0+IF(B36="SELECT OPTION",0,0+IF(B36="Post-Masters Diploma/Certificate",10,0+IF(B36="Post-Doctorate Diploma/Certificate",10,0+IF(B36="Additional Master's Degree",20,0+IF(B36="Additional Doctorate Degree",40,0)))))))) -> 0 | N36: ACCEPTABLE | O36: =IF(N36="Acceptable",H36,0) -> 0
A37: 5 | B37: SELECT OPTION | H37: =IF(ISBLANK(E37),0,0+IF(ISBLANK(F37),0,0+IF(ISBLANK(G37),0,0+IF(B37="SELECT OPTION",0,0+IF(B37="Post-Masters Diploma/Certificate",10,0+IF(B37="Post-Doctorate Diploma/Certificate",10,0+IF(B37="Additional Master's Degree",20,0+IF(B37="Additional Doctorate Degree",40,0)))))))) -> 0 | I37: <Google Drive link> | N37: ACCEPTABLE | O37: =IF(N37="Acceptable",H37,0) -> 0
A38: 6 | B38: SELECT OPTION | H38: =IF(ISBLANK(E38),0,0+IF(ISBLANK(F38),0,0+IF(ISBLANK(G38),0,0+IF(B38="SELECT OPTION",0,0+IF(B38="Post-Masters Diploma/Certificate",10,0+IF(B38="Post-Doctorate Diploma/Certificate",10,0+IF(B38="Additional Master's Degree",20,0+IF(B38="Additional Doctorate Degree",40,0)))))))) -> 0 | I38: <Google Drive link> | N38: ACCEPTABLE | O38: =IF(N38="Acceptable",H38,0) -> 0
A39: 7 | B39: SELECT OPTION | H39: =IF(ISBLANK(E39),0,0+IF(ISBLANK(F39),0,0+IF(ISBLANK(G39),0,0+IF(B39="SELECT OPTION",0,0+IF(B39="Post-Masters Diploma/Certificate",10,0+IF(B39="Post-Doctorate Diploma/Certificate",10,0+IF(B39="Additional Master's Degree",20,0+IF(B39="Additional Doctorate Degree",40,0)))))))) -> 0 | I39: <Google Drive link> | N39: ACCEPTABLE | O39: =IF(N39="Acceptable",H39,0) -> 0
G40: TOTAL | H40: =H29+H33+H34+H35+H39 -> 0 | O40: =O29+O33+O34+O35+O39 -> 0
A42: 2. | B42: FOR EVERY PARTICIPATION IN CONFERENCES, SEMINARS, WORKSHOPS, INDUSTRY IMMERSION (MAX = 10 POINTS) | L42: =B42 -> FOR EVERY PARTICIPATION IN CONFERENCES, SEMINARS, WORKSHOPS, INDUSTRY IMMERSION (MAX = 10 POINTS) | N42: =B42 -> FOR EVERY PARTICIPATION IN CONFERENCES, SEMINARS, WORKSHOPS, INDUSTRY IMMERSION (MAX = 10 POINTS)
A43: No. | B43: Name of Conference/Training | E43: Scope | F43: Organizer | G43: Date of Activity (mm/dd/yyyy) | H43: Faculty Score | I43: Link to Evidence from Google Drive | L43: REMARKS | N43: Validation of Documents | O43: Validated Score | P43: Explanation for Non-Acceptance | AB43: SELECT OPTION
A44: 1 | E44: SELECT OPTION | H44: =IF(ISBLANK(B44),0,0+IF(E44="Local",1,0+IF(E44="International",2,0))) -> 0 | N44: ACCEPTABLE | O44: =IF(N44="Acceptable",H44,0) -> 0 | AB44: Local
A45: 2 | E45: SELECT OPTION | H45: =IF(ISBLANK(B45),0,0+IF(E45="Local",1,0+IF(E45="International",2,0))) -> 0 | N45: ACCEPTABLE | O45: =IF(N45="Acceptable",H45,0) -> 0 | AB45: International
A46: 3 | E46: SELECT OPTION | H46: =IF(ISBLANK(B46),0,0+IF(E46="Local",1,0+IF(E46="International",2,0))) -> 0 | N46: ACCEPTABLE | O46: =IF(N46="Acceptable",H46,0) -> 0
A47: 4 | E47: SELECT OPTION | H47: =IF(ISBLANK(B47),0,0+IF(E47="Local",1,0+IF(E47="International",2,0))) -> 0 | N47: ACCEPTABLE | O47: =IF(N47="Acceptable",H47,0) -> 0
A48: 5 | E48: SELECT OPTION | H48: =IF(ISBLANK(B48),0,0+IF(E48="Local",1,0+IF(E48="International",2,0))) -> 0 | N48: ACCEPTABLE | O48: =IF(N48="Acceptable",H48,0) -> 0
A49: 6 | E49: SELECT OPTION | H49: =IF(ISBLANK(B49),0,0+IF(E49="Local",1,0+IF(E49="International",2,0))) -> 0 | N49: ACCEPTABLE | O49: =IF(N49="Acceptable",H49,0) -> 0
A50: 7 | E50: SELECT OPTION | H50: =IF(ISBLANK(B50),0,0+IF(E50="Local",1,0+IF(E50="International",2,0))) -> 0 | N50: ACCEPTABLE | O50: =IF(N50="Acceptable",H50,0) -> 0
A51: 8 | E51: SELECT OPTION | H51: =IF(ISBLANK(B51),0,0+IF(E51="Local",1,0+IF(E51="International",2,0))) -> 0 | N51: ACCEPTABLE | O51: =IF(N51="Acceptable",H51,0) -> 0
A52: 9 | E52: SELECT OPTION | H52: =IF(ISBLANK(B52),0,0+IF(E52="Local",1,0+IF(E52="International",2,0))) -> 0 | N52: ACCEPTABLE | O52: =IF(N52="Acceptable",H52,0) -> 0
A53: 10 | E53: SELECT OPTION | H53: =IF(ISBLANK(B53),0,0+IF(E53="Local",1,0+IF(E53="International",2,0))) -> 0 | N53: ACCEPTABLE | O53: =IF(N53="Acceptable",H53,0) -> 0
G54: TOTAL | H54: =SUM(H44:H53) -> 0 | O54: =SUM(O43:O53) -> 0
A56: 3. | B56: FOR EVERY PAPER PRESENTATION IN CONFERENCES (MAX = 10 POINTS) | L56: =B56 -> FOR EVERY PAPER PRESENTATION IN CONFERENCES (MAX = 10 POINTS) | N56: =B56 -> FOR EVERY PAPER PRESENTATION IN CONFERENCES (MAX = 10 POINTS)
A57: No. | B57: Title of Paper | E57: Local or International | F57: Title of the Conference | G57: Conference Organizer | H57: Date Presented | I57: Faculty Score | J57: Link to Evidence from Google Drive | L57: REMARKS | N57: Validation of Documents | O57: Validated Score | P57: Explanation for Non-Acceptance
A58: 1 | E58: SELECT OPTION | I58: =IF(ISBLANK(B58),0,0+IF(E58="Local",3,0+IF(E58="International",5,0))) -> 0 | J58: <Google Drive link> | N58: ACCEPTABLE | O58: =IF(N58="Acceptable",I58,0) -> 0
A59: 2 | E59: SELECT OPTION | I59: =IF(ISBLANK(B59),0,0+IF(E59="Local",3,0+IF(E59="International",5,0))) -> 0 | J59: <Google Drive link> | N59: ACCEPTABLE | O59: =IF(N59="Acceptable",I59,0) -> 0
A60: 3 | E60: SELECT OPTION | I60: =IF(ISBLANK(B60),0,0+IF(E60="Local",3,0+IF(E60="International",5,0))) -> 0 | J60: <Google Drive link> | N60: ACCEPTABLE | O60: =IF(N60="Acceptable",I60,0) -> 0
A61: 4 | E61: SELECT OPTION | I61: =IF(ISBLANK(B61),0,0+IF(E61="Local",3,0+IF(E61="International",5,0))) -> 0 | J61: <Google Drive link> | N61: ACCEPTABLE | O61: =IF(N61="Acceptable",I61,0) -> 0
A62: 5 | E62: SELECT OPTION | I62: =IF(ISBLANK(B62),0,0+IF(E62="Local",3,0+IF(E62="International",5,0))) -> 0 | J62: <Google Drive link> | N62: ACCEPTABLE | O62: =IF(N62="Acceptable",I62,0) -> 0
A63: 6 | E63: SELECT OPTION | I63: =IF(ISBLANK(B63),0,0+IF(E63="Local",3,0+IF(E63="International",5,0))) -> 0 | J63: <Google Drive link> | N63: ACCEPTABLE | O63: =IF(N63="Acceptable",I63,0) -> 0
A64: 7 | E64: SELECT OPTION | I64: =IF(ISBLANK(B64),0,0+IF(E64="Local",3,0+IF(E64="International",5,0))) -> 0 | J64: <Google Drive link> | N64: ACCEPTABLE | O64: =IF(N64="Acceptable",I64,0) -> 0
A65: 8 | E65: SELECT OPTION | I65: =IF(ISBLANK(B65),0,0+IF(E65="Local",3,0+IF(E65="International",5,0))) -> 0 | J65: <Google Drive link> | N65: ACCEPTABLE | O65: =IF(N65="Acceptable",I65,0) -> 0
A66: 9 | E66: SELECT OPTION | I66: =IF(ISBLANK(B66),0,0+IF(E66="Local",3,0+IF(E66="International",5,0))) -> 0 | J66: <Google Drive link> | N66: ACCEPTABLE | O66: =IF(N66="Acceptable",I66,0) -> 0
A67: 10 | E67: SELECT OPTION | I67: =IF(ISBLANK(B67),0,0+IF(E67="Local",3,0+IF(E67="International",5,0))) -> 0 | J67: <Google Drive link> | N67: ACCEPTABLE | O67: =IF(N67="Acceptable",I67,0) -> 0
H68: TOTAL | I68: =SUM(I58:I67) -> 0 | O68: =SUM(O58:O67) -> 0
B71: Prepared by: | E71: Evaluated by: | N71: Validated by:
B74: Name and Signature | E74: Name of IEC Member and Signature | N74: Name and Signature of REC
B75: Date: | E75: Date: | N75: Date:
E78: Name of IEC Chair and Signature | N78: Name of REC Chair and Signature
E79: Date: | N79: Date:

Sheet Form 4-C&D
A1: KRA IV - PROFESSIONAL DEVELOPMENT | K1: =A1 -> KRA IV - PROFESSIONAL DEVELOPMENT | M1: =A1 -> KRA IV - PROFESSIONAL DEVELOPMENT
A3: ='Request Form'!B6 -> LAST NAME: | C3: =Form1_A!E3 -> 0 | M3: =A3 -> LAST NAME: | N3: =C3 -> 0
A4: ='Request Form'!B7 -> FIRST NAME, EXT.: | C4: =Form1_A!E4 -> 0 | M4: =A4 -> FIRST NAME, EXT.: | N4: =C4 -> 0
A5: ='Request Form'!B8 -> MIDDLE NAME: | C5: =Form1_A!E5 -> 0 | M5: =A5 -> MIDDLE NAME: | N5: =C5 -> 0
A7: CRITERION C – AWARDS AND RECOGNITION (MAX = 20 POINTS) | K7: =A7 -> CRITERION C – AWARDS AND RECOGNITION (MAX = 20 POINTS) | M7: =A7 -> CRITERION C – AWARDS AND RECOGNITION (MAX = 20 POINTS) | AC7: SELECT OPTION
AC8: Institutional
A9: 1. | B9: FOR EVERY AWARD OF DISTINCTION RECEIVED IN RECOGNITION OF ACHIEVEMENT IN RELEVANT AREAS OF SPECIALIZATION, PROFESSION AND/OR ASSIGNMENT OF THE FACULTY CONCERNED. | K9: =B9 -> FOR EVERY AWARD OF DISTINCTION RECEIVED IN RECOGNITION OF ACHIEVEMENT IN RELEVANT AREAS OF SPECIALIZATION, PROFESSION AND/OR ASSIGNMENT OF THE FACULTY CONCERNED. | M9: =B9 -> FOR EVERY AWARD OF DISTINCTION RECEIVED IN RECOGNITION OF ACHIEVEMENT IN RELEVANT AREAS OF SPECIALIZATION, PROFESSION AND/OR ASSIGNMENT OF THE FACULTY CONCERNED. | AC9: Local
AC10: Regional
A11: No. | B11: Name of the Award | D11: Scope of the Award | E11: Award-Giving Body/Organization | F11: Date the Award was Given (mm/dd/yyyy) | G11: Venue of the Award Ceremony | H11: Faculty Score | I11: Link to Evidence from Google Drive | K11: REMARKS | M11: Validation of Documents | N11: Validated Score | O11: Explanation for Non-Acceptance | AC11: ACCEPTABLE
A12: 1 | D12: SELECT OPTION | H12: =IF(ISBLANK(B12),0,0+IF(ISBLANK(E12),0,0+IF(ISBLANK(F12),0,0+IF(ISBLANK(G12),0,0+IF(D12="Institutional",2,0+IF(D12="Local",3,0+IF(D12="Regional",4,0))))))) -> 0 | M12: ACCEPTABLE | N12: =IF(M12="Acceptable",H12,0) -> 0 | AC12: NOT ACCEPTABLE
A13: 2 | D13: SELECT OPTION | H13: =IF(ISBLANK(B13),0,0+IF(ISBLANK(E13),0,0+IF(ISBLANK(F13),0,0+IF(ISBLANK(G13),0,0+IF(D13="Institutional",2,0+IF(D13="Local",3,0+IF(D13="Regional",4,0))))))) -> 0 | M13: ACCEPTABLE | N13: =IF(M13="Acceptable",H13,0) -> 0
A14: 3 | D14: SELECT OPTION | H14: =IF(ISBLANK(B14),0,0+IF(ISBLANK(E14),0,0+IF(ISBLANK(F14),0,0+IF(ISBLANK(G14),0,0+IF(D14="Institutional",2,0+IF(D14="Local",3,0+IF(D14="Regional",4,0))))))) -> 0 | M14: ACCEPTABLE | N14: =IF(M14="Acceptable",H14,0) -> 0
A15: 4 | D15: SELECT OPTION | H15: =IF(ISBLANK(B15),0,0+IF(ISBLANK(E15),0,0+IF(ISBLANK(F15),0,0+IF(ISBLANK(G15),0,0+IF(D15="Institutional",2,0+IF(D15="Local",3,0+IF(D15="Regional",4,0))))))) -> 0 | M15: ACCEPTABLE | N15: =IF(M15="Acceptable",H15,0) -> 0
A16: 5 | D16: SELECT OPTION | H16: =IF(ISBLANK(B16),0,0+IF(ISBLANK(E16),0,0+IF(ISBLANK(F16),0,0+IF(ISBLANK(G16),0,0+IF(D16="Institutional",2,0+IF(D16="Local",3,0+IF(D16="Regional",4,0))))))) -> 0 | M16: ACCEPTABLE | N16: =IF(M16="Acceptable",H16,0) -> 0
A17: 6 | D17: SELECT OPTION | H17: =IF(ISBLANK(B17),0,0+IF(ISBLANK(E17),0,0+IF(ISBLANK(F17),0,0+IF(ISBLANK(G17),0,0+IF(D17="Institutional",2,0+IF(D17="Local",3,0+IF(D17="Regional",4,0))))))) -> 0 | M17: ACCEPTABLE | N17: =IF(M17="Acceptable",H17,0) -> 0
A18: 7 | D18: SELECT OPTION | H18: =IF(ISBLANK(B18),0,0+IF(ISBLANK(E18),0,0+IF(ISBLANK(F18),0,0+IF(ISBLANK(G18),0,0+IF(D18="Institutional",2,0+IF(D18="Local",3,0+IF(D18="Regional",4,0))))))) -> 0 | M18: ACCEPTABLE | N18: =IF(M18="Acceptable",H18,0) -> 0
F19: TOTAL | H19: =SUM(H12:H18) -> 0 | N19: =SUM(N12:N18) -> 0
A21: CRITERION D – BONUS INDICATORS FOR NEWLY APPOINTED FACULTY (MAX = 20 POINTS) | K21: =A21 -> CRITERION D – BONUS INDICATORS FOR NEWLY APPOINTED FACULTY (MAX = 20 POINTS) | M21: =A21 -> CRITERION D – BONUS INDICATORS FOR NEWLY APPOINTED FACULTY (MAX = 20 POINTS)
A23: 1. | B23: FOR EVERY YEAR OF FULL-TIME ACADEMIC SERVICE IN AN INSTITUTION OF HIGHER LEARNING AS: | K23: =B23 -> FOR EVERY YEAR OF FULL-TIME ACADEMIC SERVICE IN AN INSTITUTION OF HIGHER LEARNING AS: | M23: =B23 -> FOR EVERY YEAR OF FULL-TIME ACADEMIC SERVICE IN AN INSTITUTION OF HIGHER LEARNING AS: | AC23: SELECT OPTION
A24: No. | B24: Designation/Position | D24: Name of HEI/s | E24: No. of Years | F24: Period Covered | H24: Faculty Score | I24: Link to Evidence from Google Drive | K24: REMARKS | M24: Validation of Documents | N24: Validated Score | O24: Explanation for Non-Acceptance | AC24: President
F25: start | G25: end | M25: ACCEPTABLE | AC25: Vice President, Dean or Director
A26: 1 | B26: SELECT OPTION | H26: =(IF(B26="SELECT OPTION",0,0+IF(ISBLANK(D26),0,0+IF(ISBLANK(F26),0,0+IF(ISBLANK(G26),0,0+IF(B26="President",(5*E26),0+IF(B26="Vice President, Dean or Director",(4*E26),0+IF(B26="Department/Program Head",(3*E26),0+IF(B26="Faculty member",(2*E26),0))))))))) -> 0 | M26: ACCEPTABLE | N26: =IF(M26="Acceptable",H26,0) -> 0 | AC26: Department/Program Head
A27: 2 | B27: SELECT OPTION | H27: =(IF(B27="SELECT OPTION",0,0+IF(ISBLANK(D27),0,0+IF(ISBLANK(F27),0,0+IF(ISBLANK(G27),0,0+IF(B27="President",(5*E27),0+IF(B27="Vice President, Dean or Director",(4*E27),0+IF(B27="Department/Program Head",(3*E27),0+IF(B27="Faculty member",(2*E27),0))))))))) -> 0 | M27: ACCEPTABLE | N27: =IF(M27="Acceptable",H27,0) -> 0 | AC27: Faculty member
A28: 3 | B28: SELECT OPTION | H28: =(IF(B28="SELECT OPTION",0,0+IF(ISBLANK(D28),0,0+IF(ISBLANK(F28),0,0+IF(ISBLANK(G28),0,0+IF(B28="President",(5*E28),0+IF(B28="Vice President, Dean or Director",(4*E28),0+IF(B28="Department/Program Head",(3*E28),0+IF(B28="Faculty member",(2*E28),0))))))))) -> 0 | M28: ACCEPTABLE | N28: =IF(M28="Acceptable",H28,0) -> 0
A29: 4 | B29: SELECT OPTION | H29: =(IF(B29="SELECT OPTION",0,0+IF(ISBLANK(D29),0,0+IF(ISBLANK(F29),0,0+IF(ISBLANK(G29),0,0+IF(B29="President",(5*E29),0+IF(B29="Vice President, Dean or Director",(4*E29),0+IF(B29="Department/Program Head",(3*E29),0+IF(B29="Faculty member",(2*E29),0))))))))) -> 0 | M29: ACCEPTABLE | N29: =IF(M29="Acceptable",H29,0) -> 0
A30: 5 | B30: SELECT OPTION | H30: =(IF(B30="SELECT OPTION",0,0+IF(ISBLANK(D30),0,0+IF(ISBLANK(F30),0,0+IF(ISBLANK(G30),0,0+IF(B30="President",(5*E30),0+IF(B30="Vice President, Dean or Director",(4*E30),0+IF(B30="Department/Program Head",(3*E30),0+IF(B30="Faculty member",(2*E30),0))))))))) -> 0 | M30: ACCEPTABLE | N30: =IF(M30="Acceptable",H30,0) -> 0
A31: 6 | B31: SELECT OPTION | H31: =(IF(B31="SELECT OPTION",0,0+IF(ISBLANK(D31),0,0+IF(ISBLANK(F31),0,0+IF(ISBLANK(G31),0,0+IF(B31="President",(5*E31),0+IF(B31="Vice President, Dean or Director",(4*E31),0+IF(B31="Department/Program Head",(3*E31),0+IF(B31="Faculty member",(2*E31),0))))))))) -> 0 | M31: ACCEPTABLE | N31: =IF(M31="Acceptable",H31,0) -> 0
A32: 7 | B32: SELECT OPTION | H32: =(IF(B32="SELECT OPTION",0,0+IF(ISBLANK(D32),0,0+IF(ISBLANK(F32),0,0+IF(ISBLANK(G32),0,0+IF(B32="President",(5*E32),0+IF(B32="Vice President, Dean or Director",(4*E32),0+IF(B32="Department/Program Head",(3*E32),0+IF(B32="Faculty member",(2*E32),0))))))))) -> 0 | M32: ACCEPTABLE | N32: =IF(M32="Acceptable",H32,0) -> 0
G33: TOTAL | H33: =SUM(H26:H32) -> 0 | N33: =SUM(N26:N32) -> 0
A35: 2. | B35: FOR EVERY YEAR OF INDUSTRY EXPERIENCE (NON-ACADEMIC ORGANIZATION): | K35: =B35 -> FOR EVERY YEAR OF INDUSTRY EXPERIENCE (NON-ACADEMIC ORGANIZATION): | M35: =B35 -> FOR EVERY YEAR OF INDUSTRY EXPERIENCE (NON-ACADEMIC ORGANIZATION):
A36: No. | B36: Name of Company/Organization | D36: Designation/Position | E36: No. of Years | F36: Period Covered | H36: Faculty Score | I36: Link to Evidence from Google Drive | K36: REMARKS | M36: Validation of Documents | N36: Validated Score | O36: Explanation for Non-Acceptance
F37: start | G37: end | AC37: SELECT OPTION
A38: 1 | D38: SELECT OPTION | H38: =IF(ISBLANK(B38),0,0+IF(D38="SELECT OPTION",0,0+IF(ISBLANK(E38),0,0+IF(ISBLANK(F38),0,0+IF(ISBLANK(G38),0,0+IF(D38="Managerial/Supervisory",(4*E38),0+IF(D38="Support/Administrative",(2*E38),0+IF(D38="Technical/Skilled",(3*E38))))))))) -> 0 | M38: ACCEPTABLE | N38: =IF(M38="Acceptable",H38,0) -> 0 | AC38: Managerial/Supervisory
A39: 2 | D39: SELECT OPTION | H39: =IF(ISBLANK(B39),0,0+IF(D39="SELECT OPTION",0,0+IF(ISBLANK(E39),0,0+IF(ISBLANK(F39),0,0+IF(ISBLANK(G39),0,0+IF(D39="Managerial/Supervisory",(4*E39),0+IF(D39="Support/Administrative",(2*E39),0+IF(D39="Technical/Skilled",(3*E39))))))))) -> 0 | M39: ACCEPTABLE | N39: =IF(M39="Acceptable",H39,0) -> 0 | AC39: Technical/Skilled
A40: 3 | D40: SELECT OPTION | H40: =IF(ISBLANK(B40),0,0+IF(D40="SELECT OPTION",0,0+IF(ISBLANK(E40),0,0+IF(ISBLANK(F40),0,0+IF(ISBLANK(G40),0,0+IF(D40="Managerial/Supervisory",(4*E40),0+IF(D40="Support/Administrative",(2*E40),0+IF(D40="Technical/Skilled",(3*E40))))))))) -> 0 | M40: ACCEPTABLE | N40: =IF(M40="Acceptable",H40,0) -> 0 | AC40: Support/Administrative
A41: 4 | D41: SELECT OPTION | H41: =IF(ISBLANK(B41),0,0+IF(D41="SELECT OPTION",0,0+IF(ISBLANK(E41),0,0+IF(ISBLANK(F41),0,0+IF(ISBLANK(G41),0,0+IF(D41="Managerial/Supervisory",(4*E41),0+IF(D41="Support/Administrative",(2*E41),0+IF(D41="Technical/Skilled",(3*E41))))))))) -> 0 | M41: ACCEPTABLE | N41: =IF(M41="Acceptable",H41,0) -> 0
A42: 5 | D42: SELECT OPTION | H42: =IF(ISBLANK(B42),0,0+IF(D42="SELECT OPTION",0,0+IF(ISBLANK(E42),0,0+IF(ISBLANK(F42),0,0+IF(ISBLANK(G42),0,0+IF(D42="Managerial/Supervisory",(4*E42),0+IF(D42="Support/Administrative",(2*E42),0+IF(D42="Technical/Skilled",(3*E42))))))))) -> 0 | M42: ACCEPTABLE | N42: =IF(M42="Acceptable",H42,0) -> 0
A43: 6 | D43: SELECT OPTION | H43: =IF(ISBLANK(B43),0,0+IF(D43="SELECT OPTION",0,0+IF(ISBLANK(E43),0,0+IF(ISBLANK(F43),0,0+IF(ISBLANK(G43),0,0+IF(D43="Managerial/Supervisory",(4*E43),0+IF(D43="Support/Administrative",(2*E43),0+IF(D43="Technical/Skilled",(3*E43))))))))) -> 0 | M43: ACCEPTABLE | N43: =IF(M43="Acceptable",H43,0) -> 0
A44: 7 | D44: SELECT OPTION | H44: =IF(ISBLANK(B44),0,0+IF(D44="SELECT OPTION",0,0+IF(ISBLANK(E44),0,0+IF(ISBLANK(F44),0,0+IF(ISBLANK(G44),0,0+IF(D44="Managerial/Supervisory",(4*E44),0+IF(D44="Support/Administrative",(2*E44),0+IF(D44="Technical/Skilled",(3*E44))))))))) -> 0 | M44: ACCEPTABLE | N44: =IF(M44="Acceptable",H44,0) -> 0
G45: TOTAL | H45: =SUM(H38:H44) -> 0 | N45: =SUM(N38:N44) -> 0
B47: Prepared by: | D47: Evaluated by: | M47: Validated by:
B50: Name and Signature | D50: Name of IEC Member and Signature | M50: Name and Signature of REC
B51: Date: | D51: Date: | M51: Date:
D54: Name of IEC Chair and Signature | M54: Name of REC Chair and Signature
D55: Date: | M55: Date:

Sheet KRA IV
A1: FACULTY POSITION RECLASSIFICATION FOR SUCs | K1: =A1 -> FACULTY POSITION RECLASSIFICATION FOR SUCs | M1: =A1 -> FACULTY POSITION RECLASSIFICATION FOR SUCs
A3: KRA IV - PROFESSIONAL DEVELOPMENT | K3: =A3 -> KRA IV - PROFESSIONAL DEVELOPMENT | M3: =A3 -> KRA IV - PROFESSIONAL DEVELOPMENT
A4: SUMMARY OF POINTS | K4: =A4 -> SUMMARY OF POINTS | M4: =A4 -> SUMMARY OF POINTS
A6: ='Request Form'!B6 -> LAST NAME: | D6: =Form1_A!E3 -> 0 | M6: =A6 -> LAST NAME: | N6: =D6 -> 0
A7: ='Request Form'!B7 -> FIRST NAME, EXT.: | D7: =Form1_A!E4 -> 0 | M7: =A7 -> FIRST NAME, EXT.: | N7: =D7 -> 0
A8: ='Request Form'!B8 -> MIDDLE NAME: | D8: =Form1_A!E5 -> 0 | M8: =A8 -> MIDDLE NAME: | N8: =D8 -> 0
A10: CRITERION A – INVOLVEMENT IN PROFESSIONAL ORGANIZATIONS (MAX = 20 POINTS) | K10: =A10 -> CRITERION A – INVOLVEMENT IN PROFESSIONAL ORGANIZATIONS (MAX = 20 POINTS) | M10: =A10 -> CRITERION A – INVOLVEMENT IN PROFESSIONAL ORGANIZATIONS (MAX = 20 POINTS)
A11: INDICATORS | H11: Faculty Score | I11: Allowable Points | K11: REMARKS | M11: Validated Score | N11: Allowable Points | O11: REMARKS
A12: 1. | B12: MEMBERSHIP AND ROLE/CONTRIBUTION IN ORGANIZATIONS, SCIENTIFIC SOCIETY, ETC. | H12: ='Form 4-A&B'!I21 -> 0 | M12: ='Form 4-A&B'!O21 -> 0
C13: TOTAL POINTS FOR CRITERION A | H13: =H12 -> 0 | I13: =IF(H13>=20,20,H13) -> 0 | M13: =SUM(M12) -> 0 | N13: =IF(M13>=20,20,M13) -> 0 | O13: REMARKS
A15: CRITERION B - CONTINUING DEVELOPMENT (MAX = 60 POINTS) | K15: =A15 -> CRITERION B - CONTINUING DEVELOPMENT (MAX = 60 POINTS) | M15: =A15 -> CRITERION B - CONTINUING DEVELOPMENT (MAX = 60 POINTS)
A16: INDICATORS | H16: Faculty Score | I16: Allowable Points | K16: REMARKS | M16: Validated Score | N16: Allowable Points | O16: REMARKS
A17: 1. | B17: EDUCATIONAL QUALIFICATION (MAX - 40 POINTS) | H17: ='Form 4-A&B'!H40 -> 0 | I17: =IF(H17>=40,40,H17) -> 0 | M17: ='Form 4-A&B'!O40 -> 0
A18: 2. | B18: PARTICIPATION IN CONFERENCES, SEMINARS, WORKSHOPS, IMMERSIONS (Max = 10 POINTS) | H18: ='Form 4-A&B'!H54 -> 0 | I18: =IF(H18>=10,10,H18) -> 0 | M18: ='Form 4-A&B'!H54 -> 0
A19: 3. | B19: PAPER PRESENTATION IN CENFERENCES (Max = 10 POINTS) | H19: ='Form 4-A&B'!I68 -> 0 | I19: =IF(H19>=10,10,H19) -> 0 | M19: ='Form 4-A&B'!I68 -> 0
C20: TOTAL POINTS FOR CRITERION B | H20: =SUM(I17:I19) -> 0 | I20: =IF(H20>=60,60,H20) -> 0 | M20: =SUM(M17:M19) -> 0 | N20: =IF(M20>=60,60,M20) -> 0
A22: CRITERION C - AWARDS AND RECOGNITION (MAX = 20 POINTS) | K22: =A22 -> CRITERION C - AWARDS AND RECOGNITION (MAX = 20 POINTS) | M22: =A22 -> CRITERION C - AWARDS AND RECOGNITION (MAX = 20 POINTS)
A23: INDICATORS | H23: Faculty Score | I23: Allowable Points | K23: REMARKS | M23: Validated Score | N23: Allowable Points | O23: REMARKS
A24: 1. | B24: AWARDS AND DISTINCTIONS RECEIVED | H24: ='Form 4-C&D'!H19 -> 0 | M24: ='Form 4-C&D'!N19 -> 0
C25: TOTAL POINTS FOR CRITERION C | H25: =SUM(H24) -> 0 | I25: =IF(H25>=20,20,H25) -> 0 | M25: =SUM(M24) -> 0 | N25: =IF(M25>=20,20,M25) -> 0
A27: CRITERION D - BONUS INDICATOR FOR NEWLY HIRED FACULTY (MAX = 20 POINTS) | K27: =A27 -> CRITERION D - BONUS INDICATOR FOR NEWLY HIRED FACULTY (MAX = 20 POINTS) | M27: =A27 -> CRITERION D - BONUS INDICATOR FOR NEWLY HIRED FACULTY (MAX = 20 POINTS)
A28: INDICATORS | H28: Faculty Score | I28: Allowable Points | K28: REMARKS | M28: Validated Score | N28: Allowable Points | O28: REMARKS
A29: 1. | B29: ACADEMIC SERVICE IN HIGHER EDUCATION | H29: ='Form 4-C&D'!H33 -> 0 | M29: ='Form 4-C&D'!N33 -> 0
A30: 2. | B30: INDUSTRY SERVICES (NON-ACADEMIC ORGANIZATIONS) | H30: ='Form 4-C&D'!H45 -> 0 | M30: ='Form 4-C&D'!N45 -> 0
C31: TOTAL POINTS FOR CRITERION D | H31: =SUM(H29:H30) -> 0 | I31: =IF(H31>=20,20,H31) -> 0 | M31: =SUM(M29:M30) -> 0 | N31: =IF(M31>=20,20,M31) -> 0
B32: GRAND TOTAL POINTS FOR KRA IV (MAX - 100 points) | H32: =H13+H20+H25+H31 -> 0 | I32: =IF((I13+I20+I25+I31)>=100,100,(I13+I20+I25+I31)) -> 0 | M32: =M13+M20+M25+M31 -> 0 | N32: =N13+N20+N25+N31 -> 0
B34: Conforme: | D34: Evaluated by: | M34: Validated by:
B37: Name and Signature | D37: Name of IEC Member and Signature | M37: Name of REC Member and Signature
B38: Date: | D38: Date: | M38: Date:
D41: Name of IEC Chair and Signature | M41: Name of REC Member and Signature
D42: Date: | M42: Date:

Sheet ISS-FACULTY
A1: FACULTY POSITION RECLASSIFICATION FOR SUCs | R1: =A1 -> FACULTY POSITION RECLASSIFICATION FOR SUCs | T1: FACULTY POSITION RECLASSIFICATION FOR SUCs
A2: INDIVIDUAL SUMMARY SHEET | R2: =A2 -> INDIVIDUAL SUMMARY SHEET | T2: INDIVIDUAL SUMMARY SHEET
A4: ='Request Form'!B6 -> LAST NAME: | D4: =Form1_A!E3 -> 0 | T4: ='Request Form'!B6 -> LAST NAME: | W4: =Form1_A!E3 -> 0
A5: ='Request Form'!B7 -> FIRST NAME, EXT.: | D5: ='KRA IV'!D7:I7 -> 0 | T5: ='Request Form'!B7 -> FIRST NAME, EXT.: | W5: ='Request Form'!C7 -> 0
A6: ='Request Form'!B8 -> MIDDLE NAME: | D6: =Form1_A!E5 -> 0 | T6: ='Request Form'!B8 -> MIDDLE NAME: | W6: ='Request Form'!C8 -> 0
A8: CRITERIA | P8: FACULTY SCORE | R8: REMARKS | T8: CRITERIA | AI8: Validated Score | AJ8: REMARKS
A9: KRA I - INSTRUCTION (100 POINTS) | R9: =A9 -> KRA I - INSTRUCTION (100 POINTS) | T9: KRA I - INSTRUCTION (100 POINTS)
A10: Criterion A – Teaching Effectiveness (60 points) | P10: ='KRA I'!I15 -> 0 | T10: Criterion A – Teaching Effectiveness (60 points) | AI10: ='KRA I'!N15 -> 0
A11: Criterion B – Curriculum and/or Instructional Materials Developed (30 points) | P11: ='KRA I'!I25 -> 0 | T11: Criterion B – Curriculum and/or Instructional Materials Developed (30 points) | AI11: ='KRA I'!N25 -> 0
A12: Criterion C – Special Proj., Capstone Proj., Thesis, Dissertation & Mentorship Services (10 points) | P12: ='KRA I'!I33 -> 0 | T12: Criterion C – Special Proj., Capstone Proj., Thesis, Dissertation & Mentorship Services (10 points) | AI12: ='KRA I'!N33 -> 0
A13: TOTAL | P13: =P10+P11+P12 -> 0 | T13: TOTAL | AI13: =AI10+AI11+AI12 -> 0
A14: KRA II - RESEARCH, INNOVATION AND/OR CREATIVE WORK (100 POINTS) | R14: =A14 -> KRA II - RESEARCH, INNOVATION AND/OR CREATIVE WORK (100 POINTS) | T14: KRA II - RESEARCH, INNOVATION AND/OR CREATIVE WORK (100 POINTS)
A15: Criterion A – Research Outputs Published (100 points) | P15: ='KRA II'!I26 -> 0 | T15: Criterion A – Research Outputs Published (100 points) | AI15: ='KRA II'!N26 -> 0
A16: Criterion B – Inventions (100 points) | P16: ='KRA II'!I53 -> 0 | T16: Criterion B – Inventions (100 points) | AI16: ='KRA II'!N53 -> 0
A17: Criterion C – Creative Works (100 points) | P17: ='KRA II'!I62 -> 0 | T17: Criterion C – Creative Works (100 points) | AI17: ='KRA II'!N62 -> 0
A18: TOTAL | P18: =IF(SUM(P15:P17)>=100,100,SUM(P15:P17)) -> 0 | T18: TOTAL | AI18: =IF(SUM(AI15:AI17)>=100,100,SUM(AI15:AI17)) -> 0 | AQ18: SELECT OPTION
A19: KRA III - EXTENSION SERVICES (100 POINTS) | R19: =A19 -> KRA III - EXTENSION SERVICES (100 POINTS) | T19: KRA III - EXTENSION SERVICES (100 POINTS) | AQ19: INSTRUCTOR I
A20: Criterion A – Service to the Institution (30 points) | P20: ='KRA III'!I13 -> 0 | T20: Criterion A – Service to the Institution (30 points) | AI20: ='KRA III'!N13 -> 0 | AQ20: INSTRUCTOR II
A21: Criterion B – Service to the Community (50 points) | P21: ='KRA III'!I29 -> 0 | T21: Criterion B – Service to the Community (50 points) | AI21: ='KRA III'!N29 -> 0 | AQ21: INSTRUCTOR III
A22: Criterion C – Quality of Extension Service (20 points) | P22: ='KRA III'!I34 -> 0 | T22: Criterion C – Quality of Extension Service (20 points) | AI22: ='KRA III'!N34 -> 0 | AQ22: ASSISTANT PROFESSOR I
A23: Criterion D – Bonus Criterion (20 points) | P23: ='KRA III'!I39 -> 0 | T23: Criterion D – Bonus Criterion (20 points) | AI23: ='KRA III'!N39 -> 0 | AQ23: ASSISTANT PROFESSOR II | AS23: SELECT OPTION
A24: TOTAL | P24: =IF(SUM(P20:P23)>=100,100,SUM(P20:P23)) -> 0 | T24: TOTAL | AI24: =IF(SUM(AI20:AI23)>=100,100,SUM(AI20:AI23)) -> 0 | AQ24: ASSISTANT PROFESSOR III | AS24: 1
A25: KRA IV - PROFESSIONAL DEVELOPMENT (100 POINTS) | R25: =A25 -> KRA IV - PROFESSIONAL DEVELOPMENT (100 POINTS) | T25: KRA IV - PROFESSIONAL DEVELOPMENT (100 POINTS) | AQ25: ASSISTANT PROFESSOR IV | AS25: 2
A26: Criterion A – Involvement in Professional Organization (20 points) | P26: ='KRA IV'!I13 -> 0 | T26: Criterion A – Involvement in Professional Organization (20 points) | AI26: ='KRA IV'!N13 -> 0 | AQ26: ASSOCIATE PROFESSOR I | AS26: 3
A27: Criterion B – Continuing Development (60 points) | P27: ='KRA IV'!I20 -> 0 | T27: Criterion B – Continuing Development (60 points) | AI27: ='KRA IV'!N20 -> 0 | AQ27: ASSOCIATE PROFESSOR II | AS27: 4
A28: Criterion C – Awards and Recognition (20 points) | P28: ='KRA IV'!I25 -> 0 | T28: Criterion C – Awards and Recognition (20 points) | AI28: ='KRA IV'!N25 -> 0 | AQ28: ASSOCIATE PROFESSOR III | AS28: 5
A29: Criterion D – Bonus Criterion (20 points) | P29: ='KRA IV'!I31 -> 0 | T29: Criterion D – Bonus Criterion (20 points) | AI29: ='KRA IV'!N31 -> 0 | AQ29: ASSOCIATE PROFESSOR IV | AS29: 6
A30: TOTAL | P30: =IF(SUM(P26:P29)>=100,100,SUM(P26:P29)) -> 0 | T30: TOTAL | AI30: =IF(SUM(AI26:AI29)>=100,100,SUM(AI26:AI29)) -> 0 | AQ30: ASSOCIATE PROFESSOR V
AQ31: PROFESSOR I
A32: Faculty Rank | D32: KRA 1 | G32: KRA 2 | J32: KRA 3 | M32: KRA 4 | P32: Total Points | T32: Faculty Rank | W32: KRA 1 | Z32: KRA 2 | AC32: KRA 3 | AF32: KRA 4 | AI32: Total Points | AQ32: PROFESSOR II
D33: Score | E33: Weight | F33: PTS | G33: Score | H33: Weight | I33: PTS | J33: Score | K33: Weight | L33: PTS | M33: Score | N33: Weight | O33: PTS | W33: Score | X33: Weight | Y33: PTS | Z33: Score | AA33: Weight | AB33: PTS | AC33: Score | AD33: Weight | AE33: PTS | AF33: Score | AG33: Weight | AH33: PTS | AQ33: PROFESSOR III
A34: Instructor (I-III) | D34: =P13 -> 0 | E34: 0.6 | F34: =D34*E34 -> 0 | G34: =P18 -> 0 | H34: 0.1 | I34: =G34*H34 -> 0 | J34: =P24 -> 0 | K34: 0.2 | L34: =J34*K34 -> 0 | M34: =P30 -> 0 | N34: 0.1 | O34: =M34*N34 -> 0 | P34: =ROUND(SUM(F34+I34+L34+O34),0) -> 0 | T34: Instructor (I-III) | W34: =AI13 -> 0 | X34: 0.6 | Y34: =W34*X34 -> 0 | Z34: =AI18 -> 0 | AA34: 0.1 | AB34: =Z34*AA34 -> 0 | AC34: =AI24 -> 0 | AD34: 0.2 | AE34: =AC34*AD34 -> 0 | AF34: =AI30 -> 0 | AG34: 0.1 | AH34: =AF34*AG34 -> 0 | AI34: =ROUND(SUM(Y34+AB34+AE34+AH34),0) -> 0 | AQ34: PROFESSOR IV
A35: Asst. Professor (I-IV) | D35: =P13 -> 0 | E35: 0.5 | F35: =D35*E35 -> 0 | G35: =P18 -> 0 | H35: 0.2 | I35: =G35*H35 -> 0 | J35: =P24 -> 0 | K35: 0.2 | L35: =J35*K35 -> 0 | M35: =P30 -> 0 | N35: 0.1 | O35: =M35*N35 -> 0 | P35: =ROUND(SUM(F35+I35+L35+O35),0) -> 0 | T35: Asst. Prof. (I-IV) | W35: =AI13 -> 0 | X35: 0.5 | Y35: =W35*X35 -> 0 | Z35: =AI18 -> 0 | AA35: 0.2 | AB35: =Z35*AA35 -> 0 | AC35: =AI24 -> 0 | AD35: 0.2 | AE35: =AC35*AD35 -> 0 | AF35: =AI30 -> 0 | AG35: 0.1 | AH35: =AF35*AG35 -> 0 | AI35: =ROUND(SUM(Y35+AB35+AE35+AH35),0) -> 0 | AQ35: PROFESSOR V
A36: Assoc. Professor (I-V) | D36: =P13 -> 0 | E36: 0.4 | F36: =D36*E36 -> 0 | G36: =P18 -> 0 | H36: 0.3 | I36: =G36*H36 -> 0 | J36: =P24 -> 0 | K36: 0.2 | L36: =J36*K36 -> 0 | M36: =P30 -> 0 | N36: 0.1 | O36: =M36*N36 -> 0 | P36: =ROUND(SUM(F36+I36+L36+O36),0) -> 0 | T36: Assoc. Prof. (I-V) | W36: =AI13 -> 0 | X36: 0.4 | Y36: =W36*X36 -> 0 | Z36: =AI18 -> 0 | AA36: 0.3 | AB36: =Z36*AA36 -> 0 | AC36: =AI24 -> 0 | AD36: 0.2 | AE36: =AC36*AD36 -> 0 | AF36: =AI30 -> 0 | AG36: 0.1 | AH36: =AF36*AG36 -> 0 | AI36: =ROUND(SUM(Y36+AB36+AE36+AH36),0) -> 0 | AQ36: PROFESSOR VI
A37: Professor (I-VI) | D37: =P13 -> 0 | E37: 0.3 | F37: =D37*E37 -> 0 | G37: =P18 -> 0 | H37: 0.4 | I37: =G37*H37 -> 0 | J37: =P24 -> 0 | K37: 0.2 | L37: =J37*K37 -> 0 | M37: =P30 -> 0 | N37: 0.1 | O37: =M37*N37 -> 0 | P37: =ROUND(SUM(F37+I37+L37+O37),0) -> 0 | T37: Professor (I-VI) | W37: =AI13 -> 0 | X37: 0.3 | Y37: =W37*X37 -> 0 | Z37: =AI18 -> 0 | AA37: 0.4 | AB37: =Z37*AA37 -> 0 | AC37: =AI24 -> 0 | AD37: 0.2 | AE37: =AC37*AD37 -> 0 | AF37: =AI30 -> 0 | AG37: 0.1 | AH37: =AF37*AG37 -> 0 | AI37: =ROUND(SUM(Y37+AB37+AE37+AH37),0) -> 0 | AQ37: COLLEGE/UNIV PROFESSOR
A38: College/Univ. Prof. | D38: =P13 -> 0 | E38: 0.2 | F38: =D38*E38 -> 0 | G38: =P18 -> 0 | H38: 0.5 | I38: =G38*H38 -> 0 | J38: =P24 -> 0 | K38: 0.2 | L38: =J38*K38 -> 0 | M38: =P30 -> 0 | N38: 0.1 | O38: =M38*N38 -> 0 | P38: =ROUND(SUM(F38+I38+L38+O38),0) -> 0 | T38: Col./Univ. Prof. | W38: =AI13 -> 0 | X38: 0.2 | Y38: =W38*X38 -> 0 | Z38: =AI18 -> 0 | AA38: 0.5 | AB38: =Z38*AA38 -> 0 | AC38: =AI24 -> 0 | AD38: 0.2 | AE38: =AC38*AD38 -> 0 | AF38: =AI30 -> 0 | AG38: 0.1 | AH38: =AF38*AG38 -> 0 | AI38: =ROUND(SUM(Y38+AB38+AE38+AH38),0) -> 0
A40: Score Bracket | C40: No. of Sub-rank Increment | G40: Current Faculty Rank | N40: ='Request Form'!D16 -> SELECT OPTION | T40: Score Bracket | V40: No. of Sub-rank Increment | Z40: Current Faculty Rank | AG40: ='Request Form'!D16 -> SELECT OPTION | AQ40: SELECT OPTION
A41: 41-50 | D41: 1 | E41: sub-rank | G41: Qualified for Auto. 1-Sub Rank (for PhD)? | N41: ='Form 4-A&B'!G29 -> NO | T41: 41-50 | W41: 1 | X41: sub-rank | Z41: Qualified for Auto. 1-Sub Rank (for PhD)? | AG41: ='Form 4-A&B'!G29 -> NO | AQ41: YES
A42: 51-60 | D42: 2 | E42: sub-rank | G42: Base Rank | N42: =IF(N41="YES",IF(N40="INSTRUCTOR I","INSTRUCTOR II",IF(N40="INSTRUCTOR II","INSTRUCTOR III",IF(N40="INSTRUCTOR III","ASSISTANT PROFESSOR I",IF(N40="ASSISTANT PROFESSOR I","ASSISTANT PROFESSOR II",IF(N40="ASSISTANT PROFESSOR II","ASSISTANT PROFESSOR III",IF(N40="ASSISTANT PROFESSOR III","ASSISTANT PROFESSOR IV",IF(N40="ASSISTANT PROFESSOR IV","ASSOCIATE PROFESSOR I",IF(N40="ASSOCIATE PROFESSOR I","ASSOCIATE PROFESSOR II",IF(N40="ASSOCIATE PROFESSOR II","ASSOCIATE PROFESSOR III",IF(N40="ASSOCIATE PROFESSOR III","ASSOCIATE PROFESSOR IV",IF(N40="ASSOCIATE PROFESSOR IV","ASSOCIATE PROFESSOR V",IF(N40="ASSOCIATE PROFESSOR V","PROFESSOR I",IF(N40="PROFESSOR I","PROFESSOR II",IF(N40="PROFESSOR II","PROFESSOR III",IF(N40="PROFESSOR III","PROFESSOR IV",IF(N40="PROFESSOR IV","PROFESSOR V",IF(N40="PROFESSOR V","PROFESSOR VI",IF(N40="PROFESSOR VI","COLLEGE/UNIVERSITY PROFESSOR")))))))))))))))))),N40) -> SELECT OPTION | T42: 51-60 | W42: 2 | X42: sub-rank | Z42: Base Rank | AG42: =IF(AG41="YES",IF(AG40="INSTRUCTOR I","INSTRUCTOR II",IF(AG40="INSTRUCTOR II","INSTRUCTOR III",IF(AG40="INSTRUCTOR III","ASSISTANT PROFESSOR I",IF(AG40="ASSISTANT PROFESSOR I","ASSISTANT PROFESSOR II",IF(AG40="ASSISTANT PROFESSOR II","ASSISTANT PROFESSOR III",IF(AG40="ASSISTANT PROFESSOR III","ASSISTANT PROFESSOR IV",IF(AG40="ASSISTANT PROFESSOR IV","ASSOCIATE PROFESSOR I",IF(AG40="ASSOCIATE PROFESSOR I","ASSOCIATE PROFESSOR II",IF(AG40="ASSOCIATE PROFESSOR II","ASSOCIATE PROFESSOR III",IF(AG40="ASSOCIATE PROFESSOR III","ASSOCIATE PROFESSOR IV",IF(AG40="ASSOCIATE PROFESSOR IV","ASSOCIATE PROFESSOR V",IF(AG40="ASSOCIATE PROFESSOR V","PROFESSOR I",IF(AG40="PROFESSOR I","PROFESSOR II",IF(AG40="PROFESSOR II","PROFESSOR III",IF(AG40="PROFESSOR III","PROFESSOR IV",IF(AG40="PROFESSOR IV","PROFESSOR V",IF(AG40="PROFESSOR V","PROFESSOR VI",IF(AG40="PROFESSOR VI","COLLEGE/UNIVERSITY PROFESSOR")))))))))))))))))),AG40) -> SELECT OPTION | AQ42: NO | AT42: =IF(N42="INSTRUCTOR I","INSTRUCTOR",IF(N42="INSTRUCTOR II","INSTRUCTOR",IF(N42="INSTRUCTOR III","INSTRUCTOR",IF(N42="ASSISTANT PROFESSOR I","ASSISTANT PROFESSOR",IF(N42="ASSISTANT PROFESSOR II","ASSISTANT PROFESSOR",IF(N42="ASSISTANT PROFESSOR III","ASSISTANT PROFESSOR",IF(N42="ASSISTANT PROFESSOR IV","ASSISTANT PROFESSOR",IF(N42="ASSOCIATE PROFESSOR I","ASSOCIATE PROFESSOR",IF(N42="ASSOCIATE PROFESSOR II","ASSOCIATE PROFESSOR",IF(N42="ASSOCIATE PROFESSOR III","ASSOCIATE PROFESSOR",IF(N42="ASSOCIATE PROFESSOR IV","ASSOCIATE PROFESSOR",IF(N42="ASSOCIATE PROFESSOR V","ASSOCIATE PROFESSOR",IF(N42="PROFESSOR I","PROFESSOR",IF(N42="PROFESSOR II","PROFESSOR",IF(N42="PROFESSOR III","PROFESSOR",IF(N42="PROFESSOR IV","PROFESSOR",IF(N42="PROFESSOR V","PROFESSOR",IF(N42="PROFESSOR VI","PROFESSOR","COLLEGE/UNIVERSITY PROFESSOR")))))))))))))))))) -> COLLEGE/UNIVERSITY PROFESSOR | AX42: =IF(AG42="INSTRUCTOR I","INSTRUCTOR",IF(AG42="INSTRUCTOR II","INSTRUCTOR",IF(AG42="INSTRUCTOR III","INSTRUCTOR",IF(AG42="ASSISTANT PROFESSOR I","ASSISTANT PROFESSOR",IF(AG42="ASSISTANT PROFESSOR II","ASSISTANT PROFESSOR",IF(AG42="ASSISTANT PROFESSOR III","ASSISTANT PROFESSOR",IF(AG42="ASSISTANT PROFESSOR IV","ASSISTANT PROFESSOR",IF(AG42="ASSOCIATE PROFESSOR I","ASSOCIATE PROFESSOR",IF(AG42="ASSOCIATE PROFESSOR II","ASSOCIATE PROFESSOR",IF(AG42="ASSOCIATE PROFESSOR III","ASSOCIATE PROFESSOR",IF(AG42="ASSOCIATE PROFESSOR IV","ASSOCIATE PROFESSOR",IF(AG42="ASSOCIATE PROFESSOR V","ASSOCIATE PROFESSOR",IF(AG42="PROFESSOR I","PROFESSOR",IF(AG42="PROFESSOR II","PROFESSOR",IF(AG42="PROFESSOR III","PROFESSOR",IF(AG42="PROFESSOR IV","PROFESSOR",IF(AG42="PROFESSOR V","PROFESSOR",IF(AG42="PROFESSOR VI","PROFESSOR","COLLEGE/UNIVERSITY PROFESSOR")))))))))))))))))) -> COLLEGE/UNIVERSITY PROFESSOR
A43: 61-70 | D43: 3 | E43: sub-rank | G43: No. of Sub-Rank Increment based on Base Rank | N43: =IF(AT43<=40,0,IF(AT43<=50,D41,IF(AT43<=60,D42,IF(AT43<=70,D43,IF(AT43<=80,D44,IF(AT43<=90,D45,IF(AT43<=100,D46))))))) -> 0 | T43: 61-70 | W43: 3 | X43: sub-rank | Z43: No. of Increment based on Base Rank | AG43: =IF(AX43<=40,0,IF(AX43<=50,W41,IF(AX43<=60,W42,IF(AX43<=70,W43,IF(AX43<=80,W44,IF(AX43<=90,W45,IF(AX43<=100,W46))))))) -> 0 | AT43: =IF(AT42="INSTRUCTOR",P34,IF(AT42="ASSISTANT PROFESSOR",P35,IF(AT42="ASSOCIATE PROFESSOR",P36,IF(AT42="PROFESSOR",P37,P38)))) -> 0 | AX43: =IF(AX42="INSTRUCTOR",AI34,IF(AX42="ASSISTANT PROFESSOR",AI35,IF(AX42="ASSOCIATE PROFESSOR",AI36,IF(AX42="PROFESSOR",AI37,AI38)))) -> 0
A44: 71-80 | D44: 4 | E44: sub-rank | G44: Initial Reclassified Rank (first computation) | N44: SELECT OPTION | T44: 71-80 | W44: 4 | X44: sub-rank | Z44: Initial Reclassified Rank (first computation) | AG44: SELECT OPTION | AT44: =IF(N44="INSTRUCTOR I","INSTRUCTOR",IF(N44="INSTRUCTOR II","INSTRUCTOR",IF(N44="INSTRUCTOR III","INSTRUCTOR",IF(N44="ASSISTANT PROFESSOR I","ASSISTANT PROFESSOR",IF(N44="ASSISTANT PROFESSOR II","ASSISTANT PROFESSOR",IF(N44="ASSISTANT PROFESSOR III","ASSISTANT PROFESSOR",IF(N44="ASSISTANT PROFESSOR IV","ASSISTANT PROFESSOR",IF(N44="ASSOCIATE PROFESSOR I","ASSOCIATE PROFESSOR",IF(N44="ASSOCIATE PROFESSOR II","ASSOCIATE PROFESSOR",IF(N44="ASSOCIATE PROFESSOR III","ASSOCIATE PROFESSOR",IF(N44="ASSOCIATE PROFESSOR IV","ASSOCIATE PROFESSOR",IF(N44="ASSOCIATE PROFESSOR V","ASSOCIATE PROFESSOR",IF(N44="PROFESSOR I","PROFESSOR",IF(N44="PROFESSOR II","PROFESSOR",IF(N44="PROFESSOR III","PROFESSOR",IF(N44="PROFESSOR IV","PROFESSOR",IF(N44="PROFESSOR V","PROFESSOR",IF(N44="PROFESSOR VI","PROFESSOR","COLLEGE/UNIVERSITY PROFESSOR")))))))))))))))))) -> COLLEGE/UNIVERSITY PROFESSOR | AX44: =IF(R44="INSTRUCTOR I","INSTRUCTOR",IF(R44="INSTRUCTOR II","INSTRUCTOR",IF(R44="INSTRUCTOR III","INSTRUCTOR",IF(R44="ASSISTANT PROFESSOR I","ASSISTANT PROFESSOR",IF(R44="ASSISTANT PROFESSOR II","ASSISTANT PROFESSOR",IF(R44="ASSISTANT PROFESSOR III","ASSISTANT PROFESSOR",IF(R44="ASSISTANT PROFESSOR IV","ASSISTANT PROFESSOR",IF(R44="ASSOCIATE PROFESSOR I","ASSOCIATE PROFESSOR",IF(R44="ASSOCIATE PROFESSOR II","ASSOCIATE PROFESSOR",IF(R44="ASSOCIATE PROFESSOR III","ASSOCIATE PROFESSOR",IF(R44="ASSOCIATE PROFESSOR IV","ASSOCIATE PROFESSOR",IF(R44="ASSOCIATE PROFESSOR V","ASSOCIATE PROFESSOR",IF(R44="PROFESSOR I","PROFESSOR",IF(R44="PROFESSOR II","PROFESSOR",IF(R44="PROFESSOR III","PROFESSOR",IF(R44="PROFESSOR IV","PROFESSOR",IF(R44="PROFESSOR V","PROFESSOR",IF(R44="PROFESSOR VI","PROFESSOR","COLLEGE/UNIVERSITY PROFESSOR")))))))))))))))))) -> COLLEGE/UNIVERSITY PROFESSOR
A45: 81-90 | D45: 5 | E45: sub-rank | G45: No. of Sub-Rank Increment based on Reclassified Rank | N45: SELECT OPTION | T45: 81-90 | W45: 5 | X45: sub-rank | Z45: No. of Increment based on Reclassified Rank | AG45: SELECT OPTION | AT45: =IF(AT44="INSTRUCTOR",P34,IF(AT44="ASSISTANT PROFESSOR",P35,IF(AT44="ASSOCIATE PROFESSOR",P36,IF(AT44="PROFESSOR",P37,P38)))) -> 0 | AX45: =IF(AX44="INSTRUCTOR",T34,IF(AX44="ASSISTANT PROFESSOR",T35,IF(AX44="ASSOCIATE PROFESSOR",T36,IF(AX44="PROFESSOR",T37,T38)))) -> Col./Univ. Prof.
A46: 91-100 | D46: 6 | E46: sub-rank | G46: Reclassified Rank (recomputation) | N46: SELECT OPTION | T46: 91-100 | W46: 6 | X46: sub-rank | Z46: Reclassified Rank (recomputation) | AG46: SELECT OPTION
G47: Qualified for Auto. 1-Sub Rank (for Awards)? | N47: SELECT OPTION | Z47: Qualified for Auto. 1-Sub Rank (for Awards) | AG47: SELECT OPTION
G48: Final Recommended Faculty Rank | N48: =IF(N47="YES",IF(N46="INSTRUCTOR I","INSTRUCTOR II",IF(N46="INSTRUCTOR II","INSTRUCTOR III",IF(N46="INSTRUCTOR III","ASSISTANT PROFESSOR I",IF(N46="ASSISTANT PROFESSOR I","ASSISTANT PROFESSOR II",IF(N46="ASSISTANT PROFESSOR II","ASSISTANT PROFESSOR III",IF(N46="ASSISTANT PROFESSOR III","ASSISTANT PROFESSOR IV",IF(N46="ASSISTANT PROFESSOR IV","ASSOCIATE PROFESSOR I",IF(N46="ASSOCIATE PROFESSOR I","ASSOCIATE PROFESSOR II",IF(N46="ASSOCIATE PROFESSOR II","ASSOCIATE PROFESSOR III",IF(N46="ASSOCIATE PROFESSOR III","ASSOCIATE PROFESSOR IV",IF(N46="ASSOCIATE PROFESSOR IV","ASSOCIATE PROFESSOR V",IF(N46="ASSOCIATE PROFESSOR V","PROFESSOR I",IF(N46="PROFESSOR I","PROFESSOR II",IF(N46="PROFESSOR II","PROFESSOR III",IF(N46="PROFESSOR III","PROFESSOR IV",IF(N46="PROFESSOR IV","PROFESSOR V",IF(N46="PROFESSOR V","PROFESSOR VI",IF(N46="PROFESSOR VI","COLLEGE/UNIVERSITY PROFESSOR")))))))))))))))))),N46) -> SELECT OPTION | Z48: Final Faculty Rank | AG48: =IF(AG47="YES",IF(AG46="INSTRUCTOR I","INSTRUCTOR II",IF(AG46="INSTRUCTOR II","INSTRUCTOR III",IF(AG46="INSTRUCTOR III","ASSISTANT PROFESSOR I",IF(AG46="ASSISTANT PROFESSOR I","ASSISTANT PROFESSOR II",IF(AG46="ASSISTANT PROFESSOR II","ASSISTANT PROFESSOR III",IF(AG46="ASSISTANT PROFESSOR III","ASSISTANT PROFESSOR IV",IF(AG46="ASSISTANT PROFESSOR IV","ASSOCIATE PROFESSOR I",IF(AG46="ASSOCIATE PROFESSOR I","ASSOCIATE PROFESSOR II",IF(AG46="ASSOCIATE PROFESSOR II","ASSOCIATE PROFESSOR III",IF(AG46="ASSOCIATE PROFESSOR III","ASSOCIATE PROFESSOR IV",IF(AG46="ASSOCIATE PROFESSOR IV","ASSOCIATE PROFESSOR V",IF(AG46="ASSOCIATE PROFESSOR V","PROFESSOR I",IF(AG46="PROFESSOR I","PROFESSOR II",IF(AG46="PROFESSOR II","PROFESSOR III",IF(AG46="PROFESSOR III","PROFESSOR IV",IF(AG46="PROFESSOR IV","PROFESSOR V",IF(AG46="PROFESSOR V","PROFESSOR VI",IF(AG46="PROFESSOR VI","COLLEGE/UNIVERSITY PROFESSOR")))))))))))))))))),AG46) -> SELECT OPTION
A51: EVALUATED BY: | N51: Conforme: | T51: VALIDATED BY: | AG51: Conforme:
A54: Name and Signature of IEC Member | G54: Name and Signature of IEC Member | N54: Name and Signature of Faculty | T54: Name & Signature of REC/EAC/CC Member | AA54: Name & Signature of REC/EAC/CC Member | AG54: Name and Signature of Faculty
A55: Date: | G55: Date: | N55: Date | T55: Date: | AA55: Date: | AG55: Date
N57: Acknowledgment: | AG57: Acknowledgment:
A58: Name and Signature of IEC Member | G58: Name and Signature of IEC Member | T58: Name & Signature of REC/EAC/CC Member | AA58: Name & Signature of REC/EAC/CC Member
A59: Date: | G59: Date: | T59: Date: | AA59: Date:
N60: Name and Signature of Faculty | AG60: Name and Signature of Faculty
N61: Date | AG61: Date
A62: Name and Signature of IEC Chair | U62: Name & Signature of REC/EAC/CC Chair
A63: Date: | U63: Date:
